BEGIN:VCALENDAR
VERSION:2.0
PRODID:-//Race Time - ECPv6.15.13//NONSGML v1.0//EN
CALSCALE:GREGORIAN
METHOD:PUBLISH
X-ORIGINAL-URL:https://www.racetime.info
X-WR-CALDESC:Events for Race Time
REFRESH-INTERVAL;VALUE=DURATION:PT1H
X-Robots-Tag:noindex
X-PUBLISHED-TTL:PT1H
BEGIN:VTIMEZONE
TZID:America/Chicago
BEGIN:DAYLIGHT
TZOFFSETFROM:-0600
TZOFFSETTO:-0500
TZNAME:CDT
DTSTART:20140309T080000
END:DAYLIGHT
BEGIN:STANDARD
TZOFFSETFROM:-0500
TZOFFSETTO:-0600
TZNAME:CST
DTSTART:20141102T070000
END:STANDARD
BEGIN:DAYLIGHT
TZOFFSETFROM:-0600
TZOFFSETTO:-0500
TZNAME:CDT
DTSTART:20150308T080000
END:DAYLIGHT
BEGIN:STANDARD
TZOFFSETFROM:-0500
TZOFFSETTO:-0600
TZNAME:CST
DTSTART:20151101T070000
END:STANDARD
BEGIN:DAYLIGHT
TZOFFSETFROM:-0600
TZOFFSETTO:-0500
TZNAME:CDT
DTSTART:20160313T080000
END:DAYLIGHT
BEGIN:STANDARD
TZOFFSETFROM:-0500
TZOFFSETTO:-0600
TZNAME:CST
DTSTART:20161106T070000
END:STANDARD
BEGIN:DAYLIGHT
TZOFFSETFROM:-0600
TZOFFSETTO:-0500
TZNAME:CDT
DTSTART:20170312T080000
END:DAYLIGHT
BEGIN:STANDARD
TZOFFSETFROM:-0500
TZOFFSETTO:-0600
TZNAME:CST
DTSTART:20171105T070000
END:STANDARD
BEGIN:DAYLIGHT
TZOFFSETFROM:-0600
TZOFFSETTO:-0500
TZNAME:CDT
DTSTART:20180311T080000
END:DAYLIGHT
BEGIN:STANDARD
TZOFFSETFROM:-0500
TZOFFSETTO:-0600
TZNAME:CST
DTSTART:20181104T070000
END:STANDARD
END:VTIMEZONE
BEGIN:VEVENT
DTSTART;TZID=America/Chicago:20171001T080000
DTEND;TZID=America/Chicago:20171001T100000
DTSTAMP:20260424T012512
CREATED:20170830T184838Z
LAST-MODIFIED:20171001T180657Z
UID:10001625-1506844800-1506852000@www.racetime.info
SUMMARY:D211 Fun(d) 5K Run/Walk
DESCRIPTION:D211 Fun d 5K Age Group Results\n\nD211 Fun d 5K Overall Results\n\nD211 Fun d 5K Team Results
URL:https://www.racetime.info/event/d211-fund-5k-runwalk-2/
LOCATION:Palatine High School\, 1111 Rohlwing Road\, Palatine\, IL\, 60074\, United States
CATEGORIES:2017-10 Results (October)
ORGANIZER;CN="Lisa Czepiel":MAILTO:lczepiel.ad@comcast.net
GEO:42.1334251;-88.0240434
X-APPLE-STRUCTURED-LOCATION;VALUE=URI;X-ADDRESS=Palatine High School 1111 Rohlwing Road Palatine IL 60074 United States;X-APPLE-RADIUS=500;X-TITLE=1111 Rohlwing Road:geo:-88.0240434,42.1334251
END:VEVENT
BEGIN:VEVENT
DTSTART;TZID=America/Chicago:20161016T080000
DTEND;TZID=America/Chicago:20161016T100000
DTSTAMP:20260424T012512
CREATED:20160903T025036Z
LAST-MODIFIED:20161016T155229Z
UID:10000809-1476604800-1476612000@www.racetime.info
SUMMARY:D211 Fun"d" 5K Run/Walk
DESCRIPTION:D211 FunD 5K Age Groups Results\n\nD211 FunD 5K Overall Results\n\nD211 FunD 5K Team Results
URL:https://www.racetime.info/event/d211-fund-5k-runwalk/
LOCATION:Palatine High School\, 1111 Rohlwing Road\, Palatine\, IL\, 60074\, United States
CATEGORIES:2016-10 Results (October)
ORGANIZER;CN="Lisa Czepiel":MAILTO:lczepiel.ad@comcast.net
GEO:42.1334251;-88.0240434
X-APPLE-STRUCTURED-LOCATION;VALUE=URI;X-ADDRESS=Palatine High School 1111 Rohlwing Road Palatine IL 60074 United States;X-APPLE-RADIUS=500;X-TITLE=1111 Rohlwing Road:geo:-88.0240434,42.1334251
END:VEVENT
BEGIN:VEVENT
DTSTART;TZID=America/Chicago:20150913T080000
DTEND;TZID=America/Chicago:20150913T110000
DTSTAMP:20260424T012512
CREATED:20150829T025406Z
LAST-MODIFIED:20150913T231441Z
UID:10000116-1442131200-1442142000@www.racetime.info
SUMMARY:D211 Fun(d) Run 5K Run/Walk
DESCRIPTION:D211 Fund Run 5K Age Group Results\n\nD211 Fund Run 5K Overall Results\n\nD211 Fund Team Results
URL:https://www.racetime.info/event/d211-fund-run-5k-runwalk/
LOCATION:Palatine High School\, 1111 Rohlwing Road\, Palatine\, IL\, 60074\, United States
CATEGORIES:2015-09 Results (September)
ORGANIZER;CN="Lisa Czepiel":MAILTO:lczepiel.ad@comcast.net
GEO:42.1334251;-88.0240434
X-APPLE-STRUCTURED-LOCATION;VALUE=URI;X-ADDRESS=Palatine High School 1111 Rohlwing Road Palatine IL 60074 United States;X-APPLE-RADIUS=500;X-TITLE=1111 Rohlwing Road:geo:-88.0240434,42.1334251
END:VEVENT
END:VCALENDAR