BEGIN:VCALENDAR
VERSION:2.0
PRODID:-//Race Time - ECPv6.15.13//NONSGML v1.0//EN
CALSCALE:GREGORIAN
METHOD:PUBLISH
X-ORIGINAL-URL:https://www.racetime.info
X-WR-CALDESC:Events for Race Time
REFRESH-INTERVAL;VALUE=DURATION:PT1H
X-Robots-Tag:noindex
X-PUBLISHED-TTL:PT1H
BEGIN:VTIMEZONE
TZID:America/Chicago
BEGIN:DAYLIGHT
TZOFFSETFROM:-0600
TZOFFSETTO:-0500
TZNAME:CDT
DTSTART:20140309T080000
END:DAYLIGHT
BEGIN:STANDARD
TZOFFSETFROM:-0500
TZOFFSETTO:-0600
TZNAME:CST
DTSTART:20141102T070000
END:STANDARD
BEGIN:DAYLIGHT
TZOFFSETFROM:-0600
TZOFFSETTO:-0500
TZNAME:CDT
DTSTART:20150308T080000
END:DAYLIGHT
BEGIN:STANDARD
TZOFFSETFROM:-0500
TZOFFSETTO:-0600
TZNAME:CST
DTSTART:20151101T070000
END:STANDARD
BEGIN:DAYLIGHT
TZOFFSETFROM:-0600
TZOFFSETTO:-0500
TZNAME:CDT
DTSTART:20160313T080000
END:DAYLIGHT
BEGIN:STANDARD
TZOFFSETFROM:-0500
TZOFFSETTO:-0600
TZNAME:CST
DTSTART:20161106T070000
END:STANDARD
END:VTIMEZONE
BEGIN:VEVENT
DTSTART;TZID=America/Chicago:20151031T083000
DTEND;TZID=America/Chicago:20151031T110000
DTSTAMP:20260424T024001
CREATED:20150903T010343Z
LAST-MODIFIED:20151031T181407Z
UID:10000131-1446280200-1446289200@www.racetime.info
SUMMARY:St. George's Spooky Sprint 5K Run/Walk
DESCRIPTION:Spooky Sprint 5K Age Group Results\n\nSpooky Sprint 5K Overall Results
URL:https://www.racetime.info/event/st-georges-spooky-sprint-5k-runwalk/
LOCATION:St. George School\, 6700 W. 176th Street\, Tinley Park\, IL\, 60477\, United States
CATEGORIES:2015-10 Results (October)
ORGANIZER;CN="Lisa McCarty":MAILTO:lmccarty@stgeorgeschool.org
GEO:41.5722754;-87.7821722
X-APPLE-STRUCTURED-LOCATION;VALUE=URI;X-ADDRESS=St. George School 6700 W. 176th Street Tinley Park IL 60477 United States;X-APPLE-RADIUS=500;X-TITLE=6700 W. 176th Street:geo:-87.7821722,41.5722754
END:VEVENT
END:VCALENDAR