BEGIN:VCALENDAR
VERSION:2.0
PRODID:-//Race Time - ECPv6.15.13//NONSGML v1.0//EN
CALSCALE:GREGORIAN
METHOD:PUBLISH
X-WR-CALNAME:Race Time
X-ORIGINAL-URL:https://www.racetime.info
X-WR-CALDESC:Events for Race Time
REFRESH-INTERVAL;VALUE=DURATION:PT1H
X-Robots-Tag:noindex
X-PUBLISHED-TTL:PT1H
BEGIN:VTIMEZONE
TZID:America/Chicago
BEGIN:DAYLIGHT
TZOFFSETFROM:-0600
TZOFFSETTO:-0500
TZNAME:CDT
DTSTART:20180311T080000
END:DAYLIGHT
BEGIN:STANDARD
TZOFFSETFROM:-0500
TZOFFSETTO:-0600
TZNAME:CST
DTSTART:20181104T070000
END:STANDARD
BEGIN:DAYLIGHT
TZOFFSETFROM:-0600
TZOFFSETTO:-0500
TZNAME:CDT
DTSTART:20190310T080000
END:DAYLIGHT
BEGIN:STANDARD
TZOFFSETFROM:-0500
TZOFFSETTO:-0600
TZNAME:CST
DTSTART:20191103T070000
END:STANDARD
BEGIN:DAYLIGHT
TZOFFSETFROM:-0600
TZOFFSETTO:-0500
TZNAME:CDT
DTSTART:20200308T080000
END:DAYLIGHT
BEGIN:STANDARD
TZOFFSETFROM:-0500
TZOFFSETTO:-0600
TZNAME:CST
DTSTART:20201101T070000
END:STANDARD
BEGIN:DAYLIGHT
TZOFFSETFROM:-0600
TZOFFSETTO:-0500
TZNAME:CDT
DTSTART:20210314T080000
END:DAYLIGHT
BEGIN:STANDARD
TZOFFSETFROM:-0500
TZOFFSETTO:-0600
TZNAME:CST
DTSTART:20211107T070000
END:STANDARD
BEGIN:DAYLIGHT
TZOFFSETFROM:-0600
TZOFFSETTO:-0500
TZNAME:CDT
DTSTART:20220313T080000
END:DAYLIGHT
BEGIN:STANDARD
TZOFFSETFROM:-0500
TZOFFSETTO:-0600
TZNAME:CST
DTSTART:20221106T070000
END:STANDARD
END:VTIMEZONE
BEGIN:VEVENT
DTSTART;TZID=America/Chicago:20210918T090000
DTEND;TZID=America/Chicago:20210918T110000
DTSTAMP:20260423T235340
CREATED:20190502T130759Z
LAST-MODIFIED:20210918T185332Z
UID:10001049-1631955600-1631962800@www.racetime.info
SUMMARY:Strut Your Mutt 5K Run & 2K Family Walk
DESCRIPTION:Strut Your Mutt 2K Overall Results\n\nStrut Your Mutt 5K Age Group Results\n\nStrut Your Mutt 5K Overall Results
URL:https://www.racetime.info/event/strut-your-mutt-5k-run-2k-family-walk/
LOCATION:Veterans Acres Park\, 431 Walkup Road\, Crystal Lake\, IL\, 60014\, United States
CATEGORIES:2021-09 Results (September)
ORGANIZER;CN="Lisa Wernli":MAILTO:info@canines4comfort.org
GEO:42.25217;-88.3183449
X-APPLE-STRUCTURED-LOCATION;VALUE=URI;X-ADDRESS=Veterans Acres Park 431 Walkup Road Crystal Lake IL 60014 United States;X-APPLE-RADIUS=500;X-TITLE=431 Walkup Road:geo:-88.3183449,42.25217
END:VEVENT
BEGIN:VEVENT
DTSTART;TZID=America/Chicago:20200919T090000
DTEND;TZID=America/Chicago:20200919T110000
DTSTAMP:20260423T235340
CREATED:20190502T130759Z
LAST-MODIFIED:20200919T182618Z
UID:10001051-1600506000-1600513200@www.racetime.info
SUMMARY:Strut Your Mutt 5K Run & 2K Family Walk
DESCRIPTION:Strut Your Mutt 5K Age Group Results\n\nStrut Your Mutt 5K Overall Results
URL:https://www.racetime.info/event/strutt-your-mutt-5k-run-2k-family-walk-2/
LOCATION:Veterans Acres Park\, 431 Walkup Road\, Crystal Lake\, IL\, 60014\, United States
CATEGORIES:2020-09 Results (September)
ORGANIZER;CN="Lisa Wernli":MAILTO:info@canines4comfort.org
GEO:42.25217;-88.3183449
X-APPLE-STRUCTURED-LOCATION;VALUE=URI;X-ADDRESS=Veterans Acres Park 431 Walkup Road Crystal Lake IL 60014 United States;X-APPLE-RADIUS=500;X-TITLE=431 Walkup Road:geo:-88.3183449,42.25217
END:VEVENT
BEGIN:VEVENT
DTSTART;TZID=America/Chicago:20190914T090000
DTEND;TZID=America/Chicago:20190914T110000
DTSTAMP:20260423T235340
CREATED:20190502T130759Z
LAST-MODIFIED:20190914T190701Z
UID:10001061-1568451600-1568458800@www.racetime.info
SUMMARY:Strutt Your Mutt 5K Run & 2K Family Walk
DESCRIPTION:Strut Your Mutt 5K Age Group Results\n\nStrut Your Mutt 5K Overall Results
URL:https://www.racetime.info/event/strutt-your-mutt-5k-run-2k-family-walk/
LOCATION:Old School Forest Preserve\, St. Mary's Road\, Libertyville\, IL\, 60048\, United States
CATEGORIES:2019-09 Results (September)
ORGANIZER;CN="Lisa Wernli":MAILTO:info@canines4comfort.org
GEO:42.2902329;-87.9248759
X-APPLE-STRUCTURED-LOCATION;VALUE=URI;X-ADDRESS=Old School Forest Preserve St. Mary's Road Libertyville IL 60048 United States;X-APPLE-RADIUS=500;X-TITLE=St. Mary's Road:geo:-87.9248759,42.2902329
END:VEVENT
END:VCALENDAR