BEGIN:VCALENDAR
VERSION:2.0
PRODID:-//Race Time - ECPv6.15.13//NONSGML v1.0//EN
CALSCALE:GREGORIAN
METHOD:PUBLISH
X-ORIGINAL-URL:https://www.racetime.info
X-WR-CALDESC:Events for Race Time
REFRESH-INTERVAL;VALUE=DURATION:PT1H
X-Robots-Tag:noindex
X-PUBLISHED-TTL:PT1H
BEGIN:VTIMEZONE
TZID:America/Chicago
BEGIN:DAYLIGHT
TZOFFSETFROM:-0600
TZOFFSETTO:-0500
TZNAME:CDT
DTSTART:20180311T080000
END:DAYLIGHT
BEGIN:STANDARD
TZOFFSETFROM:-0500
TZOFFSETTO:-0600
TZNAME:CST
DTSTART:20181104T070000
END:STANDARD
BEGIN:DAYLIGHT
TZOFFSETFROM:-0600
TZOFFSETTO:-0500
TZNAME:CDT
DTSTART:20190310T080000
END:DAYLIGHT
BEGIN:STANDARD
TZOFFSETFROM:-0500
TZOFFSETTO:-0600
TZNAME:CST
DTSTART:20191103T070000
END:STANDARD
BEGIN:DAYLIGHT
TZOFFSETFROM:-0600
TZOFFSETTO:-0500
TZNAME:CDT
DTSTART:20200308T080000
END:DAYLIGHT
BEGIN:STANDARD
TZOFFSETFROM:-0500
TZOFFSETTO:-0600
TZNAME:CST
DTSTART:20201101T070000
END:STANDARD
BEGIN:DAYLIGHT
TZOFFSETFROM:-0600
TZOFFSETTO:-0500
TZNAME:CDT
DTSTART:20210314T080000
END:DAYLIGHT
BEGIN:STANDARD
TZOFFSETFROM:-0500
TZOFFSETTO:-0600
TZNAME:CST
DTSTART:20211107T070000
END:STANDARD
BEGIN:DAYLIGHT
TZOFFSETFROM:-0600
TZOFFSETTO:-0500
TZNAME:CDT
DTSTART:20220313T080000
END:DAYLIGHT
BEGIN:STANDARD
TZOFFSETFROM:-0500
TZOFFSETTO:-0600
TZNAME:CST
DTSTART:20221106T070000
END:STANDARD
BEGIN:DAYLIGHT
TZOFFSETFROM:-0600
TZOFFSETTO:-0500
TZNAME:CDT
DTSTART:20230312T080000
END:DAYLIGHT
BEGIN:STANDARD
TZOFFSETFROM:-0500
TZOFFSETTO:-0600
TZNAME:CST
DTSTART:20231105T070000
END:STANDARD
BEGIN:DAYLIGHT
TZOFFSETFROM:-0600
TZOFFSETTO:-0500
TZNAME:CDT
DTSTART:20240310T080000
END:DAYLIGHT
BEGIN:STANDARD
TZOFFSETFROM:-0500
TZOFFSETTO:-0600
TZNAME:CST
DTSTART:20241103T070000
END:STANDARD
END:VTIMEZONE
BEGIN:VEVENT
DTSTART;TZID=America/Chicago:20230513T103000
DTEND;TZID=America/Chicago:20230513T123000
DTSTAMP:20260423T235312
CREATED:20190115T123646Z
LAST-MODIFIED:20230513T193804Z
UID:10001846-1683973800-1683981000@www.racetime.info
SUMMARY:Kids Run This City! 1K\, 2K & 3K
DESCRIPTION:Kids Run This City 1K Overall Results\n\nKids Run This City 2K Overall Results\n\nKids Run This City 3K Overall Results
URL:https://www.racetime.info/event/copy-of-kids-run-this-city-1k-2k-3k-2/
LOCATION:Lincoln Park Chicago\, Stockton & LaSalle\, Chicago\, IL\, 60614\, United States
CATEGORIES:2023-05 Results (May)
ORGANIZER;CN="Mallory Simms":MAILTO:mallory@kidsrunthiscity.com
GEO:41.913775;-87.631695
X-APPLE-STRUCTURED-LOCATION;VALUE=URI;X-ADDRESS=Lincoln Park Chicago Stockton & LaSalle Chicago IL 60614 United States;X-APPLE-RADIUS=500;X-TITLE=Stockton & LaSalle:geo:-87.631695,41.913775
END:VEVENT
BEGIN:VEVENT
DTSTART;TZID=America/Chicago:20220515T100000
DTEND;TZID=America/Chicago:20220515T123000
DTSTAMP:20260423T235312
CREATED:20190115T123646Z
LAST-MODIFIED:20220515T182417Z
UID:10001845-1652608800-1652617800@www.racetime.info
SUMMARY:Kids Run This City! 1K\, 2K & 3K
DESCRIPTION:Kids Run This City Overall Results
URL:https://www.racetime.info/event/copy-of-kids-run-this-city-1k-2k-3k/
LOCATION:Lincoln Park Chicago\, Stockton & LaSalle\, Chicago\, IL\, 60614\, United States
CATEGORIES:2022-05 Results (May)
ORGANIZER;CN="Mallory Simms":MAILTO:mallory@kidsrunthiscity.com
GEO:41.913775;-87.631695
X-APPLE-STRUCTURED-LOCATION;VALUE=URI;X-ADDRESS=Lincoln Park Chicago Stockton & LaSalle Chicago IL 60614 United States;X-APPLE-RADIUS=500;X-TITLE=Stockton & LaSalle:geo:-87.631695,41.913775
END:VEVENT
BEGIN:VEVENT
DTSTART;TZID=America/Chicago:20201004T100000
DTEND;TZID=America/Chicago:20201004T120000
DTSTAMP:20260423T235312
CREATED:20190115T123646Z
LAST-MODIFIED:20200820T125409Z
UID:10001844-1601805600-1601812800@www.racetime.info
SUMMARY:Kids Run This City! 1K\, 2K & 3K: VIRTUAL
DESCRIPTION:
URL:https://www.racetime.info/event/kids-run-this-city-1k-2k-3k-4/
LOCATION:Lincoln Park Chicago\, Stockton & LaSalle\, Chicago\, IL\, 60614\, United States
ORGANIZER;CN="Mallory Simms":MAILTO:mallory@kidsrunthiscity.com
GEO:41.913775;-87.631695
X-APPLE-STRUCTURED-LOCATION;VALUE=URI;X-ADDRESS=Lincoln Park Chicago Stockton & LaSalle Chicago IL 60614 United States;X-APPLE-RADIUS=500;X-TITLE=Stockton & LaSalle:geo:-87.631695,41.913775
END:VEVENT
BEGIN:VEVENT
DTSTART;TZID=America/Chicago:20200517T090000
DTEND;TZID=America/Chicago:20200517T113000
DTSTAMP:20260423T235312
CREATED:20190115T123646Z
LAST-MODIFIED:20200514T212550Z
UID:10001843-1589706000-1589715000@www.racetime.info
SUMMARY:Kids Run This City! 1K\, 2K & 3K: VIRTUAL
DESCRIPTION:
URL:https://www.racetime.info/event/kids-run-this-city-1k-2k-3k-3/
LOCATION:Lincoln Park Chicago\, Stockton & LaSalle\, Chicago\, IL\, 60614\, United States
ORGANIZER;CN="Mallory Simms":MAILTO:mallory@kidsrunthiscity.com
GEO:41.913775;-87.631695
X-APPLE-STRUCTURED-LOCATION;VALUE=URI;X-ADDRESS=Lincoln Park Chicago Stockton & LaSalle Chicago IL 60614 United States;X-APPLE-RADIUS=500;X-TITLE=Stockton & LaSalle:geo:-87.631695,41.913775
END:VEVENT
BEGIN:VEVENT
DTSTART;TZID=America/Chicago:20191006T100000
DTEND;TZID=America/Chicago:20191006T120000
DTSTAMP:20260423T235312
CREATED:20190115T123646Z
LAST-MODIFIED:20191007T123444Z
UID:10001842-1570356000-1570363200@www.racetime.info
SUMMARY:Kids Run This City! 1K\, 2K & 3K
DESCRIPTION:Kids Run This City Fall Event
URL:https://www.racetime.info/event/kids-run-this-city-1k-2k-3k-2/
LOCATION:Lincoln Park Chicago\, Stockton & LaSalle\, Chicago\, IL\, 60614\, United States
CATEGORIES:2019-10 Results (October)
ORGANIZER;CN="Mallory Simms":MAILTO:mallory@kidsrunthiscity.com
GEO:41.913775;-87.631695
X-APPLE-STRUCTURED-LOCATION;VALUE=URI;X-ADDRESS=Lincoln Park Chicago Stockton & LaSalle Chicago IL 60614 United States;X-APPLE-RADIUS=500;X-TITLE=Stockton & LaSalle:geo:-87.631695,41.913775
END:VEVENT
BEGIN:VEVENT
DTSTART;TZID=America/Chicago:20190511T080000
DTEND;TZID=America/Chicago:20190511T170000
DTSTAMP:20260423T235312
CREATED:20190115T123646Z
LAST-MODIFIED:20190512T175716Z
UID:10001841-1557561600-1557594000@www.racetime.info
SUMMARY:Kids Run This City! 1K\, 2K & 3K
DESCRIPTION:Kids Run This City Results
URL:https://www.racetime.info/event/kids-run-this-city-1k-2k-3k/
LOCATION:Lincoln Park Chicago\, Stockton & LaSalle\, Chicago\, IL\, 60614\, United States
CATEGORIES:2019-05 Results (May)
ORGANIZER;CN="Mallory Simms":MAILTO:mallory@kidsrunthiscity.com
GEO:41.913775;-87.631695
X-APPLE-STRUCTURED-LOCATION;VALUE=URI;X-ADDRESS=Lincoln Park Chicago Stockton & LaSalle Chicago IL 60614 United States;X-APPLE-RADIUS=500;X-TITLE=Stockton & LaSalle:geo:-87.631695,41.913775
END:VEVENT
END:VCALENDAR