BEGIN:VCALENDAR
VERSION:2.0
PRODID:-//Race Time - ECPv6.15.13//NONSGML v1.0//EN
CALSCALE:GREGORIAN
METHOD:PUBLISH
X-ORIGINAL-URL:https://www.racetime.info
X-WR-CALDESC:Events for Race Time
REFRESH-INTERVAL;VALUE=DURATION:PT1H
X-Robots-Tag:noindex
X-PUBLISHED-TTL:PT1H
BEGIN:VTIMEZONE
TZID:America/Chicago
BEGIN:DAYLIGHT
TZOFFSETFROM:-0600
TZOFFSETTO:-0500
TZNAME:CDT
DTSTART:20160313T080000
END:DAYLIGHT
BEGIN:STANDARD
TZOFFSETFROM:-0500
TZOFFSETTO:-0600
TZNAME:CST
DTSTART:20161106T070000
END:STANDARD
BEGIN:DAYLIGHT
TZOFFSETFROM:-0600
TZOFFSETTO:-0500
TZNAME:CDT
DTSTART:20170312T080000
END:DAYLIGHT
BEGIN:STANDARD
TZOFFSETFROM:-0500
TZOFFSETTO:-0600
TZNAME:CST
DTSTART:20171105T070000
END:STANDARD
BEGIN:DAYLIGHT
TZOFFSETFROM:-0600
TZOFFSETTO:-0500
TZNAME:CDT
DTSTART:20180311T080000
END:DAYLIGHT
BEGIN:STANDARD
TZOFFSETFROM:-0500
TZOFFSETTO:-0600
TZNAME:CST
DTSTART:20181104T070000
END:STANDARD
BEGIN:DAYLIGHT
TZOFFSETFROM:-0600
TZOFFSETTO:-0500
TZNAME:CDT
DTSTART:20190310T080000
END:DAYLIGHT
BEGIN:STANDARD
TZOFFSETFROM:-0500
TZOFFSETTO:-0600
TZNAME:CST
DTSTART:20191103T070000
END:STANDARD
BEGIN:DAYLIGHT
TZOFFSETFROM:-0600
TZOFFSETTO:-0500
TZNAME:CDT
DTSTART:20200308T080000
END:DAYLIGHT
BEGIN:STANDARD
TZOFFSETFROM:-0500
TZOFFSETTO:-0600
TZNAME:CST
DTSTART:20201101T070000
END:STANDARD
BEGIN:DAYLIGHT
TZOFFSETFROM:-0600
TZOFFSETTO:-0500
TZNAME:CDT
DTSTART:20210314T080000
END:DAYLIGHT
BEGIN:STANDARD
TZOFFSETFROM:-0500
TZOFFSETTO:-0600
TZNAME:CST
DTSTART:20211107T070000
END:STANDARD
END:VTIMEZONE
BEGIN:VEVENT
DTSTART;TZID=America/Chicago:20200503T090000
DTEND;TZID=America/Chicago:20200503T110000
DTSTAMP:20260424T011222
CREATED:20180116T153621Z
LAST-MODIFIED:20200317T113124Z
UID:10001718-1588496400-1588503600@www.racetime.info
SUMMARY:The Five-0 5K Run/Walk: CANCELLED
DESCRIPTION:
URL:https://www.racetime.info/event/the-five-0-5k-run-walk-3/
LOCATION:Independence Grove Forest Preserve\, 16400 Buckley Road\, Libertyville\, IL\, 60045\, United States
ORGANIZER;CN="Mandi Florip":MAILTO:mflorip@lakecountyleague.org
GEO:42.3118463;-87.9529568
X-APPLE-STRUCTURED-LOCATION;VALUE=URI;X-ADDRESS=Independence Grove Forest Preserve 16400 Buckley Road Libertyville IL 60045 United States;X-APPLE-RADIUS=500;X-TITLE=16400 Buckley Road:geo:-87.9529568,42.3118463
END:VEVENT
BEGIN:VEVENT
DTSTART;TZID=America/Chicago:20190505T090000
DTEND;TZID=America/Chicago:20190505T110000
DTSTAMP:20260424T011222
CREATED:20180116T153621Z
LAST-MODIFIED:20190505T193140Z
UID:10001717-1557046800-1557054000@www.racetime.info
SUMMARY:The Five-0 5K Run/Walk
DESCRIPTION:Five-O 5K Run Overall Results
URL:https://www.racetime.info/event/the-five-0-5k-run-walk-2/
LOCATION:Independence Grove Forest Preserve\, 16400 Buckley Road\, Libertyville\, IL\, 60045\, United States
CATEGORIES:2019-05 Results (May)
ORGANIZER;CN="Mandi Florip":MAILTO:mflorip@lakecountyleague.org
GEO:42.3118463;-87.9529568
X-APPLE-STRUCTURED-LOCATION;VALUE=URI;X-ADDRESS=Independence Grove Forest Preserve 16400 Buckley Road Libertyville IL 60045 United States;X-APPLE-RADIUS=500;X-TITLE=16400 Buckley Road:geo:-87.9529568,42.3118463
END:VEVENT
BEGIN:VEVENT
DTSTART;TZID=America/Chicago:20190413T090000
DTEND;TZID=America/Chicago:20190413T110000
DTSTAMP:20260424T011222
CREATED:20190115T111928Z
LAST-MODIFIED:20190413T190032Z
UID:10001013-1555146000-1555153200@www.racetime.info
SUMMARY:The Tyler Harden Memorial 5K Run/Walk
DESCRIPTION:Tyler Harden Memorial 5K Overall Results
URL:https://www.racetime.info/event/the-tyler-harden-memorial-5k-run-walk/
LOCATION:Independence Grove Forest Preserve\, 16400 Buckley Road\, Libertyville\, IL\, 60045\, United States
CATEGORIES:2019-04 Results (April)
ORGANIZER;CN="Mandi Florip":MAILTO:mflorip@lakecountyleague.org
GEO:42.3118463;-87.9529568
X-APPLE-STRUCTURED-LOCATION;VALUE=URI;X-ADDRESS=Independence Grove Forest Preserve 16400 Buckley Road Libertyville IL 60045 United States;X-APPLE-RADIUS=500;X-TITLE=16400 Buckley Road:geo:-87.9529568,42.3118463
END:VEVENT
BEGIN:VEVENT
DTSTART;TZID=America/Chicago:20180506T090000
DTEND;TZID=America/Chicago:20180506T110000
DTSTAMP:20260424T011222
CREATED:20180116T153621Z
LAST-MODIFIED:20180506T190916Z
UID:10001716-1525597200-1525604400@www.racetime.info
SUMMARY:The Five-0 5K Run/Walk
DESCRIPTION:The Five-O 5K Overall Results
URL:https://www.racetime.info/event/the-five-0-5k-run-walk/
LOCATION:Independence Grove Forest Preserve\, 16400 Buckley Road\, Libertyville\, IL\, 60045\, United States
CATEGORIES:2018-05 Results (May)
ORGANIZER;CN="Mandi Florip":MAILTO:mflorip@lakecountyleague.org
GEO:42.3118463;-87.9529568
X-APPLE-STRUCTURED-LOCATION;VALUE=URI;X-ADDRESS=Independence Grove Forest Preserve 16400 Buckley Road Libertyville IL 60045 United States;X-APPLE-RADIUS=500;X-TITLE=16400 Buckley Road:geo:-87.9529568,42.3118463
END:VEVENT
BEGIN:VEVENT
DTSTART;TZID=America/Chicago:20170507T090000
DTEND;TZID=America/Chicago:20170507T110000
DTSTAMP:20260424T011222
CREATED:20170315T191218Z
LAST-MODIFIED:20170507T185356Z
UID:10000493-1494147600-1494154800@www.racetime.info
SUMMARY:The Five-0 5K Run/Walk
DESCRIPTION:The Five-O 5K Overall Results
URL:https://www.racetime.info/event/the-five-0-5k-runwalk/
LOCATION:Independence Grove Forest Preserve\, 16400 Buckley Road\, Libertyville\, IL\, 60045\, United States
CATEGORIES:2017-05 Results (May)
ORGANIZER;CN="Mandi Florip":MAILTO:mflorip@lakecountyleague.org
GEO:42.3118463;-87.9529568
X-APPLE-STRUCTURED-LOCATION;VALUE=URI;X-ADDRESS=Independence Grove Forest Preserve 16400 Buckley Road Libertyville IL 60045 United States;X-APPLE-RADIUS=500;X-TITLE=16400 Buckley Road:geo:-87.9529568,42.3118463
END:VEVENT
END:VCALENDAR