BEGIN:VCALENDAR
VERSION:2.0
PRODID:-//Race Time - ECPv6.15.13//NONSGML v1.0//EN
CALSCALE:GREGORIAN
METHOD:PUBLISH
X-ORIGINAL-URL:https://www.racetime.info
X-WR-CALDESC:Events for Race Time
REFRESH-INTERVAL;VALUE=DURATION:PT1H
X-Robots-Tag:noindex
X-PUBLISHED-TTL:PT1H
BEGIN:VTIMEZONE
TZID:America/Chicago
BEGIN:DAYLIGHT
TZOFFSETFROM:-0600
TZOFFSETTO:-0500
TZNAME:CDT
DTSTART:20140309T080000
END:DAYLIGHT
BEGIN:STANDARD
TZOFFSETFROM:-0500
TZOFFSETTO:-0600
TZNAME:CST
DTSTART:20141102T070000
END:STANDARD
BEGIN:DAYLIGHT
TZOFFSETFROM:-0600
TZOFFSETTO:-0500
TZNAME:CDT
DTSTART:20150308T080000
END:DAYLIGHT
BEGIN:STANDARD
TZOFFSETFROM:-0500
TZOFFSETTO:-0600
TZNAME:CST
DTSTART:20151101T070000
END:STANDARD
BEGIN:DAYLIGHT
TZOFFSETFROM:-0600
TZOFFSETTO:-0500
TZNAME:CDT
DTSTART:20160313T080000
END:DAYLIGHT
BEGIN:STANDARD
TZOFFSETFROM:-0500
TZOFFSETTO:-0600
TZNAME:CST
DTSTART:20161106T070000
END:STANDARD
BEGIN:DAYLIGHT
TZOFFSETFROM:-0600
TZOFFSETTO:-0500
TZNAME:CDT
DTSTART:20170312T080000
END:DAYLIGHT
BEGIN:STANDARD
TZOFFSETFROM:-0500
TZOFFSETTO:-0600
TZNAME:CST
DTSTART:20171105T070000
END:STANDARD
BEGIN:DAYLIGHT
TZOFFSETFROM:-0600
TZOFFSETTO:-0500
TZNAME:CDT
DTSTART:20180311T080000
END:DAYLIGHT
BEGIN:STANDARD
TZOFFSETFROM:-0500
TZOFFSETTO:-0600
TZNAME:CST
DTSTART:20181104T070000
END:STANDARD
BEGIN:DAYLIGHT
TZOFFSETFROM:-0600
TZOFFSETTO:-0500
TZNAME:CDT
DTSTART:20190310T080000
END:DAYLIGHT
BEGIN:STANDARD
TZOFFSETFROM:-0500
TZOFFSETTO:-0600
TZNAME:CST
DTSTART:20191103T070000
END:STANDARD
BEGIN:DAYLIGHT
TZOFFSETFROM:-0600
TZOFFSETTO:-0500
TZNAME:CDT
DTSTART:20200308T080000
END:DAYLIGHT
BEGIN:STANDARD
TZOFFSETFROM:-0500
TZOFFSETTO:-0600
TZNAME:CST
DTSTART:20201101T070000
END:STANDARD
BEGIN:DAYLIGHT
TZOFFSETFROM:-0600
TZOFFSETTO:-0500
TZNAME:CDT
DTSTART:20210314T080000
END:DAYLIGHT
BEGIN:STANDARD
TZOFFSETFROM:-0500
TZOFFSETTO:-0600
TZNAME:CST
DTSTART:20211107T070000
END:STANDARD
BEGIN:DAYLIGHT
TZOFFSETFROM:-0600
TZOFFSETTO:-0500
TZNAME:CDT
DTSTART:20220313T080000
END:DAYLIGHT
BEGIN:STANDARD
TZOFFSETFROM:-0500
TZOFFSETTO:-0600
TZNAME:CST
DTSTART:20221106T070000
END:STANDARD
BEGIN:DAYLIGHT
TZOFFSETFROM:-0600
TZOFFSETTO:-0500
TZNAME:CDT
DTSTART:20230312T080000
END:DAYLIGHT
BEGIN:STANDARD
TZOFFSETFROM:-0500
TZOFFSETTO:-0600
TZNAME:CST
DTSTART:20231105T070000
END:STANDARD
BEGIN:DAYLIGHT
TZOFFSETFROM:-0600
TZOFFSETTO:-0500
TZNAME:CDT
DTSTART:20240310T080000
END:DAYLIGHT
BEGIN:STANDARD
TZOFFSETFROM:-0500
TZOFFSETTO:-0600
TZNAME:CST
DTSTART:20241103T070000
END:STANDARD
BEGIN:DAYLIGHT
TZOFFSETFROM:-0600
TZOFFSETTO:-0500
TZNAME:CDT
DTSTART:20250309T080000
END:DAYLIGHT
BEGIN:STANDARD
TZOFFSETFROM:-0500
TZOFFSETTO:-0600
TZNAME:CST
DTSTART:20251102T070000
END:STANDARD
BEGIN:DAYLIGHT
TZOFFSETFROM:-0600
TZOFFSETTO:-0500
TZNAME:CDT
DTSTART:20260308T080000
END:DAYLIGHT
BEGIN:STANDARD
TZOFFSETFROM:-0500
TZOFFSETTO:-0600
TZNAME:CST
DTSTART:20261101T070000
END:STANDARD
END:VTIMEZONE
BEGIN:VEVENT
DTSTART;TZID=America/Chicago:20250928T090000
DTEND;TZID=America/Chicago:20250929T103000
DTSTAMP:20260423T210805
CREATED:20250820T124654Z
LAST-MODIFIED:20250928T182158Z
UID:10002424-1759050000-1759141800@www.racetime.info
SUMMARY:Inside Out Club 5K Run/Walk
DESCRIPTION:Inside Out 5K Age Group Results\n\nInside Out 5K Overall Results
URL:https://www.racetime.info/event/inside-out-club-5k-run-walk-3/
LOCATION:Danada Forest Preserve\, 3S580 Naperville Road\, Wheaton\, IL\, 60187\, United States
CATEGORIES:2025-09 Results (September)
ORGANIZER;CN="Marion Ruthig":MAILTO:marion@isupportcommunity.org
GEO:41.819072;-88.1124109
X-APPLE-STRUCTURED-LOCATION;VALUE=URI;X-ADDRESS=Danada Forest Preserve 3S580 Naperville Road Wheaton IL 60187 United States;X-APPLE-RADIUS=500;X-TITLE=3S580 Naperville Road:geo:-88.1124109,41.819072
END:VEVENT
BEGIN:VEVENT
DTSTART;TZID=America/Chicago:20240922T090000
DTEND;TZID=America/Chicago:20240922T103000
DTSTAMP:20260423T210805
CREATED:20170308T123621Z
LAST-MODIFIED:20240606T122047Z
UID:10000473-1726995600-1727001000@www.racetime.info
SUMMARY:Inside Out Club 5K Run/Walk
DESCRIPTION:
URL:https://www.racetime.info/event/copy-of-inside-out-club-5k-run-walk-3/
LOCATION:Danada Forest Preserve\, 3S580 Naperville Road\, Wheaton\, IL\, 60187\, United States
ORGANIZER;CN="Marion Ruthig":MAILTO:marion@isupportcommunity.org
GEO:41.819072;-88.1124109
X-APPLE-STRUCTURED-LOCATION;VALUE=URI;X-ADDRESS=Danada Forest Preserve 3S580 Naperville Road Wheaton IL 60187 United States;X-APPLE-RADIUS=500;X-TITLE=3S580 Naperville Road:geo:-88.1124109,41.819072
END:VEVENT
BEGIN:VEVENT
DTSTART;TZID=America/Chicago:20230924T090000
DTEND;TZID=America/Chicago:20230925T103000
DTSTAMP:20260423T210805
CREATED:20170308T123621Z
LAST-MODIFIED:20230924T174455Z
UID:10000471-1695546000-1695637800@www.racetime.info
SUMMARY:Inside Out Club 5K Run/Walk
DESCRIPTION:Inside Out 5K Age Group Results\n\nInside Out 5K Overall Results\n\nInside Out Team Results
URL:https://www.racetime.info/event/copy-of-inside-out-club-5k-run-walk-2/
LOCATION:Danada Forest Preserve\, 3S580 Naperville Road\, Wheaton\, IL\, 60187\, United States
CATEGORIES:2023-09 Results (September)
ORGANIZER;CN="Marion Ruthig":MAILTO:marion@isupportcommunity.org
GEO:41.819072;-88.1124109
X-APPLE-STRUCTURED-LOCATION;VALUE=URI;X-ADDRESS=Danada Forest Preserve 3S580 Naperville Road Wheaton IL 60187 United States;X-APPLE-RADIUS=500;X-TITLE=3S580 Naperville Road:geo:-88.1124109,41.819072
END:VEVENT
BEGIN:VEVENT
DTSTART;TZID=America/Chicago:20220925T090000
DTEND;TZID=America/Chicago:20220926T103000
DTSTAMP:20260423T210805
CREATED:20170308T123621Z
LAST-MODIFIED:20220925T174950Z
UID:10000469-1664096400-1664188200@www.racetime.info
SUMMARY:Inside Out Club 5K Run/Walk
DESCRIPTION:Inside Out Club 5K Age Group Results\n\nInside Out Club 5K Overall Results\n\nInside Out Club Team Results
URL:https://www.racetime.info/event/copy-of-inside-out-club-5k-run-walk/
LOCATION:Danada Forest Preserve\, 3S580 Naperville Road\, Wheaton\, IL\, 60187\, United States
CATEGORIES:2022-09 Results (September)
ORGANIZER;CN="Marion Ruthig":MAILTO:marion@isupportcommunity.org
GEO:41.819072;-88.1124109
X-APPLE-STRUCTURED-LOCATION;VALUE=URI;X-ADDRESS=Danada Forest Preserve 3S580 Naperville Road Wheaton IL 60187 United States;X-APPLE-RADIUS=500;X-TITLE=3S580 Naperville Road:geo:-88.1124109,41.819072
END:VEVENT
BEGIN:VEVENT
DTSTART;TZID=America/Chicago:20210926T080000
DTEND;TZID=America/Chicago:20210926T100000
DTSTAMP:20260423T210805
CREATED:20170308T123621Z
LAST-MODIFIED:20210926T193105Z
UID:10000468-1632643200-1632650400@www.racetime.info
SUMMARY:Inside Out Club 5K Run/Walk
DESCRIPTION:Inside Out Club 5K Age Group\n\nInside Out Club 5K Overall Results
URL:https://www.racetime.info/event/inside-out-club-5k-run-walk-2/
LOCATION:Danada Forest Preserve\, 3S580 Naperville Road\, Wheaton\, IL\, 60187\, United States
CATEGORIES:2021-09 Results (September)
ORGANIZER;CN="Marion Ruthig":MAILTO:marion@isupportcommunity.org
GEO:41.819072;-88.1124109
X-APPLE-STRUCTURED-LOCATION;VALUE=URI;X-ADDRESS=Danada Forest Preserve 3S580 Naperville Road Wheaton IL 60187 United States;X-APPLE-RADIUS=500;X-TITLE=3S580 Naperville Road:geo:-88.1124109,41.819072
END:VEVENT
BEGIN:VEVENT
DTSTART;TZID=America/Chicago:20191110T080000
DTEND;TZID=America/Chicago:20191110T100000
DTSTAMP:20260423T210805
CREATED:20170308T123621Z
LAST-MODIFIED:20191110T171013Z
UID:10000467-1573372800-1573380000@www.racetime.info
SUMMARY:Inside Out Club 5K Run/Walk
DESCRIPTION:Inside Out Club 5K Age Group Results\n\nInside Out Club 5K Overall Results\n\nInside Out Club Team Results
URL:https://www.racetime.info/event/inside-out-club-5k-run-walk/
LOCATION:Danada Forest Preserve\, 3S580 Naperville Road\, Wheaton\, IL\, 60187\, United States
CATEGORIES:2019-11 Results (November)
ORGANIZER;CN="Marion Ruthig":MAILTO:marion@isupportcommunity.org
GEO:41.819072;-88.1124109
X-APPLE-STRUCTURED-LOCATION;VALUE=URI;X-ADDRESS=Danada Forest Preserve 3S580 Naperville Road Wheaton IL 60187 United States;X-APPLE-RADIUS=500;X-TITLE=3S580 Naperville Road:geo:-88.1124109,41.819072
END:VEVENT
BEGIN:VEVENT
DTSTART;TZID=America/Chicago:20180930T080000
DTEND;TZID=America/Chicago:20180930T100000
DTSTAMP:20260423T210805
CREATED:20170308T123621Z
LAST-MODIFIED:20181001T120907Z
UID:10000466-1538294400-1538301600@www.racetime.info
SUMMARY:Inside Out Club 5K Run/Walk
DESCRIPTION:Inside Out Club 5K Age Group Results\n\nInside Out Club 5K Overall Results\n\nInside Out Club Team Results
URL:https://www.racetime.info/event/i-support-community-represent-5k-run-walk-kids-dash/
LOCATION:Danada Forest Preserve\, 3S580 Naperville Road\, Wheaton\, IL\, 60187\, United States
CATEGORIES:2018-09 Results (September)
ORGANIZER;CN="Marion Ruthig":MAILTO:marion@isupportcommunity.org
GEO:41.819072;-88.1124109
X-APPLE-STRUCTURED-LOCATION;VALUE=URI;X-ADDRESS=Danada Forest Preserve 3S580 Naperville Road Wheaton IL 60187 United States;X-APPLE-RADIUS=500;X-TITLE=3S580 Naperville Road:geo:-88.1124109,41.819072
END:VEVENT
BEGIN:VEVENT
DTSTART;TZID=America/Chicago:20170924T080000
DTEND;TZID=America/Chicago:20170924T100000
DTSTAMP:20260423T210805
CREATED:20170308T123621Z
LAST-MODIFIED:20170924T204018Z
UID:10000464-1506240000-1506247200@www.racetime.info
SUMMARY:I Support Community: Represent 5K Run/Walk & Kids Dash
DESCRIPTION:Represent 5K Age Group Results\n\nRepresent 5K Overall Results\n\nRepresent 5K Team Results
URL:https://www.racetime.info/event/i-support-community-represent-5k-runwalk-kids-dash/
LOCATION:Danada Forest Preserve\, 3S580 Naperville Road\, Wheaton\, IL\, 60187\, United States
CATEGORIES:2017-09 Results (September)
ORGANIZER;CN="Marion Ruthig":MAILTO:marion@isupportcommunity.org
GEO:41.819072;-88.1124109
X-APPLE-STRUCTURED-LOCATION;VALUE=URI;X-ADDRESS=Danada Forest Preserve 3S580 Naperville Road Wheaton IL 60187 United States;X-APPLE-RADIUS=500;X-TITLE=3S580 Naperville Road:geo:-88.1124109,41.819072
END:VEVENT
BEGIN:VEVENT
DTSTART;TZID=America/Chicago:20160925T080000
DTEND;TZID=America/Chicago:20160925T100000
DTSTAMP:20260423T210805
CREATED:20160327T210338Z
LAST-MODIFIED:20160925T190551Z
UID:10000586-1474790400-1474797600@www.racetime.info
SUMMARY:I Support Community 5K Run/Walk & Youth 50 Yard Dash
DESCRIPTION:I Support 5K Age Group Results\n\nI Support 5K Overall Results\n\nI Support Team Results
URL:https://www.racetime.info/event/i-support-community-5k-runwalk-youth-50-yard-dash/
LOCATION:Danada Forest Preserve\, 3S580 Naperville Road\, Wheaton\, IL\, 60187\, United States
CATEGORIES:2016-09 Results (September)
ORGANIZER;CN="Marion Ruthig":MAILTO:marion@isupportcommunity.org
GEO:41.819072;-88.1124109
X-APPLE-STRUCTURED-LOCATION;VALUE=URI;X-ADDRESS=Danada Forest Preserve 3S580 Naperville Road Wheaton IL 60187 United States;X-APPLE-RADIUS=500;X-TITLE=3S580 Naperville Road:geo:-88.1124109,41.819072
END:VEVENT
BEGIN:VEVENT
DTSTART;TZID=America/Chicago:20150920T080000
DTEND;TZID=America/Chicago:20150920T110000
DTSTAMP:20260423T210805
CREATED:20150901T024811Z
LAST-MODIFIED:20150920T180748Z
UID:10000382-1442736000-1442746800@www.racetime.info
SUMMARY:I Support Community: Represent 5K Run/Walk
DESCRIPTION:Represent 5K Age Group Results\n\nRepresent 5K Overall Results\n\nRepresent Team Results
URL:https://www.racetime.info/event/i-support-represent-5k-runwalk/
LOCATION:Danada Forest Preserve\, 3S580 Naperville Road\, Wheaton\, IL\, 60187\, United States
CATEGORIES:2015-09 Results (September)
ORGANIZER;CN="Marion Ruthig":MAILTO:marion@isupportcommunity.org
GEO:41.819072;-88.1124109
X-APPLE-STRUCTURED-LOCATION;VALUE=URI;X-ADDRESS=Danada Forest Preserve 3S580 Naperville Road Wheaton IL 60187 United States;X-APPLE-RADIUS=500;X-TITLE=3S580 Naperville Road:geo:-88.1124109,41.819072
END:VEVENT
END:VCALENDAR