BEGIN:VCALENDAR
VERSION:2.0
PRODID:-//Race Time - ECPv6.15.13//NONSGML v1.0//EN
CALSCALE:GREGORIAN
METHOD:PUBLISH
X-ORIGINAL-URL:https://www.racetime.info
X-WR-CALDESC:Events for Race Time
REFRESH-INTERVAL;VALUE=DURATION:PT1H
X-Robots-Tag:noindex
X-PUBLISHED-TTL:PT1H
BEGIN:VTIMEZONE
TZID:America/Chicago
BEGIN:DAYLIGHT
TZOFFSETFROM:-0600
TZOFFSETTO:-0500
TZNAME:CDT
DTSTART:20220313T080000
END:DAYLIGHT
BEGIN:STANDARD
TZOFFSETFROM:-0500
TZOFFSETTO:-0600
TZNAME:CST
DTSTART:20221106T070000
END:STANDARD
BEGIN:DAYLIGHT
TZOFFSETFROM:-0600
TZOFFSETTO:-0500
TZNAME:CDT
DTSTART:20230312T080000
END:DAYLIGHT
BEGIN:STANDARD
TZOFFSETFROM:-0500
TZOFFSETTO:-0600
TZNAME:CST
DTSTART:20231105T070000
END:STANDARD
BEGIN:DAYLIGHT
TZOFFSETFROM:-0600
TZOFFSETTO:-0500
TZNAME:CDT
DTSTART:20240310T080000
END:DAYLIGHT
BEGIN:STANDARD
TZOFFSETFROM:-0500
TZOFFSETTO:-0600
TZNAME:CST
DTSTART:20241103T070000
END:STANDARD
BEGIN:DAYLIGHT
TZOFFSETFROM:-0600
TZOFFSETTO:-0500
TZNAME:CDT
DTSTART:20250309T080000
END:DAYLIGHT
BEGIN:STANDARD
TZOFFSETFROM:-0500
TZOFFSETTO:-0600
TZNAME:CST
DTSTART:20251102T070000
END:STANDARD
BEGIN:DAYLIGHT
TZOFFSETFROM:-0600
TZOFFSETTO:-0500
TZNAME:CDT
DTSTART:20260308T080000
END:DAYLIGHT
BEGIN:STANDARD
TZOFFSETFROM:-0500
TZOFFSETTO:-0600
TZNAME:CST
DTSTART:20261101T070000
END:STANDARD
END:VTIMEZONE
BEGIN:VEVENT
DTSTART;TZID=America/Chicago:20250504T083000
DTEND;TZID=America/Chicago:20250504T103000
DTSTAMP:20260424T011733
CREATED:20250401T122723Z
LAST-MODIFIED:20250504T165015Z
UID:10002309-1746347400-1746354600@www.racetime.info
SUMMARY:Wheatlands Running of the Wolves 5K Run/Walk
DESCRIPTION:Wheatlands 1 Mile Overall Results\n\nWheatlands 5K Age Group Results\n\nWheatlands 5K Overall Results
URL:https://www.racetime.info/event/wheatlands-running-of-the-wolves-5k-run-walk/
LOCATION:Wheatlands Elementary School\, 2290 Barrington Dr. West\, Aurora\,\, Illinois\, 60503
CATEGORIES:2025-05 Results (May)
ORGANIZER;CN="Marynell Metroff":MAILTO:mnmetroff@gmail.com
END:VEVENT
BEGIN:VEVENT
DTSTART;TZID=America/Chicago:20240505T083000
DTEND;TZID=America/Chicago:20240505T103000
DTSTAMP:20260424T011733
CREATED:20230309T060450Z
LAST-MODIFIED:20240505T173710Z
UID:10002162-1714897800-1714905000@www.racetime.info
SUMMARY:Wheatlands Running of the Wolves 5K Run/Walk
DESCRIPTION:Running of the Wolves 1 Mile Overall Results\n\nRunning of the Wolves 5K Age and Grade Results\n\nRunning of the Wolves 5K Overall Results
URL:https://www.racetime.info/event/copy-of-running-of-the-wolves-5k-run-walk/
LOCATION:Wheatlands Elementary School\, 2290 Barrington Dr. West\, Aurora\,\, Illinois\, 60503
CATEGORIES:2024-05 Results (May)
ORGANIZER;CN="Marynell Metroff":MAILTO:mnmetroff@gmail.com
END:VEVENT
BEGIN:VEVENT
DTSTART;TZID=America/Chicago:20230507T083000
DTEND;TZID=America/Chicago:20230507T103000
DTSTAMP:20260424T011733
CREATED:20230309T060450Z
LAST-MODIFIED:20230507T174226Z
UID:10002161-1683448200-1683455400@www.racetime.info
SUMMARY:Running of the Wolves 5K Run/Walk
DESCRIPTION:Wheatlands Youth One Mile Results\n\nWheatlands 5K Age Group Results\n\nWheatlands 5K Overall Results
URL:https://www.racetime.info/event/running-of-the-wolves-5k-run-walk/
LOCATION:Wheatlands Elementary School\, 2290 Barrington Dr. West\, Aurora\,\, Illinois\, 60503
CATEGORIES:2023-05 Results (May)
ORGANIZER;CN="Marynell Metroff":MAILTO:mnmetroff@gmail.com
END:VEVENT
END:VCALENDAR