BEGIN:VCALENDAR
VERSION:2.0
PRODID:-//Race Time - ECPv6.15.13//NONSGML v1.0//EN
CALSCALE:GREGORIAN
METHOD:PUBLISH
X-WR-CALNAME:Race Time
X-ORIGINAL-URL:https://www.racetime.info
X-WR-CALDESC:Events for Race Time
REFRESH-INTERVAL;VALUE=DURATION:PT1H
X-Robots-Tag:noindex
X-PUBLISHED-TTL:PT1H
BEGIN:VTIMEZONE
TZID:America/Chicago
BEGIN:DAYLIGHT
TZOFFSETFROM:-0600
TZOFFSETTO:-0500
TZNAME:CDT
DTSTART:20140309T080000
END:DAYLIGHT
BEGIN:STANDARD
TZOFFSETFROM:-0500
TZOFFSETTO:-0600
TZNAME:CST
DTSTART:20141102T070000
END:STANDARD
BEGIN:DAYLIGHT
TZOFFSETFROM:-0600
TZOFFSETTO:-0500
TZNAME:CDT
DTSTART:20150308T080000
END:DAYLIGHT
BEGIN:STANDARD
TZOFFSETFROM:-0500
TZOFFSETTO:-0600
TZNAME:CST
DTSTART:20151101T070000
END:STANDARD
BEGIN:DAYLIGHT
TZOFFSETFROM:-0600
TZOFFSETTO:-0500
TZNAME:CDT
DTSTART:20160313T080000
END:DAYLIGHT
BEGIN:STANDARD
TZOFFSETFROM:-0500
TZOFFSETTO:-0600
TZNAME:CST
DTSTART:20161106T070000
END:STANDARD
BEGIN:DAYLIGHT
TZOFFSETFROM:-0600
TZOFFSETTO:-0500
TZNAME:CDT
DTSTART:20170312T080000
END:DAYLIGHT
BEGIN:STANDARD
TZOFFSETFROM:-0500
TZOFFSETTO:-0600
TZNAME:CST
DTSTART:20171105T070000
END:STANDARD
BEGIN:DAYLIGHT
TZOFFSETFROM:-0600
TZOFFSETTO:-0500
TZNAME:CDT
DTSTART:20180311T080000
END:DAYLIGHT
BEGIN:STANDARD
TZOFFSETFROM:-0500
TZOFFSETTO:-0600
TZNAME:CST
DTSTART:20181104T070000
END:STANDARD
BEGIN:DAYLIGHT
TZOFFSETFROM:-0600
TZOFFSETTO:-0500
TZNAME:CDT
DTSTART:20190310T080000
END:DAYLIGHT
BEGIN:STANDARD
TZOFFSETFROM:-0500
TZOFFSETTO:-0600
TZNAME:CST
DTSTART:20191103T070000
END:STANDARD
BEGIN:DAYLIGHT
TZOFFSETFROM:-0600
TZOFFSETTO:-0500
TZNAME:CDT
DTSTART:20200308T080000
END:DAYLIGHT
BEGIN:STANDARD
TZOFFSETFROM:-0500
TZOFFSETTO:-0600
TZNAME:CST
DTSTART:20201101T070000
END:STANDARD
BEGIN:DAYLIGHT
TZOFFSETFROM:-0600
TZOFFSETTO:-0500
TZNAME:CDT
DTSTART:20210314T080000
END:DAYLIGHT
BEGIN:STANDARD
TZOFFSETFROM:-0500
TZOFFSETTO:-0600
TZNAME:CST
DTSTART:20211107T070000
END:STANDARD
BEGIN:DAYLIGHT
TZOFFSETFROM:-0600
TZOFFSETTO:-0500
TZNAME:CDT
DTSTART:20220313T080000
END:DAYLIGHT
BEGIN:STANDARD
TZOFFSETFROM:-0500
TZOFFSETTO:-0600
TZNAME:CST
DTSTART:20221106T070000
END:STANDARD
BEGIN:DAYLIGHT
TZOFFSETFROM:-0600
TZOFFSETTO:-0500
TZNAME:CDT
DTSTART:20230312T080000
END:DAYLIGHT
BEGIN:STANDARD
TZOFFSETFROM:-0500
TZOFFSETTO:-0600
TZNAME:CST
DTSTART:20231105T070000
END:STANDARD
END:VTIMEZONE
BEGIN:VEVENT
DTSTART;TZID=America/Chicago:20220704T080000
DTEND;TZID=America/Chicago:20220704T093000
DTSTAMP:20260423T235828
CREATED:20190402T212954Z
LAST-MODIFIED:20220704T164848Z
UID:10001053-1656921600-1656927000@www.racetime.info
SUMMARY:Freedom Classic 5K Run/Walk & Youth Fun Run
DESCRIPTION:Freedom Classic 5K Age Group Results\n\nFreedom Classic 5K Overall Results
URL:https://www.racetime.info/event/copy-of-freedom-classic-5k-run-walk-youth-fun-run/
LOCATION:Mundelein Park District\, 1401 N. Midlthian Road\, Mundelein\, United States
CATEGORIES:2022-07 Results (July)
ORGANIZER;CN="Matt LaPorte":MAILTO:mlaporte@mundeleinparks.org
END:VEVENT
BEGIN:VEVENT
DTSTART;TZID=America/Chicago:20190916T190000
DTEND;TZID=America/Chicago:20190916T203000
DTSTAMP:20260423T235828
CREATED:20180821T020824Z
LAST-MODIFIED:20190917T034302Z
UID:10001825-1568660400-1568665800@www.racetime.info
SUMMARY:Chase The Moon 5K Run/Walk
DESCRIPTION:Chase The Moon 5K Overall Results
URL:https://www.racetime.info/event/chase-the-moon-5k-run-walk-2/
LOCATION:Steeple Chase Golf Club\, 200 N. LaVista Drive\, Mundelein\, IL\, 60060\, United States
CATEGORIES:2019-09 Results (September)
ORGANIZER;CN="Matt LaPorte":MAILTO:mlaporte@mundeleinparks.org
GEO:42.2637514;-88.0543047
X-APPLE-STRUCTURED-LOCATION;VALUE=URI;X-ADDRESS=Steeple Chase Golf Club 200 N. LaVista Drive Mundelein IL 60060 United States;X-APPLE-RADIUS=500;X-TITLE=200 N. LaVista Drive:geo:-88.0543047,42.2637514
END:VEVENT
BEGIN:VEVENT
DTSTART;TZID=America/Chicago:20190704T080000
DTEND;TZID=America/Chicago:20190704T110000
DTSTAMP:20260423T235828
CREATED:20190402T212954Z
LAST-MODIFIED:20190704T160944Z
UID:10001062-1562227200-1562238000@www.racetime.info
SUMMARY:Freedom Classic 5K Run/Walk & Youth Fun Run
DESCRIPTION:Mundelein’s Freedom Classic 5K Age Group Results\n\nMundelein’s Freedom Classic 5K Overall Results
URL:https://www.racetime.info/event/freedom-classic-5k-run-walk-youth-fun-run/
LOCATION:Mundelein Park District\, 1401 N. Midlthian Road\, Mundelein\, United States
CATEGORIES:2019-07 Results (July)
ORGANIZER;CN="Matt LaPorte":MAILTO:mlaporte@mundeleinparks.org
END:VEVENT
BEGIN:VEVENT
DTSTART;TZID=America/Chicago:20180924T190000
DTEND;TZID=America/Chicago:20180924T203000
DTSTAMP:20260423T235828
CREATED:20180821T020824Z
LAST-MODIFIED:20180926T030037Z
UID:10001824-1537815600-1537821000@www.racetime.info
SUMMARY:Chase The Moon 5K Run/Walk
DESCRIPTION:Chase The Moon 5K Overall Results
URL:https://www.racetime.info/event/chase-the-moon-5k-run-walk/
LOCATION:Steeple Chase Golf Club\, 200 N. LaVista Drive\, Mundelein\, IL\, 60060\, United States
CATEGORIES:2018-09 Results (September)
ORGANIZER;CN="Matt LaPorte":MAILTO:mlaporte@mundeleinparks.org
GEO:42.2637514;-88.0543047
X-APPLE-STRUCTURED-LOCATION;VALUE=URI;X-ADDRESS=Steeple Chase Golf Club 200 N. LaVista Drive Mundelein IL 60060 United States;X-APPLE-RADIUS=500;X-TITLE=200 N. LaVista Drive:geo:-88.0543047,42.2637514
END:VEVENT
BEGIN:VEVENT
DTSTART;TZID=America/Chicago:20150531T090000
DTEND;TZID=America/Chicago:20150531T120000
DTSTAMP:20260423T235828
CREATED:20150409T034510Z
LAST-MODIFIED:20150829T202715Z
UID:10000161-1433062800-1433073600@www.racetime.info
SUMMARY:Vernon Hills Youth Triathlon
DESCRIPTION:Vernon Hills Youth Tri 5-8 Years Old\n\nVernon Hills Youth Tri 9-12 Years Old
URL:https://www.racetime.info/event/vernon-hills-youth-triathlon-2/
LOCATION:Vernon Hills Park District\, 700 Lakeview Parkway\, Vernon Hills\, IL\, 60061\, United States
CATEGORIES:2015-05 Results (May)
ORGANIZER;CN="Matt LaPorte":MAILTO:mlaporte@mundeleinparks.org
GEO:42.236739;-87.957314
X-APPLE-STRUCTURED-LOCATION;VALUE=URI;X-ADDRESS=Vernon Hills Park District 700 Lakeview Parkway Vernon Hills IL 60061 United States;X-APPLE-RADIUS=500;X-TITLE=700 Lakeview Parkway:geo:-87.957314,42.236739
END:VEVENT
BEGIN:VEVENT
DTSTART;TZID=America/Chicago:20150425T000000
DTEND;TZID=America/Chicago:20150425T000000
DTSTAMP:20260423T235828
CREATED:20150409T034456Z
LAST-MODIFIED:20150829T195732Z
UID:10000114-1429920000-1429920000@www.racetime.info
SUMMARY:Loop The Lakes
DESCRIPTION:Loop The Lakes 5K Age Group Results\n\nLoop The Lakes 5K Overall Results
URL:https://www.racetime.info/event/loop-the-lakes-2/
CATEGORIES:2015-04 Results (April)
ORGANIZER;CN="Matt LaPorte":MAILTO:mlaporte@mundeleinparks.org
END:VEVENT
END:VCALENDAR