BEGIN:VCALENDAR
VERSION:2.0
PRODID:-//Race Time - ECPv6.15.13//NONSGML v1.0//EN
CALSCALE:GREGORIAN
METHOD:PUBLISH
X-WR-CALNAME:Race Time
X-ORIGINAL-URL:https://www.racetime.info
X-WR-CALDESC:Events for Race Time
REFRESH-INTERVAL;VALUE=DURATION:PT1H
X-Robots-Tag:noindex
X-PUBLISHED-TTL:PT1H
BEGIN:VTIMEZONE
TZID:America/Chicago
BEGIN:DAYLIGHT
TZOFFSETFROM:-0600
TZOFFSETTO:-0500
TZNAME:CDT
DTSTART:20140309T080000
END:DAYLIGHT
BEGIN:STANDARD
TZOFFSETFROM:-0500
TZOFFSETTO:-0600
TZNAME:CST
DTSTART:20141102T070000
END:STANDARD
BEGIN:DAYLIGHT
TZOFFSETFROM:-0600
TZOFFSETTO:-0500
TZNAME:CDT
DTSTART:20150308T080000
END:DAYLIGHT
BEGIN:STANDARD
TZOFFSETFROM:-0500
TZOFFSETTO:-0600
TZNAME:CST
DTSTART:20151101T070000
END:STANDARD
BEGIN:DAYLIGHT
TZOFFSETFROM:-0600
TZOFFSETTO:-0500
TZNAME:CDT
DTSTART:20160313T080000
END:DAYLIGHT
BEGIN:STANDARD
TZOFFSETFROM:-0500
TZOFFSETTO:-0600
TZNAME:CST
DTSTART:20161106T070000
END:STANDARD
END:VTIMEZONE
BEGIN:VEVENT
DTSTART;TZID=America/Chicago:20151108T090000
DTEND;TZID=America/Chicago:20151108T110000
DTSTAMP:20260423T210829
CREATED:20150708T000728Z
LAST-MODIFIED:20151108T182419Z
UID:10000086-1446973200-1446980400@www.racetime.info
SUMMARY:The Chevy Chase 5K Run & 1K Kids Dash
DESCRIPTION:Chevy Chase 5K Age Group Results\n\nChevy Chase 5K Overall Results
URL:https://www.racetime.info/event/the-chevy-chase-5k-run-1k-kids-dash/
LOCATION:Chevy Chase Golf Course\, 1000 N. Milwaukee Avenue\, Wheeling\, IL\, 60090\, United States
CATEGORIES:2015-11 Results (November)
ORGANIZER;CN="Matt Wehby":MAILTO:mwehby@wheelingparkdistrict.com
GEO:42.1578868;-87.9194706
X-APPLE-STRUCTURED-LOCATION;VALUE=URI;X-ADDRESS=Chevy Chase Golf Course 1000 N. Milwaukee Avenue Wheeling IL 60090 United States;X-APPLE-RADIUS=500;X-TITLE=1000 N. Milwaukee Avenue:geo:-87.9194706,42.1578868
END:VEVENT
END:VCALENDAR