BEGIN:VCALENDAR
VERSION:2.0
PRODID:-//Race Time - ECPv6.15.13//NONSGML v1.0//EN
CALSCALE:GREGORIAN
METHOD:PUBLISH
X-ORIGINAL-URL:https://www.racetime.info
X-WR-CALDESC:Events for Race Time
REFRESH-INTERVAL;VALUE=DURATION:PT1H
X-Robots-Tag:noindex
X-PUBLISHED-TTL:PT1H
BEGIN:VTIMEZONE
TZID:America/Chicago
BEGIN:DAYLIGHT
TZOFFSETFROM:-0600
TZOFFSETTO:-0500
TZNAME:CDT
DTSTART:20160313T080000
END:DAYLIGHT
BEGIN:STANDARD
TZOFFSETFROM:-0500
TZOFFSETTO:-0600
TZNAME:CST
DTSTART:20161106T070000
END:STANDARD
BEGIN:DAYLIGHT
TZOFFSETFROM:-0600
TZOFFSETTO:-0500
TZNAME:CDT
DTSTART:20170312T080000
END:DAYLIGHT
BEGIN:STANDARD
TZOFFSETFROM:-0500
TZOFFSETTO:-0600
TZNAME:CST
DTSTART:20171105T070000
END:STANDARD
BEGIN:DAYLIGHT
TZOFFSETFROM:-0600
TZOFFSETTO:-0500
TZNAME:CDT
DTSTART:20180311T080000
END:DAYLIGHT
BEGIN:STANDARD
TZOFFSETFROM:-0500
TZOFFSETTO:-0600
TZNAME:CST
DTSTART:20181104T070000
END:STANDARD
BEGIN:DAYLIGHT
TZOFFSETFROM:-0600
TZOFFSETTO:-0500
TZNAME:CDT
DTSTART:20190310T080000
END:DAYLIGHT
BEGIN:STANDARD
TZOFFSETFROM:-0500
TZOFFSETTO:-0600
TZNAME:CST
DTSTART:20191103T070000
END:STANDARD
END:VTIMEZONE
BEGIN:VEVENT
DTSTART;TZID=America/Chicago:20180929T090000
DTEND;TZID=America/Chicago:20180929T110000
DTSTAMP:20260424T024921
CREATED:20170902T093129Z
LAST-MODIFIED:20180929T204458Z
UID:10001652-1538211600-1538218800@www.racetime.info
SUMMARY:Paws for a Cause 5K Run/Walk
DESCRIPTION:Paws for a Cause 5K Overall Results
URL:https://www.racetime.info/event/paws-for-a-cause-5k-run-walk/
LOCATION:Northwestern College\, 7725 S. Harlem Avenue\, Bridgeview\, IL\, 60455\, United States
CATEGORIES:2018-09 Results (September)
ORGANIZER;CN="Maysoon Vargas":MAILTO:mnasir-vargas@nc.edu
GEO:41.7516073;-87.7973848
X-APPLE-STRUCTURED-LOCATION;VALUE=URI;X-ADDRESS=Northwestern College 7725 S. Harlem Avenue Bridgeview IL 60455 United States;X-APPLE-RADIUS=500;X-TITLE=7725 S. Harlem Avenue:geo:-87.7973848,41.7516073
END:VEVENT
BEGIN:VEVENT
DTSTART;TZID=America/Chicago:20171104T090000
DTEND;TZID=America/Chicago:20171104T110000
DTSTAMP:20260424T024921
CREATED:20170902T093129Z
LAST-MODIFIED:20171104T171816Z
UID:10001653-1509786000-1509793200@www.racetime.info
SUMMARY:Family Shelter Shuffle 5K Run/Walk
DESCRIPTION:Family Shelter Shuffle 5K Age Group Results\n\nFamily Shelter Shuffle 5K Overall Results\n\nFamily Shelter Shuffle 5K Team Results
URL:https://www.racetime.info/event/family-shelter-shuffle-5k-runwalk/
LOCATION:Northwestern College\, 7725 S. Harlem Avenue\, Bridgeview\, IL\, 60455\, United States
CATEGORIES:2017-11 Results (November)
ORGANIZER;CN="Maysoon Vargas":MAILTO:mnasir-vargas@nc.edu
GEO:41.7516073;-87.7973848
X-APPLE-STRUCTURED-LOCATION;VALUE=URI;X-ADDRESS=Northwestern College 7725 S. Harlem Avenue Bridgeview IL 60455 United States;X-APPLE-RADIUS=500;X-TITLE=7725 S. Harlem Avenue:geo:-87.7973848,41.7516073
END:VEVENT
END:VCALENDAR