BEGIN:VCALENDAR
VERSION:2.0
PRODID:-//Race Time - ECPv6.15.13//NONSGML v1.0//EN
CALSCALE:GREGORIAN
METHOD:PUBLISH
X-WR-CALNAME:Race Time
X-ORIGINAL-URL:https://www.racetime.info
X-WR-CALDESC:Events for Race Time
REFRESH-INTERVAL;VALUE=DURATION:PT1H
X-Robots-Tag:noindex
X-PUBLISHED-TTL:PT1H
BEGIN:VTIMEZONE
TZID:America/Chicago
BEGIN:DAYLIGHT
TZOFFSETFROM:-0600
TZOFFSETTO:-0500
TZNAME:CDT
DTSTART:20230312T080000
END:DAYLIGHT
BEGIN:STANDARD
TZOFFSETFROM:-0500
TZOFFSETTO:-0600
TZNAME:CST
DTSTART:20231105T070000
END:STANDARD
BEGIN:DAYLIGHT
TZOFFSETFROM:-0600
TZOFFSETTO:-0500
TZNAME:CDT
DTSTART:20240310T080000
END:DAYLIGHT
BEGIN:STANDARD
TZOFFSETFROM:-0500
TZOFFSETTO:-0600
TZNAME:CST
DTSTART:20241103T070000
END:STANDARD
BEGIN:DAYLIGHT
TZOFFSETFROM:-0600
TZOFFSETTO:-0500
TZNAME:CDT
DTSTART:20250309T080000
END:DAYLIGHT
BEGIN:STANDARD
TZOFFSETFROM:-0500
TZOFFSETTO:-0600
TZNAME:CST
DTSTART:20251102T070000
END:STANDARD
BEGIN:DAYLIGHT
TZOFFSETFROM:-0600
TZOFFSETTO:-0500
TZNAME:CDT
DTSTART:20260308T080000
END:DAYLIGHT
BEGIN:STANDARD
TZOFFSETFROM:-0500
TZOFFSETTO:-0600
TZNAME:CST
DTSTART:20261101T070000
END:STANDARD
END:VTIMEZONE
BEGIN:VEVENT
DTSTART;TZID=America/Chicago:20251004T090000
DTEND;TZID=America/Chicago:20251004T103000
DTSTAMP:20260424T022347
CREATED:20250407T210535Z
LAST-MODIFIED:20251004T191930Z
UID:10002351-1759568400-1759573800@www.racetime.info
SUMMARY:Tails Mutt Strut 1 Mile and 5K Walk/Run
DESCRIPTION:Tails Mutt Strut 5K Overall Results\n\nTails Mutt Strut With Dogs Overall
URL:https://www.racetime.info/event/tails-mutt-strut-1-mile-and-5k-walk-run-2/
LOCATION:Hopkins Park\, 1403 Sycamore Road\, DeKalb\, IL\, 60115\, United States
CATEGORIES:2025-10 Results (October)
ORGANIZER;CN="Kerina Evenson":MAILTO:marketing@tailshumanesociety.org
GEO:41.9447506;-88.7369386
X-APPLE-STRUCTURED-LOCATION;VALUE=URI;X-ADDRESS=Hopkins Park 1403 Sycamore Road DeKalb IL 60115 United States;X-APPLE-RADIUS=500;X-TITLE=1403 Sycamore Road:geo:-88.7369386,41.9447506
END:VEVENT
BEGIN:VEVENT
DTSTART;TZID=America/Chicago:20240928T090000
DTEND;TZID=America/Chicago:20240928T103000
DTSTAMP:20260424T022347
CREATED:20240304T131046Z
LAST-MODIFIED:20240930T100347Z
UID:10002215-1727514000-1727519400@www.racetime.info
SUMMARY:Tails Mutt Strut 1 Mile and 5K Walk/Run
DESCRIPTION:Tails Mutt Strut 1 Mile Overall\n\nTails Mutt Strut 5K Age Group Results\n\nTails Mutt Strut 5K Overall with Dog Results
URL:https://www.racetime.info/event/tails-mutt-strut-1-mile-and-5k-walk-run/
LOCATION:Hopkins Park\, 1403 Sycamore Road\, DeKalb\, IL\, 60115\, United States
CATEGORIES:2024-09 Results (September)
ORGANIZER;CN="Kerina Evenson":MAILTO:marketing@tailshumanesociety.org
GEO:41.9447506;-88.7369386
X-APPLE-STRUCTURED-LOCATION;VALUE=URI;X-ADDRESS=Hopkins Park 1403 Sycamore Road DeKalb IL 60115 United States;X-APPLE-RADIUS=500;X-TITLE=1403 Sycamore Road:geo:-88.7369386,41.9447506
END:VEVENT
END:VCALENDAR