BEGIN:VCALENDAR
VERSION:2.0
PRODID:-//Race Time - ECPv6.15.13//NONSGML v1.0//EN
CALSCALE:GREGORIAN
METHOD:PUBLISH
X-WR-CALNAME:Race Time
X-ORIGINAL-URL:https://www.racetime.info
X-WR-CALDESC:Events for Race Time
REFRESH-INTERVAL;VALUE=DURATION:PT1H
X-Robots-Tag:noindex
X-PUBLISHED-TTL:PT1H
BEGIN:VTIMEZONE
TZID:America/Chicago
BEGIN:DAYLIGHT
TZOFFSETFROM:-0600
TZOFFSETTO:-0500
TZNAME:CDT
DTSTART:20140309T080000
END:DAYLIGHT
BEGIN:STANDARD
TZOFFSETFROM:-0500
TZOFFSETTO:-0600
TZNAME:CST
DTSTART:20141102T070000
END:STANDARD
BEGIN:DAYLIGHT
TZOFFSETFROM:-0600
TZOFFSETTO:-0500
TZNAME:CDT
DTSTART:20150308T080000
END:DAYLIGHT
BEGIN:STANDARD
TZOFFSETFROM:-0500
TZOFFSETTO:-0600
TZNAME:CST
DTSTART:20151101T070000
END:STANDARD
BEGIN:DAYLIGHT
TZOFFSETFROM:-0600
TZOFFSETTO:-0500
TZNAME:CDT
DTSTART:20160313T080000
END:DAYLIGHT
BEGIN:STANDARD
TZOFFSETFROM:-0500
TZOFFSETTO:-0600
TZNAME:CST
DTSTART:20161106T070000
END:STANDARD
END:VTIMEZONE
BEGIN:VEVENT
DTSTART;TZID=America/Chicago:20150516T090000
DTEND;TZID=America/Chicago:20150516T110000
DTSTAMP:20260424T064012
CREATED:20150409T034504Z
LAST-MODIFIED:20150829T201558Z
UID:10000002-1431766800-1431774000@www.racetime.info
SUMMARY:Fellowship Housing Team 5K
DESCRIPTION:Fellowship Housing 5K Age Group Results\n\nFellowship Housing 5K Overall Results
URL:https://www.racetime.info/event/fellowship-housing-team-5k-2/
LOCATION:Busse Woods\, Groves 28-30\, S. Arlington Heights Rd\, Elk Grove\, IL\, United States
CATEGORIES:2015-05 Results (May)
ORGANIZER;CN="Melissa Karner":MAILTO:melissa@fhcmoms.org
GEO:42.0126908;-87.9982495
X-APPLE-STRUCTURED-LOCATION;VALUE=URI;X-ADDRESS=Busse Woods Groves 28-30 S. Arlington Heights Rd Elk Grove IL United States;X-APPLE-RADIUS=500;X-TITLE=S. Arlington Heights Rd:geo:-87.9982495,42.0126908
END:VEVENT
END:VCALENDAR