BEGIN:VCALENDAR
VERSION:2.0
PRODID:-//Race Time - ECPv6.15.13//NONSGML v1.0//EN
CALSCALE:GREGORIAN
METHOD:PUBLISH
X-ORIGINAL-URL:https://www.racetime.info
X-WR-CALDESC:Events for Race Time
REFRESH-INTERVAL;VALUE=DURATION:PT1H
X-Robots-Tag:noindex
X-PUBLISHED-TTL:PT1H
BEGIN:VTIMEZONE
TZID:America/Chicago
BEGIN:DAYLIGHT
TZOFFSETFROM:-0600
TZOFFSETTO:-0500
TZNAME:CDT
DTSTART:20150308T080000
END:DAYLIGHT
BEGIN:STANDARD
TZOFFSETFROM:-0500
TZOFFSETTO:-0600
TZNAME:CST
DTSTART:20151101T070000
END:STANDARD
BEGIN:DAYLIGHT
TZOFFSETFROM:-0600
TZOFFSETTO:-0500
TZNAME:CDT
DTSTART:20160313T080000
END:DAYLIGHT
BEGIN:STANDARD
TZOFFSETFROM:-0500
TZOFFSETTO:-0600
TZNAME:CST
DTSTART:20161106T070000
END:STANDARD
BEGIN:DAYLIGHT
TZOFFSETFROM:-0600
TZOFFSETTO:-0500
TZNAME:CDT
DTSTART:20170312T080000
END:DAYLIGHT
BEGIN:STANDARD
TZOFFSETFROM:-0500
TZOFFSETTO:-0600
TZNAME:CST
DTSTART:20171105T070000
END:STANDARD
END:VTIMEZONE
BEGIN:VEVENT
DTSTART;TZID=America/Chicago:20160423T083000
DTEND;TZID=America/Chicago:20160423T110000
DTSTAMP:20260424T041317
CREATED:20160122T125107Z
LAST-MODIFIED:20160423T165949Z
UID:10000181-1461400200-1461409200@www.racetime.info
SUMMARY:Rosary Run 5K Run; 2 Mile Walk & Kids Dash
DESCRIPTION:St. Jude Rosary 5K Overall Results
URL:https://www.racetime.info/event/rosary-run-5k-run-2-mile-walk-kids-dash/
LOCATION:St. Jude School\, 2204 McDonough Stree\, Joliet\, IL\, United States
CATEGORIES:2016-04 Results (April)
ORGANIZER;CN="Meredith Spesia":MAILTO:rosaryrunquestions@gmail.com
GEO:41.5151121;-88.13443
X-APPLE-STRUCTURED-LOCATION;VALUE=URI;X-ADDRESS=St. Jude School 2204 McDonough Stree Joliet IL United States;X-APPLE-RADIUS=500;X-TITLE=2204 McDonough Stree:geo:-88.13443,41.5151121
END:VEVENT
END:VCALENDAR