BEGIN:VCALENDAR
VERSION:2.0
PRODID:-//Race Time - ECPv6.15.13//NONSGML v1.0//EN
CALSCALE:GREGORIAN
METHOD:PUBLISH
X-ORIGINAL-URL:https://www.racetime.info
X-WR-CALDESC:Events for Race Time
REFRESH-INTERVAL;VALUE=DURATION:PT1H
X-Robots-Tag:noindex
X-PUBLISHED-TTL:PT1H
BEGIN:VTIMEZONE
TZID:America/Chicago
BEGIN:DAYLIGHT
TZOFFSETFROM:-0600
TZOFFSETTO:-0500
TZNAME:CDT
DTSTART:20220313T080000
END:DAYLIGHT
BEGIN:STANDARD
TZOFFSETFROM:-0500
TZOFFSETTO:-0600
TZNAME:CST
DTSTART:20221106T070000
END:STANDARD
BEGIN:DAYLIGHT
TZOFFSETFROM:-0600
TZOFFSETTO:-0500
TZNAME:CDT
DTSTART:20230312T080000
END:DAYLIGHT
BEGIN:STANDARD
TZOFFSETFROM:-0500
TZOFFSETTO:-0600
TZNAME:CST
DTSTART:20231105T070000
END:STANDARD
BEGIN:DAYLIGHT
TZOFFSETFROM:-0600
TZOFFSETTO:-0500
TZNAME:CDT
DTSTART:20240310T080000
END:DAYLIGHT
BEGIN:STANDARD
TZOFFSETFROM:-0500
TZOFFSETTO:-0600
TZNAME:CST
DTSTART:20241103T070000
END:STANDARD
END:VTIMEZONE
BEGIN:VEVENT
DTSTART;TZID=America/Chicago:20230703T140000
DTEND;TZID=America/Chicago:20230703T160000
DTSTAMP:20260423T235954
CREATED:20230528T122304Z
LAST-MODIFIED:20230703T213405Z
UID:10002181-1688392800-1688400000@www.racetime.info
SUMMARY:Freedom Fest 5K Run/Walk & 1 Mile Family Color Run
DESCRIPTION:St. John Freedom 5K Overall Results\n\nSt. John Freedom 1 Mile Overall Results
URL:https://www.racetime.info/event/freedom-fest-5k-run-walk-1-mile-family-color-run/
LOCATION:Heartland Park Sports Complex\, 10600 White Oak Avenue\, St. John\, IN\, United States
CATEGORIES:2023-07 Results (July)
ORGANIZER;CN="Michael O'Shea":MAILTO:moshea@stjohnin.com
END:VEVENT
END:VCALENDAR