BEGIN:VCALENDAR
VERSION:2.0
PRODID:-//Race Time - ECPv6.15.13//NONSGML v1.0//EN
CALSCALE:GREGORIAN
METHOD:PUBLISH
X-ORIGINAL-URL:https://www.racetime.info
X-WR-CALDESC:Events for Race Time
REFRESH-INTERVAL;VALUE=DURATION:PT1H
X-Robots-Tag:noindex
X-PUBLISHED-TTL:PT1H
BEGIN:VTIMEZONE
TZID:America/Chicago
BEGIN:DAYLIGHT
TZOFFSETFROM:-0600
TZOFFSETTO:-0500
TZNAME:CDT
DTSTART:20190310T080000
END:DAYLIGHT
BEGIN:STANDARD
TZOFFSETFROM:-0500
TZOFFSETTO:-0600
TZNAME:CST
DTSTART:20191103T070000
END:STANDARD
BEGIN:DAYLIGHT
TZOFFSETFROM:-0600
TZOFFSETTO:-0500
TZNAME:CDT
DTSTART:20200308T080000
END:DAYLIGHT
BEGIN:STANDARD
TZOFFSETFROM:-0500
TZOFFSETTO:-0600
TZNAME:CST
DTSTART:20201101T070000
END:STANDARD
BEGIN:DAYLIGHT
TZOFFSETFROM:-0600
TZOFFSETTO:-0500
TZNAME:CDT
DTSTART:20210314T080000
END:DAYLIGHT
BEGIN:STANDARD
TZOFFSETFROM:-0500
TZOFFSETTO:-0600
TZNAME:CST
DTSTART:20211107T070000
END:STANDARD
BEGIN:DAYLIGHT
TZOFFSETFROM:-0600
TZOFFSETTO:-0500
TZNAME:CDT
DTSTART:20220313T080000
END:DAYLIGHT
BEGIN:STANDARD
TZOFFSETFROM:-0500
TZOFFSETTO:-0600
TZNAME:CST
DTSTART:20221106T070000
END:STANDARD
BEGIN:DAYLIGHT
TZOFFSETFROM:-0600
TZOFFSETTO:-0500
TZNAME:CDT
DTSTART:20230312T080000
END:DAYLIGHT
BEGIN:STANDARD
TZOFFSETFROM:-0500
TZOFFSETTO:-0600
TZNAME:CST
DTSTART:20231105T070000
END:STANDARD
BEGIN:DAYLIGHT
TZOFFSETFROM:-0600
TZOFFSETTO:-0500
TZNAME:CDT
DTSTART:20240310T080000
END:DAYLIGHT
BEGIN:STANDARD
TZOFFSETFROM:-0500
TZOFFSETTO:-0600
TZNAME:CST
DTSTART:20241103T070000
END:STANDARD
BEGIN:DAYLIGHT
TZOFFSETFROM:-0600
TZOFFSETTO:-0500
TZNAME:CDT
DTSTART:20250309T080000
END:DAYLIGHT
BEGIN:STANDARD
TZOFFSETFROM:-0500
TZOFFSETTO:-0600
TZNAME:CST
DTSTART:20251102T070000
END:STANDARD
END:VTIMEZONE
BEGIN:VEVENT
DTSTART;TZID=America/Chicago:20240218T090000
DTEND;TZID=America/Chicago:20240218T103000
DTSTAMP:20260424T012347
CREATED:20230307T203242Z
LAST-MODIFIED:20240222T125427Z
UID:10002154-1708246800-1708252200@www.racetime.info
SUMMARY:Mardi Gras Run for the Beads 5k
DESCRIPTION:Mardi Gras 5K Age Group Results\n\nMardi Gras 5K Overall Results
URL:https://www.racetime.info/event/copy-of-mardi-gras-run-for-the-beads-5k/
LOCATION:Lippold Park\, 8597 Il. Hwy. 176\, Crystal Lake\, IL\, 60014\, United States
CATEGORIES:2024-02 Results (February)
ORGANIZER;CN="Mike Splitt":MAILTO:mikesplitt@sbcglobal.net
GEO:42.2480551;-88.3760423
X-APPLE-STRUCTURED-LOCATION;VALUE=URI;X-ADDRESS=Lippold Park 8597 Il. Hwy. 176 Crystal Lake IL 60014 United States;X-APPLE-RADIUS=500;X-TITLE=8597 Il. Hwy. 176:geo:-88.3760423,42.2480551
END:VEVENT
BEGIN:VEVENT
DTSTART;TZID=America/Chicago:20211205T090000
DTEND;TZID=America/Chicago:20211205T103000
DTSTAMP:20260424T012347
CREATED:20210823T124852Z
LAST-MODIFIED:20211205T220849Z
UID:10001183-1638694800-1638700200@www.racetime.info
SUMMARY:McHenry County Santa Run For Kids
DESCRIPTION:McHenry Santa 5K Age Group Results\n\nMcHenry Santa 5K Overall Results
URL:https://www.racetime.info/event/mchenry-county-santa-run-for-kids/
LOCATION:Raue Center For The Arts\, 26 N. Williams Street\, Crystal Lake\, IL\, 60014\, United States
CATEGORIES:2021-12 Results (December)
ORGANIZER;CN="Mike Splitt":MAILTO:mikesplitt@sbcglobal.net
GEO:42.2419354;-88.3190301
X-APPLE-STRUCTURED-LOCATION;VALUE=URI;X-ADDRESS=Raue Center For The Arts 26 N. Williams Street Crystal Lake IL 60014 United States;X-APPLE-RADIUS=500;X-TITLE=26 N. Williams Street:geo:-88.3190301,42.2419354
END:VEVENT
BEGIN:VEVENT
DTSTART;TZID=America/Chicago:20201206T090000
DTEND;TZID=America/Chicago:20201206T110000
DTSTAMP:20260424T012347
CREATED:20201018T192052Z
LAST-MODIFIED:20201121T191650Z
UID:10001141-1607245200-1607252400@www.racetime.info
SUMMARY:Santa Run 5K & 1 Mile Run/Walk: VIRTUAL
DESCRIPTION:
URL:https://www.racetime.info/event/santa-run-5k-1-mile-run-walk/
LOCATION:Raue Center For The Arts\, 26 N. Williams Street\, Crystal Lake\, IL\, 60014\, United States
ORGANIZER;CN="Mike Splitt":MAILTO:mikesplitt@sbcglobal.net
GEO:42.2419354;-88.3190301
X-APPLE-STRUCTURED-LOCATION;VALUE=URI;X-ADDRESS=Raue Center For The Arts 26 N. Williams Street Crystal Lake IL 60014 United States;X-APPLE-RADIUS=500;X-TITLE=26 N. Williams Street:geo:-88.3190301,42.2419354
END:VEVENT
END:VCALENDAR