BEGIN:VCALENDAR
VERSION:2.0
PRODID:-//Race Time - ECPv6.15.13//NONSGML v1.0//EN
CALSCALE:GREGORIAN
METHOD:PUBLISH
X-WR-CALNAME:Race Time
X-ORIGINAL-URL:https://www.racetime.info
X-WR-CALDESC:Events for Race Time
REFRESH-INTERVAL;VALUE=DURATION:PT1H
X-Robots-Tag:noindex
X-PUBLISHED-TTL:PT1H
BEGIN:VTIMEZONE
TZID:America/Chicago
BEGIN:DAYLIGHT
TZOFFSETFROM:-0600
TZOFFSETTO:-0500
TZNAME:CDT
DTSTART:20170312T080000
END:DAYLIGHT
BEGIN:STANDARD
TZOFFSETFROM:-0500
TZOFFSETTO:-0600
TZNAME:CST
DTSTART:20171105T070000
END:STANDARD
BEGIN:DAYLIGHT
TZOFFSETFROM:-0600
TZOFFSETTO:-0500
TZNAME:CDT
DTSTART:20180311T080000
END:DAYLIGHT
BEGIN:STANDARD
TZOFFSETFROM:-0500
TZOFFSETTO:-0600
TZNAME:CST
DTSTART:20181104T070000
END:STANDARD
BEGIN:DAYLIGHT
TZOFFSETFROM:-0600
TZOFFSETTO:-0500
TZNAME:CDT
DTSTART:20190310T080000
END:DAYLIGHT
BEGIN:STANDARD
TZOFFSETFROM:-0500
TZOFFSETTO:-0600
TZNAME:CST
DTSTART:20191103T070000
END:STANDARD
BEGIN:DAYLIGHT
TZOFFSETFROM:-0600
TZOFFSETTO:-0500
TZNAME:CDT
DTSTART:20200308T080000
END:DAYLIGHT
BEGIN:STANDARD
TZOFFSETFROM:-0500
TZOFFSETTO:-0600
TZNAME:CST
DTSTART:20201101T070000
END:STANDARD
BEGIN:DAYLIGHT
TZOFFSETFROM:-0600
TZOFFSETTO:-0500
TZNAME:CDT
DTSTART:20210314T080000
END:DAYLIGHT
BEGIN:STANDARD
TZOFFSETFROM:-0500
TZOFFSETTO:-0600
TZNAME:CST
DTSTART:20211107T070000
END:STANDARD
END:VTIMEZONE
BEGIN:VEVENT
DTSTART;TZID=America/Chicago:20200822T100000
DTEND;TZID=America/Chicago:20200822T113000
DTSTAMP:20260424T012300
CREATED:20180308T022127Z
LAST-MODIFIED:20200629T123235Z
UID:10001749-1598090400-1598095800@www.racetime.info
SUMMARY:Happy Feet Healthy Heart 5K Run/Walk: VIRTUAL
DESCRIPTION:
URL:https://www.racetime.info/event/copy-of-happy-feet-healthy-heart-5k-run-walk/
LOCATION:Phillips Park\, 1000 Ray Moses Drive\, Aurora\, IL\, 60505\, United States
ORGANIZER;CN="Namitha Pai":MAILTO:happyfeetwalkersclub@gmail.com
GEO:41.7365152;-88.2948701
X-APPLE-STRUCTURED-LOCATION;VALUE=URI;X-ADDRESS=Phillips Park 1000 Ray Moses Drive Aurora IL 60505 United States;X-APPLE-RADIUS=500;X-TITLE=1000 Ray Moses Drive:geo:-88.2948701,41.7365152
END:VEVENT
BEGIN:VEVENT
DTSTART;TZID=America/Chicago:20190720T100000
DTEND;TZID=America/Chicago:20190720T113000
DTSTAMP:20260424T012300
CREATED:20180308T022127Z
LAST-MODIFIED:20190720T155426Z
UID:10001748-1563616800-1563622200@www.racetime.info
SUMMARY:Happy Feet Healthy Heart 5K Run/Walk
DESCRIPTION:Happy Feet Healthy Heart 5K Age Group Results\n\nHappy Feet Healthy Heart 5K Overall Results
URL:https://www.racetime.info/event/happy-feet-healthy-heart-5k-run-walk-2/
LOCATION:Phillips Park\, 1000 Ray Moses Drive\, Aurora\, IL\, 60505\, United States
CATEGORIES:2019-07 Results (July)
ORGANIZER;CN="Namitha Pai":MAILTO:happyfeetwalkersclub@gmail.com
GEO:41.7365152;-88.2948701
X-APPLE-STRUCTURED-LOCATION;VALUE=URI;X-ADDRESS=Phillips Park 1000 Ray Moses Drive Aurora IL 60505 United States;X-APPLE-RADIUS=500;X-TITLE=1000 Ray Moses Drive:geo:-88.2948701,41.7365152
END:VEVENT
BEGIN:VEVENT
DTSTART;TZID=America/Chicago:20180818T100000
DTEND;TZID=America/Chicago:20180818T113000
DTSTAMP:20260424T012300
CREATED:20180308T022127Z
LAST-MODIFIED:20180818T181524Z
UID:10001747-1534586400-1534591800@www.racetime.info
SUMMARY:Happy Feet Healthy Heart 5K Run/Walk
DESCRIPTION:Happy Feet 5K Age and Grade Results\n\nHappy Feet 5K Overall Results
URL:https://www.racetime.info/event/happy-feet-healthy-heart-5k-run-walk/
LOCATION:Phillips Park\, 1000 Ray Moses Drive\, Aurora\, IL\, 60505\, United States
CATEGORIES:2018-08 Results (August)
ORGANIZER;CN="Namitha Pai":MAILTO:happyfeetwalkersclub@gmail.com
GEO:41.7365152;-88.2948701
X-APPLE-STRUCTURED-LOCATION;VALUE=URI;X-ADDRESS=Phillips Park 1000 Ray Moses Drive Aurora IL 60505 United States;X-APPLE-RADIUS=500;X-TITLE=1000 Ray Moses Drive:geo:-88.2948701,41.7365152
END:VEVENT
END:VCALENDAR