BEGIN:VCALENDAR
VERSION:2.0
PRODID:-//Race Time - ECPv6.15.13//NONSGML v1.0//EN
CALSCALE:GREGORIAN
METHOD:PUBLISH
X-ORIGINAL-URL:https://www.racetime.info
X-WR-CALDESC:Events for Race Time
REFRESH-INTERVAL;VALUE=DURATION:PT1H
X-Robots-Tag:noindex
X-PUBLISHED-TTL:PT1H
BEGIN:VTIMEZONE
TZID:America/Chicago
BEGIN:DAYLIGHT
TZOFFSETFROM:-0600
TZOFFSETTO:-0500
TZNAME:CDT
DTSTART:20140309T080000
END:DAYLIGHT
BEGIN:STANDARD
TZOFFSETFROM:-0500
TZOFFSETTO:-0600
TZNAME:CST
DTSTART:20141102T070000
END:STANDARD
BEGIN:DAYLIGHT
TZOFFSETFROM:-0600
TZOFFSETTO:-0500
TZNAME:CDT
DTSTART:20150308T080000
END:DAYLIGHT
BEGIN:STANDARD
TZOFFSETFROM:-0500
TZOFFSETTO:-0600
TZNAME:CST
DTSTART:20151101T070000
END:STANDARD
BEGIN:DAYLIGHT
TZOFFSETFROM:-0600
TZOFFSETTO:-0500
TZNAME:CDT
DTSTART:20160313T080000
END:DAYLIGHT
BEGIN:STANDARD
TZOFFSETFROM:-0500
TZOFFSETTO:-0600
TZNAME:CST
DTSTART:20161106T070000
END:STANDARD
BEGIN:DAYLIGHT
TZOFFSETFROM:-0600
TZOFFSETTO:-0500
TZNAME:CDT
DTSTART:20170312T080000
END:DAYLIGHT
BEGIN:STANDARD
TZOFFSETFROM:-0500
TZOFFSETTO:-0600
TZNAME:CST
DTSTART:20171105T070000
END:STANDARD
BEGIN:DAYLIGHT
TZOFFSETFROM:-0600
TZOFFSETTO:-0500
TZNAME:CDT
DTSTART:20180311T080000
END:DAYLIGHT
BEGIN:STANDARD
TZOFFSETFROM:-0500
TZOFFSETTO:-0600
TZNAME:CST
DTSTART:20181104T070000
END:STANDARD
BEGIN:DAYLIGHT
TZOFFSETFROM:-0600
TZOFFSETTO:-0500
TZNAME:CDT
DTSTART:20190310T080000
END:DAYLIGHT
BEGIN:STANDARD
TZOFFSETFROM:-0500
TZOFFSETTO:-0600
TZNAME:CST
DTSTART:20191103T070000
END:STANDARD
BEGIN:DAYLIGHT
TZOFFSETFROM:-0600
TZOFFSETTO:-0500
TZNAME:CDT
DTSTART:20200308T080000
END:DAYLIGHT
BEGIN:STANDARD
TZOFFSETFROM:-0500
TZOFFSETTO:-0600
TZNAME:CST
DTSTART:20201101T070000
END:STANDARD
BEGIN:DAYLIGHT
TZOFFSETFROM:-0600
TZOFFSETTO:-0500
TZNAME:CDT
DTSTART:20210314T080000
END:DAYLIGHT
BEGIN:STANDARD
TZOFFSETFROM:-0500
TZOFFSETTO:-0600
TZNAME:CST
DTSTART:20211107T070000
END:STANDARD
BEGIN:DAYLIGHT
TZOFFSETFROM:-0600
TZOFFSETTO:-0500
TZNAME:CDT
DTSTART:20220313T080000
END:DAYLIGHT
BEGIN:STANDARD
TZOFFSETFROM:-0500
TZOFFSETTO:-0600
TZNAME:CST
DTSTART:20221106T070000
END:STANDARD
BEGIN:DAYLIGHT
TZOFFSETFROM:-0600
TZOFFSETTO:-0500
TZNAME:CDT
DTSTART:20230312T080000
END:DAYLIGHT
BEGIN:STANDARD
TZOFFSETFROM:-0500
TZOFFSETTO:-0600
TZNAME:CST
DTSTART:20231105T070000
END:STANDARD
BEGIN:DAYLIGHT
TZOFFSETFROM:-0600
TZOFFSETTO:-0500
TZNAME:CDT
DTSTART:20240310T080000
END:DAYLIGHT
BEGIN:STANDARD
TZOFFSETFROM:-0500
TZOFFSETTO:-0600
TZNAME:CST
DTSTART:20241103T070000
END:STANDARD
BEGIN:DAYLIGHT
TZOFFSETFROM:-0600
TZOFFSETTO:-0500
TZNAME:CDT
DTSTART:20250309T080000
END:DAYLIGHT
BEGIN:STANDARD
TZOFFSETFROM:-0500
TZOFFSETTO:-0600
TZNAME:CST
DTSTART:20251102T070000
END:STANDARD
BEGIN:DAYLIGHT
TZOFFSETFROM:-0600
TZOFFSETTO:-0500
TZNAME:CDT
DTSTART:20260308T080000
END:DAYLIGHT
BEGIN:STANDARD
TZOFFSETFROM:-0500
TZOFFSETTO:-0600
TZNAME:CST
DTSTART:20261101T070000
END:STANDARD
END:VTIMEZONE
BEGIN:VEVENT
DTSTART;TZID=America/Chicago:20250809T080000
DTEND;TZID=America/Chicago:20250809T093000
DTSTAMP:20260423T210916
CREATED:20250528T122113Z
LAST-MODIFIED:20250809T180401Z
UID:10002363-1754726400-1754731800@www.racetime.info
SUMMARY:Race To Stop Hunger 5K Run/Walk
DESCRIPTION:Race to Stop Hunger 5K Age Group Results\n\nRace to Stop Hunger 5K Overall Results\n\nRace to Stop Hunger Team Results
URL:https://www.racetime.info/event/race-to-stop-hunger-5k-run-walk-3/
LOCATION:Mallard Lake Forest Preserve\, Schick Road & Mallard Lane\, Bloomingdae\, IL\, 60172\, United States
CATEGORIES:2025-08 Results (August)
ORGANIZER;CN="Nancy Thiemann":MAILTO:racetostophunger@gmail.com
GEO:41.9527902;-88.1282465
X-APPLE-STRUCTURED-LOCATION;VALUE=URI;X-ADDRESS=Mallard Lake Forest Preserve Schick Road & Mallard Lane Bloomingdae IL 60172 United States;X-APPLE-RADIUS=500;X-TITLE=Schick Road & Mallard Lane:geo:-88.1282465,41.9527902
END:VEVENT
BEGIN:VEVENT
DTSTART;TZID=America/Chicago:20240810T080000
DTEND;TZID=America/Chicago:20240810T093000
DTSTAMP:20260423T210916
CREATED:20170501T172355Z
LAST-MODIFIED:20240812T120127Z
UID:10000565-1723276800-1723282200@www.racetime.info
SUMMARY:Race To Stop Hunger 5K Run/Walk
DESCRIPTION:Race to Stop Hunger 5K Age Group Results\n\nRace to Stop Hunger 5K Overall Results\n\nRace to Stop Hunger 5K Virtual Results\n\nRace to Stop Hunger Team Results
URL:https://www.racetime.info/event/copy-of-race-to-stop-hunger-5k-run-walk-3/
LOCATION:Meachum Grove Forest Preserve\, Circle Avenue\, Bloomingdale\, IL\, 60108\, United States
CATEGORIES:2024-08 Results (August)
ORGANIZER;CN="Nancy Thiemann":MAILTO:racetostophunger@gmail.com
END:VEVENT
BEGIN:VEVENT
DTSTART;TZID=America/Chicago:20230812T080000
DTEND;TZID=America/Chicago:20230812T100000
DTSTAMP:20260423T210916
CREATED:20170501T172355Z
LAST-MODIFIED:20230812T174208Z
UID:10000563-1691827200-1691834400@www.racetime.info
SUMMARY:Race To Stop Hunger 5K Run/Walk
DESCRIPTION:Race To Stop Hunger 5K Age Group Results\n\nRace To Stop Hunger 5K Overall Results\n\nRace To Stop Hunger Team Results
URL:https://www.racetime.info/event/copy-of-race-to-stop-hunger-5k-run-walk-2/
LOCATION:Indian Lakes Park Golf Course\, 250 West Schick Road\, Bloomingdale\, 60108
CATEGORIES:2023-08 Results (August)
ORGANIZER;CN="Nancy Thiemann":MAILTO:racetostophunger@gmail.com
END:VEVENT
BEGIN:VEVENT
DTSTART;TZID=America/Chicago:20220820T083000
DTEND;TZID=America/Chicago:20220820T100000
DTSTAMP:20260423T210916
CREATED:20170501T172355Z
LAST-MODIFIED:20220820T171412Z
UID:10000561-1660984200-1660989600@www.racetime.info
SUMMARY:Race To Stop Hunger 5K Run/Walk
DESCRIPTION:Race To Stop Hunger 5K Age Group Results\n\nRace To Stop Hunger 5K Overall Results\n\nRace To Stop Hunger Team Results
URL:https://www.racetime.info/event/copy-of-race-to-stop-hunger-5k-run-walk/
LOCATION:Indian Lakes Park Golf Course\, 250 West Schick Road\, Bloomingdale\, 60108
CATEGORIES:2022-08 Results (August)
ORGANIZER;CN="Nancy Thiemann":MAILTO:racetostophunger@gmail.com
END:VEVENT
BEGIN:VEVENT
DTSTART;TZID=America/Chicago:20210828T080000
DTEND;TZID=America/Chicago:20210828T100000
DTSTAMP:20260423T210916
CREATED:20170501T172355Z
LAST-MODIFIED:20210905T175934Z
UID:10001367-1630137600-1630144800@www.racetime.info
SUMMARY:Race To Stop Hunger 5K Run/Walk
DESCRIPTION:Race To Stop Hunger 5K Age Group Results\n\nRace To Stop Hunger 5K Overall Results\n\nRace To Stop Hunger Team Results\n\nRace To Stop Hunger 5K Virtual Results
URL:https://www.racetime.info/event/race-to-stop-hunger-5k-run-walk-2/
LOCATION:Indian Lakes Park Golf Course\, 250 West Schick Road\, Bloomingdale\, 60108
CATEGORIES:2021-08 Results (August)
ORGANIZER;CN="Nancy Thiemann":MAILTO:racetostophunger@gmail.com
END:VEVENT
BEGIN:VEVENT
DTSTART;TZID=America/Chicago:20200821T080000
DTEND;TZID=America/Chicago:20200821T100000
DTSTAMP:20260423T210916
CREATED:20170501T172355Z
LAST-MODIFIED:20200625T120511Z
UID:10001364-1597996800-1598004000@www.racetime.info
SUMMARY:Race To Stop Hunger 5K Run/Walk: VIRTUAL
DESCRIPTION:
URL:https://www.racetime.info/event/race-to-stop-hunger-5k-run-walk/
LOCATION:Kids Against Hunger-Fox Valley Satellite\, 400 E. Irving Park Road\, Roselle\, IL\, 60172\, United States
ORGANIZER;CN="Nancy Thiemann":MAILTO:racetostophunger@gmail.com
GEO:41.9834419;-88.0704541
X-APPLE-STRUCTURED-LOCATION;VALUE=URI;X-ADDRESS=Kids Against Hunger-Fox Valley Satellite 400 E. Irving Park Road Roselle IL 60172 United States;X-APPLE-RADIUS=500;X-TITLE=400 E. Irving Park Road:geo:-88.0704541,41.9834419
END:VEVENT
BEGIN:VEVENT
DTSTART;TZID=America/Chicago:20190824T080000
DTEND;TZID=America/Chicago:20190824T100000
DTSTAMP:20260423T210916
CREATED:20170501T172355Z
LAST-MODIFIED:20190827T022004Z
UID:10001362-1566633600-1566640800@www.racetime.info
SUMMARY:Race To Stop Hunger 5K Run/Walk
DESCRIPTION:Race To Stop Hunger 5K Age Group Results\n\nRace To Stop Hunger 5K Overall Results\n\nRace To Stop Hunger Team Results
URL:https://www.racetime.info/event/race-against-hunger-5k-run-walk/
LOCATION:Kids Against Hunger-Fox Valley Satellite\, 400 E. Irving Park Road\, Roselle\, IL\, 60172\, United States
CATEGORIES:2019-08 Results (August)
ORGANIZER;CN="Nancy Thiemann":MAILTO:racetostophunger@gmail.com
GEO:41.9834419;-88.0704541
X-APPLE-STRUCTURED-LOCATION;VALUE=URI;X-ADDRESS=Kids Against Hunger-Fox Valley Satellite 400 E. Irving Park Road Roselle IL 60172 United States;X-APPLE-RADIUS=500;X-TITLE=400 E. Irving Park Road:geo:-88.0704541,41.9834419
END:VEVENT
BEGIN:VEVENT
DTSTART;TZID=America/Chicago:20180825T080000
DTEND;TZID=America/Chicago:20180825T100000
DTSTAMP:20260423T210916
CREATED:20170501T172355Z
LAST-MODIFIED:20180825T171512Z
UID:10001361-1535184000-1535191200@www.racetime.info
SUMMARY:Race Against Hunger 5K Run/Walk
DESCRIPTION:Race Against Hunger 5K Age Group Results\n\nRace Against Hunger 5K Overall Results\n\nRace Against Hunger Team Results
URL:https://www.racetime.info/event/kids-against-hunger-5k-run-walk/
LOCATION:Kids Against Hunger-Fox Valley Satellite\, 400 E. Irving Park Road\, Roselle\, IL\, 60172\, United States
CATEGORIES:2018-08 Results (August)
ORGANIZER;CN="Nancy Thiemann":MAILTO:racetostophunger@gmail.com
GEO:41.9834419;-88.0704541
X-APPLE-STRUCTURED-LOCATION;VALUE=URI;X-ADDRESS=Kids Against Hunger-Fox Valley Satellite 400 E. Irving Park Road Roselle IL 60172 United States;X-APPLE-RADIUS=500;X-TITLE=400 E. Irving Park Road:geo:-88.0704541,41.9834419
END:VEVENT
BEGIN:VEVENT
DTSTART;TZID=America/Chicago:20170826T080000
DTEND;TZID=America/Chicago:20170826T100000
DTSTAMP:20260423T210916
CREATED:20170501T172355Z
LAST-MODIFIED:20170826T182036Z
UID:10001359-1503734400-1503741600@www.racetime.info
SUMMARY:Kids Against Hunger 5K Run/Walk
DESCRIPTION:Race Against Hunger 5K Age Group Results\n\nRace Against Hunger 5K Overall Results
URL:https://www.racetime.info/event/kids-against-hunger-5k-runwalk/
LOCATION:Kids Against Hunger-Fox Valley Satellite\, 400 E. Irving Park Road\, Roselle\, IL\, 60172\, United States
CATEGORIES:2017-08 Results (August)
ORGANIZER;CN="Nancy Thiemann":MAILTO:racetostophunger@gmail.com
GEO:41.9834419;-88.0704541
X-APPLE-STRUCTURED-LOCATION;VALUE=URI;X-ADDRESS=Kids Against Hunger-Fox Valley Satellite 400 E. Irving Park Road Roselle IL 60172 United States;X-APPLE-RADIUS=500;X-TITLE=400 E. Irving Park Road:geo:-88.0704541,41.9834419
END:VEVENT
BEGIN:VEVENT
DTSTART;TZID=America/Chicago:20160827T071500
DTEND;TZID=America/Chicago:20160827T090000
DTSTAMP:20260423T210916
CREATED:20160414T005510Z
LAST-MODIFIED:20160827T154430Z
UID:10000616-1472282100-1472288400@www.racetime.info
SUMMARY:Race To Stop Hunger 5K Run/Walk
DESCRIPTION:Race to Stop Hunger 5K Age Group Results\n\nRace to Stop Hunger 5K Overall Results
URL:https://www.racetime.info/event/race-to-stop-hunger-5k-runwalk/
LOCATION:Kids Against Hunger-Fox Valley Satellite\, 400 E. Irving Park Road\, Roselle\, IL\, 60172\, United States
CATEGORIES:2016-08 Results (August)
ORGANIZER;CN="Nancy Thiemann":MAILTO:racetostophunger@gmail.com
GEO:41.9834419;-88.0704541
X-APPLE-STRUCTURED-LOCATION;VALUE=URI;X-ADDRESS=Kids Against Hunger-Fox Valley Satellite 400 E. Irving Park Road Roselle IL 60172 United States;X-APPLE-RADIUS=500;X-TITLE=400 E. Irving Park Road:geo:-88.0704541,41.9834419
END:VEVENT
BEGIN:VEVENT
DTSTART;TZID=America/Chicago:20150829T080000
DTEND;TZID=America/Chicago:20150829T100000
DTSTAMP:20260423T210916
CREATED:20150510T005825Z
LAST-MODIFIED:20150829T215758Z
UID:10000209-1440835200-1440842400@www.racetime.info
SUMMARY:Race To Stop Hunger
DESCRIPTION:Race To Stop Hunger 5K Age Group Results\n\nRace To Stop Hunger 5K Overall Results
URL:https://www.racetime.info/event/race-to-stop-hunger/
LOCATION:Kids Against Hunger-Fox Valley Satellite\, 400 E. Irving Park Road\, Roselle\, IL\, 60172\, United States
CATEGORIES:2015-08 Results (August)
ORGANIZER;CN="Nancy Thiemann":MAILTO:racetostophunger@gmail.com
GEO:41.9834419;-88.0704541
X-APPLE-STRUCTURED-LOCATION;VALUE=URI;X-ADDRESS=Kids Against Hunger-Fox Valley Satellite 400 E. Irving Park Road Roselle IL 60172 United States;X-APPLE-RADIUS=500;X-TITLE=400 E. Irving Park Road:geo:-88.0704541,41.9834419
END:VEVENT
END:VCALENDAR