BEGIN:VCALENDAR
VERSION:2.0
PRODID:-//Race Time - ECPv6.15.13//NONSGML v1.0//EN
CALSCALE:GREGORIAN
METHOD:PUBLISH
X-WR-CALNAME:Race Time
X-ORIGINAL-URL:https://www.racetime.info
X-WR-CALDESC:Events for Race Time
REFRESH-INTERVAL;VALUE=DURATION:PT1H
X-Robots-Tag:noindex
X-PUBLISHED-TTL:PT1H
BEGIN:VTIMEZONE
TZID:America/Chicago
BEGIN:DAYLIGHT
TZOFFSETFROM:-0600
TZOFFSETTO:-0500
TZNAME:CDT
DTSTART:20140309T080000
END:DAYLIGHT
BEGIN:STANDARD
TZOFFSETFROM:-0500
TZOFFSETTO:-0600
TZNAME:CST
DTSTART:20141102T070000
END:STANDARD
BEGIN:DAYLIGHT
TZOFFSETFROM:-0600
TZOFFSETTO:-0500
TZNAME:CDT
DTSTART:20150308T080000
END:DAYLIGHT
BEGIN:STANDARD
TZOFFSETFROM:-0500
TZOFFSETTO:-0600
TZNAME:CST
DTSTART:20151101T070000
END:STANDARD
BEGIN:DAYLIGHT
TZOFFSETFROM:-0600
TZOFFSETTO:-0500
TZNAME:CDT
DTSTART:20160313T080000
END:DAYLIGHT
BEGIN:STANDARD
TZOFFSETFROM:-0500
TZOFFSETTO:-0600
TZNAME:CST
DTSTART:20161106T070000
END:STANDARD
BEGIN:DAYLIGHT
TZOFFSETFROM:-0600
TZOFFSETTO:-0500
TZNAME:CDT
DTSTART:20170312T080000
END:DAYLIGHT
BEGIN:STANDARD
TZOFFSETFROM:-0500
TZOFFSETTO:-0600
TZNAME:CST
DTSTART:20171105T070000
END:STANDARD
BEGIN:DAYLIGHT
TZOFFSETFROM:-0600
TZOFFSETTO:-0500
TZNAME:CDT
DTSTART:20180311T080000
END:DAYLIGHT
BEGIN:STANDARD
TZOFFSETFROM:-0500
TZOFFSETTO:-0600
TZNAME:CST
DTSTART:20181104T070000
END:STANDARD
END:VTIMEZONE
BEGIN:VEVENT
DTSTART;TZID=America/Chicago:20171002T160000
DTEND;TZID=America/Chicago:20171002T170000
DTSTAMP:20260424T001251
CREATED:20171003T101902Z
LAST-MODIFIED:20171003T101902Z
UID:10001686-1506960000-1506963600@www.racetime.info
SUMMARY:LEIC Cross Country Meet
DESCRIPTION:LEIC Girls Overall Results\n\nLEIC Girls Team Results\n\nLEIC Boys Overall Results\n\nLEIC Boys Team Results
URL:https://www.racetime.info/event/leic-cross-country-meet/
LOCATION:Paris Fairgrounds\, 1104 North Main Street\, Paris \, IL\, 61944\, United States
CATEGORIES:2017 Cross Country Results
ORGANIZER;CN="Nick Sanders":MAILTO:sandersn@paris95.k12.il.us
GEO:39.630273;-87.6927984
X-APPLE-STRUCTURED-LOCATION;VALUE=URI;X-ADDRESS=Paris Fairgrounds 1104 North Main Street Paris  IL 61944 United States;X-APPLE-RADIUS=500;X-TITLE=1104 North Main Street:geo:-87.6927984,39.630273
END:VEVENT
BEGIN:VEVENT
DTSTART;TZID=America/Chicago:20170911T160000
DTEND;TZID=America/Chicago:20170911T170000
DTSTAMP:20260424T001251
CREATED:20170912T095308Z
LAST-MODIFIED:20170912T095308Z
UID:10001666-1505145600-1505149200@www.racetime.info
SUMMARY:Paris-Mayo Cross Country Meet Sept 11
DESCRIPTION:Paris Boys and Girls Overall Sept 11\n\nParis Girls Team Results Sept 11\n\nParis Boys Team Results Sept 11
URL:https://www.racetime.info/event/paris-mayo-cross-country-meet-sept-11/
LOCATION:Paris Fairgrounds\, 1104 North Main Street\, Paris \, IL\, 61944\, United States
CATEGORIES:2017 Cross Country Results
ORGANIZER;CN="Nick Sanders":MAILTO:sandersn@paris95.k12.il.us
GEO:39.630273;-87.6927984
X-APPLE-STRUCTURED-LOCATION;VALUE=URI;X-ADDRESS=Paris Fairgrounds 1104 North Main Street Paris  IL 61944 United States;X-APPLE-RADIUS=500;X-TITLE=1104 North Main Street:geo:-87.6927984,39.630273
END:VEVENT
BEGIN:VEVENT
DTSTART;TZID=America/Chicago:20170909T090000
DTEND;TZID=America/Chicago:20170909T110000
DTSTAMP:20260424T001251
CREATED:20170914T115135Z
LAST-MODIFIED:20170914T115135Z
UID:10001670-1504947600-1504954800@www.racetime.info
SUMMARY:Paris Cross Country Meet September 9
DESCRIPTION:Paris Girls Overall Results Sept 9\n\nParis Girls Team Results Sept 9\n\nParis Boys Overall Results Sept 9\n\nParis Boys Team Results Sept 9
URL:https://www.racetime.info/event/paris-cross-country-meet-september-9/
LOCATION:Paris Fairgrounds\, 1104 North Main Street\, Paris \, IL\, 61944\, United States
CATEGORIES:2017 Cross Country Results
ORGANIZER;CN="Nick Sanders":MAILTO:sandersn@paris95.k12.il.us
GEO:39.630273;-87.6927984
X-APPLE-STRUCTURED-LOCATION;VALUE=URI;X-ADDRESS=Paris Fairgrounds 1104 North Main Street Paris  IL 61944 United States;X-APPLE-RADIUS=500;X-TITLE=1104 North Main Street:geo:-87.6927984,39.630273
END:VEVENT
BEGIN:VEVENT
DTSTART;TZID=America/Chicago:20170907T160000
DTEND;TZID=America/Chicago:20170907T170000
DTSTAMP:20260424T001251
CREATED:20170908T104112Z
LAST-MODIFIED:20170908T104112Z
UID:10000839-1504800000-1504803600@www.racetime.info
SUMMARY:Paris Mayo Cross Country Meet September 7
DESCRIPTION:Paris Boys and Girls Overall Sept 7\n\nParis Girls Team Results Sept 7\n\nParis Boys Team Results Sept 7
URL:https://www.racetime.info/event/paris-mayo-cross-country-meet-september-7/
LOCATION:Paris Fairgrounds\, 1104 North Main Street\, Paris \, IL\, 61944\, United States
CATEGORIES:2017 Cross Country Results
ORGANIZER;CN="Nick Sanders":MAILTO:sandersn@paris95.k12.il.us
GEO:39.630273;-87.6927984
X-APPLE-STRUCTURED-LOCATION;VALUE=URI;X-ADDRESS=Paris Fairgrounds 1104 North Main Street Paris  IL 61944 United States;X-APPLE-RADIUS=500;X-TITLE=1104 North Main Street:geo:-87.6927984,39.630273
END:VEVENT
BEGIN:VEVENT
DTSTART;TZID=America/Chicago:20160927T160000
DTEND;TZID=America/Chicago:20160927T170000
DTSTAMP:20260424T001251
CREATED:20160830T010550Z
LAST-MODIFIED:20160927T232620Z
UID:10000309-1474992000-1474995600@www.racetime.info
SUMMARY:Paris Cross Country Meet
DESCRIPTION:Mayo XC Boys & Girls Overall Results\n\nMay XC Girls Team Results\n\nMayo XC Boys Team Results
URL:https://www.racetime.info/event/paris-cross-country-meet-5/
LOCATION:Edgar County Fairgrounds\, 1104 N. Main Street\, Paris\, IL
CATEGORIES:2016 Cross Country Results
ORGANIZER;CN="Nick Sanders":MAILTO:sandersn@paris95.k12.il.us
GEO:39.630273;-87.6927984
X-APPLE-STRUCTURED-LOCATION;VALUE=URI;X-ADDRESS=Edgar County Fairgrounds 1104 N. Main Street Paris IL;X-APPLE-RADIUS=500;X-TITLE=1104 N. Main Street:geo:-87.6927984,39.630273
END:VEVENT
BEGIN:VEVENT
DTSTART;TZID=America/Chicago:20160912T160000
DTEND;TZID=America/Chicago:20160912T173000
DTSTAMP:20260424T001251
CREATED:20160830T003250Z
LAST-MODIFIED:20160913T004351Z
UID:10000783-1473696000-1473701400@www.racetime.info
SUMMARY:Paris XX Meet
DESCRIPTION:paris-sept-12-girls-overall-results\n\nparis-sept-12-girls-team-detail-results\n\nparis-sept-12-boys-overall-results\n\nparis-sept-12-boys-team-detail-results
URL:https://www.racetime.info/event/paris-xx-meet-2/
LOCATION:Edgar County Fairgrounds\, 1104 N. Main Street\, Paris\, IL
CATEGORIES:2016 Cross Country Results
ORGANIZER;CN="Nick Sanders":MAILTO:sandersn@paris95.k12.il.us
GEO:39.630273;-87.6927984
X-APPLE-STRUCTURED-LOCATION;VALUE=URI;X-ADDRESS=Edgar County Fairgrounds 1104 N. Main Street Paris IL;X-APPLE-RADIUS=500;X-TITLE=1104 N. Main Street:geo:-87.6927984,39.630273
END:VEVENT
BEGIN:VEVENT
DTSTART;TZID=America/Chicago:20160910T100000
DTEND;TZID=America/Chicago:20160910T120000
DTSTAMP:20260424T001251
CREATED:20160829T201910Z
LAST-MODIFIED:20160911T032303Z
UID:10000778-1473501600-1473508800@www.racetime.info
SUMMARY:Redbird Invitational XX Meet
DESCRIPTION:redbird-invitational-girls-overall-results\n\nredbird-invitational-girls-team-results\n\nredbird-invitational-boys-overall-results\n\nredbird-invitational-boys-team-results
URL:https://www.racetime.info/event/paris-xx-meet/
LOCATION:Edgar County Fairgrounds\, 1104 N. Main Street\, Paris\, IL
CATEGORIES:2016 Cross Country Results
ORGANIZER;CN="Nick Sanders":MAILTO:sandersn@paris95.k12.il.us
GEO:39.630273;-87.6927984
X-APPLE-STRUCTURED-LOCATION;VALUE=URI;X-ADDRESS=Edgar County Fairgrounds 1104 N. Main Street Paris IL;X-APPLE-RADIUS=500;X-TITLE=1104 N. Main Street:geo:-87.6927984,39.630273
END:VEVENT
BEGIN:VEVENT
DTSTART;TZID=America/Chicago:20150923T164500
DTEND;TZID=America/Chicago:20150923T180000
DTSTAMP:20260424T001251
CREATED:20150904T015308Z
LAST-MODIFIED:20150924T001806Z
UID:10000120-1443026700-1443031200@www.racetime.info
SUMMARY:Mayo Paris Cross Country Meet
DESCRIPTION:Mayo Paris XC September 23 Girls Overall Report\n\nMayo Paris XC September 23 Girls Team Report\n\nMayo Paris XC September 23 Boys Overall Report\n\nMayo Paris XC September 23 Boys Team Report
URL:https://www.racetime.info/event/paris-cross-country-meet-3-2/
LOCATION:Paris Fairgrounds\, 1104 North Main Street\, Paris \, IL\, 61944\, United States
CATEGORIES:2015 Cross Country Results
ORGANIZER;CN="Nick Sanders":MAILTO:sandersn@paris95.k12.il.us
GEO:39.630273;-87.6927984
X-APPLE-STRUCTURED-LOCATION;VALUE=URI;X-ADDRESS=Paris Fairgrounds 1104 North Main Street Paris  IL 61944 United States;X-APPLE-RADIUS=500;X-TITLE=1104 North Main Street:geo:-87.6927984,39.630273
END:VEVENT
BEGIN:VEVENT
DTSTART;TZID=America/Chicago:20150914T164500
DTEND;TZID=America/Chicago:20150914T180000
DTSTAMP:20260424T001251
CREATED:20150904T015308Z
LAST-MODIFIED:20150915T013800Z
UID:10000124-1442249100-1442253600@www.racetime.info
SUMMARY:Paris Cross Country Meet
DESCRIPTION:Paris Sept 14 Girls Overall Results\n\nParis Sept 14 Girls Team Detail\n\nParis Sept 14 Boys Overall Results\n\nParis Sept 14 Boys Team Detail
URL:https://www.racetime.info/event/paris-cross-country-meet-3/
LOCATION:Paris Fairgrounds\, 1104 North Main Street\, Paris \, IL\, 61944\, United States
CATEGORIES:2015 Cross Country Results
ORGANIZER;CN="Nick Sanders":MAILTO:sandersn@paris95.k12.il.us
GEO:39.630273;-87.6927984
X-APPLE-STRUCTURED-LOCATION;VALUE=URI;X-ADDRESS=Paris Fairgrounds 1104 North Main Street Paris  IL 61944 United States;X-APPLE-RADIUS=500;X-TITLE=1104 North Main Street:geo:-87.6927984,39.630273
END:VEVENT
BEGIN:VEVENT
DTSTART;TZID=America/Chicago:20150912T100000
DTEND;TZID=America/Chicago:20150912T120000
DTSTAMP:20260424T001251
CREATED:20150904T015308Z
LAST-MODIFIED:20150915T013452Z
UID:10000123-1442052000-1442059200@www.racetime.info
SUMMARY:Redbird Invitational Cross Country Meet
DESCRIPTION:Redbird Invitational Girls Overall Results\n\nRedbird Invitational Girls Team Detail\n\nRedbird Invitational Boys Overall Results\n\nRedbird Invitational Boys Team Detail\n\nRedbird Invitational Open Overall Results
URL:https://www.racetime.info/event/paris-cross-country-meet-2/
LOCATION:Paris Fairgrounds\, 1104 North Main Street\, Paris \, IL\, 61944\, United States
CATEGORIES:2015 Cross Country Results
ORGANIZER;CN="Nick Sanders":MAILTO:sandersn@paris95.k12.il.us
GEO:39.630273;-87.6927984
X-APPLE-STRUCTURED-LOCATION;VALUE=URI;X-ADDRESS=Paris Fairgrounds 1104 North Main Street Paris  IL 61944 United States;X-APPLE-RADIUS=500;X-TITLE=1104 North Main Street:geo:-87.6927984,39.630273
END:VEVENT
BEGIN:VEVENT
DTSTART;TZID=America/Chicago:20150910T164500
DTEND;TZID=America/Chicago:20150910T180000
DTSTAMP:20260424T001251
CREATED:20150904T015308Z
LAST-MODIFIED:20150911T011805Z
UID:10000134-1441903500-1441908000@www.racetime.info
SUMMARY:Paris Cross Country Meet
DESCRIPTION:Paris Sept 10 Boys & Girls Overall\n\nParis Sept 10 Boys Detail\n\nParis Sept 10 Girls Detail
URL:https://www.racetime.info/event/paris-cross-country-meet/
LOCATION:Paris Fairgrounds\, 1104 North Main Street\, Paris \, IL\, 61944\, United States
CATEGORIES:2015 Cross Country Results
ORGANIZER;CN="Nick Sanders":MAILTO:sandersn@paris95.k12.il.us
GEO:39.630273;-87.6927984
X-APPLE-STRUCTURED-LOCATION;VALUE=URI;X-ADDRESS=Paris Fairgrounds 1104 North Main Street Paris  IL 61944 United States;X-APPLE-RADIUS=500;X-TITLE=1104 North Main Street:geo:-87.6927984,39.630273
END:VEVENT
END:VCALENDAR