BEGIN:VCALENDAR
VERSION:2.0
PRODID:-//Race Time - ECPv6.15.13//NONSGML v1.0//EN
CALSCALE:GREGORIAN
METHOD:PUBLISH
X-WR-CALNAME:Race Time
X-ORIGINAL-URL:https://www.racetime.info
X-WR-CALDESC:Events for Race Time
REFRESH-INTERVAL;VALUE=DURATION:PT1H
X-Robots-Tag:noindex
X-PUBLISHED-TTL:PT1H
BEGIN:VTIMEZONE
TZID:America/Chicago
BEGIN:DAYLIGHT
TZOFFSETFROM:-0600
TZOFFSETTO:-0500
TZNAME:CDT
DTSTART:20140309T080000
END:DAYLIGHT
BEGIN:STANDARD
TZOFFSETFROM:-0500
TZOFFSETTO:-0600
TZNAME:CST
DTSTART:20141102T070000
END:STANDARD
BEGIN:DAYLIGHT
TZOFFSETFROM:-0600
TZOFFSETTO:-0500
TZNAME:CDT
DTSTART:20150308T080000
END:DAYLIGHT
BEGIN:STANDARD
TZOFFSETFROM:-0500
TZOFFSETTO:-0600
TZNAME:CST
DTSTART:20151101T070000
END:STANDARD
BEGIN:DAYLIGHT
TZOFFSETFROM:-0600
TZOFFSETTO:-0500
TZNAME:CDT
DTSTART:20160313T080000
END:DAYLIGHT
BEGIN:STANDARD
TZOFFSETFROM:-0500
TZOFFSETTO:-0600
TZNAME:CST
DTSTART:20161106T070000
END:STANDARD
END:VTIMEZONE
BEGIN:VEVENT
DTSTART;TZID=America/Chicago:20150530T071500
DTEND;TZID=America/Chicago:20150530T120000
DTSTAMP:20260424T040022
CREATED:20150416T011828Z
LAST-MODIFIED:20150829T202136Z
UID:10000031-1432970100-1432987200@www.racetime.info
SUMMARY:IIDA 5K Fun(d) Run/Walk
DESCRIPTION:IIDA 5K+ Overall Results
URL:https://www.racetime.info/event/iida-5k-fund-runwalk/
LOCATION:Busse Woods\, Grove 29\, Elk Grove Village\, IL\, 60007\, United States
CATEGORIES:2015-05 Results (May)
ORGANIZER;CN="Nicole Miller":MAILTO:nicole.miller@3-form.com
GEO:42.0039178;-87.9703461
END:VEVENT
END:VCALENDAR