BEGIN:VCALENDAR
VERSION:2.0
PRODID:-//Race Time - ECPv6.15.13//NONSGML v1.0//EN
CALSCALE:GREGORIAN
METHOD:PUBLISH
X-WR-CALNAME:Race Time
X-ORIGINAL-URL:https://www.racetime.info
X-WR-CALDESC:Events for Race Time
REFRESH-INTERVAL;VALUE=DURATION:PT1H
X-Robots-Tag:noindex
X-PUBLISHED-TTL:PT1H
BEGIN:VTIMEZONE
TZID:America/Chicago
BEGIN:DAYLIGHT
TZOFFSETFROM:-0600
TZOFFSETTO:-0500
TZNAME:CDT
DTSTART:20140309T080000
END:DAYLIGHT
BEGIN:STANDARD
TZOFFSETFROM:-0500
TZOFFSETTO:-0600
TZNAME:CST
DTSTART:20141102T070000
END:STANDARD
BEGIN:DAYLIGHT
TZOFFSETFROM:-0600
TZOFFSETTO:-0500
TZNAME:CDT
DTSTART:20150308T080000
END:DAYLIGHT
BEGIN:STANDARD
TZOFFSETFROM:-0500
TZOFFSETTO:-0600
TZNAME:CST
DTSTART:20151101T070000
END:STANDARD
BEGIN:DAYLIGHT
TZOFFSETFROM:-0600
TZOFFSETTO:-0500
TZNAME:CDT
DTSTART:20160313T080000
END:DAYLIGHT
BEGIN:STANDARD
TZOFFSETFROM:-0500
TZOFFSETTO:-0600
TZNAME:CST
DTSTART:20161106T070000
END:STANDARD
BEGIN:DAYLIGHT
TZOFFSETFROM:-0600
TZOFFSETTO:-0500
TZNAME:CDT
DTSTART:20170312T080000
END:DAYLIGHT
BEGIN:STANDARD
TZOFFSETFROM:-0500
TZOFFSETTO:-0600
TZNAME:CST
DTSTART:20171105T070000
END:STANDARD
END:VTIMEZONE
BEGIN:VEVENT
DTSTART;TZID=America/Chicago:20160515T103000
DTEND;TZID=America/Chicago:20160515T130000
DTSTAMP:20260424T024542
CREATED:20160113T123805Z
LAST-MODIFIED:20160515T193644Z
UID:10000481-1463308200-1463317200@www.racetime.info
SUMMARY:Promise 5K Run and Walk
DESCRIPTION:Promise 5K Age Group Results\n\nPromise 5K Overall Results\n\nPromise 5K Survivors
URL:https://www.racetime.info/event/promise-5k-run-and-walk/
LOCATION:Busse Woods\, Groves 5-16\, Higgins Road & S. Arlington Heights Rd\, Elk Grove Village\, IL\, 60007\, United States
CATEGORIES:2016-05 Results (May)
ORGANIZER;CN="Nikki Mather":MAILTO:nikki.mather@preeclampsia.org
GEO:42.0126908;-87.9982495
X-APPLE-STRUCTURED-LOCATION;VALUE=URI;X-ADDRESS=Busse Woods Groves 5-16 Higgins Road & S. Arlington Heights Rd Elk Grove Village IL 60007 United States;X-APPLE-RADIUS=500;X-TITLE=Higgins Road & S. Arlington Heights Rd:geo:-87.9982495,42.0126908
END:VEVENT
BEGIN:VEVENT
DTSTART;TZID=America/Chicago:20150517T110000
DTEND;TZID=America/Chicago:20150517T150000
DTSTAMP:20260424T024542
CREATED:20150409T034505Z
LAST-MODIFIED:20150829T201933Z
UID:10000006-1431860400-1431874800@www.racetime.info
SUMMARY:Promise Run
DESCRIPTION:Promise Overall Survivors\n\nPromise 5K Age Group Results\n\nPromise 5K Overall Results
URL:https://www.racetime.info/event/promise-run-2/
LOCATION:Busse Woods\, Groves 5-10\, S. Arlington Heights Rd\, Elk Grove\, IL\, United States
CATEGORIES:2015-05 Results (May)
ORGANIZER;CN="Nikki Mather":MAILTO:nikki.mather@preeclampsia.org
GEO:42.0126908;-87.9982495
X-APPLE-STRUCTURED-LOCATION;VALUE=URI;X-ADDRESS=Busse Woods Groves 5-10 S. Arlington Heights Rd Elk Grove IL United States;X-APPLE-RADIUS=500;X-TITLE=S. Arlington Heights Rd:geo:-87.9982495,42.0126908
END:VEVENT
END:VCALENDAR