BEGIN:VCALENDAR
VERSION:2.0
PRODID:-//Race Time - ECPv6.15.13//NONSGML v1.0//EN
CALSCALE:GREGORIAN
METHOD:PUBLISH
X-WR-CALNAME:Race Time
X-ORIGINAL-URL:https://www.racetime.info
X-WR-CALDESC:Events for Race Time
REFRESH-INTERVAL;VALUE=DURATION:PT1H
X-Robots-Tag:noindex
X-PUBLISHED-TTL:PT1H
BEGIN:VTIMEZONE
TZID:America/Chicago
BEGIN:DAYLIGHT
TZOFFSETFROM:-0600
TZOFFSETTO:-0500
TZNAME:CDT
DTSTART:20170312T080000
END:DAYLIGHT
BEGIN:STANDARD
TZOFFSETFROM:-0500
TZOFFSETTO:-0600
TZNAME:CST
DTSTART:20171105T070000
END:STANDARD
BEGIN:DAYLIGHT
TZOFFSETFROM:-0600
TZOFFSETTO:-0500
TZNAME:CDT
DTSTART:20180311T080000
END:DAYLIGHT
BEGIN:STANDARD
TZOFFSETFROM:-0500
TZOFFSETTO:-0600
TZNAME:CST
DTSTART:20181104T070000
END:STANDARD
BEGIN:DAYLIGHT
TZOFFSETFROM:-0600
TZOFFSETTO:-0500
TZNAME:CDT
DTSTART:20190310T080000
END:DAYLIGHT
BEGIN:STANDARD
TZOFFSETFROM:-0500
TZOFFSETTO:-0600
TZNAME:CST
DTSTART:20191103T070000
END:STANDARD
BEGIN:DAYLIGHT
TZOFFSETFROM:-0600
TZOFFSETTO:-0500
TZNAME:CDT
DTSTART:20200308T080000
END:DAYLIGHT
BEGIN:STANDARD
TZOFFSETFROM:-0500
TZOFFSETTO:-0600
TZNAME:CST
DTSTART:20201101T070000
END:STANDARD
BEGIN:DAYLIGHT
TZOFFSETFROM:-0600
TZOFFSETTO:-0500
TZNAME:CDT
DTSTART:20210314T080000
END:DAYLIGHT
BEGIN:STANDARD
TZOFFSETFROM:-0500
TZOFFSETTO:-0600
TZNAME:CST
DTSTART:20211107T070000
END:STANDARD
END:VTIMEZONE
BEGIN:VEVENT
DTSTART;TZID=America/Chicago:20200613T080000
DTEND;TZID=America/Chicago:20200613T100000
DTSTAMP:20260424T012744
CREATED:20170317T051002Z
LAST-MODIFIED:20200429T121224Z
UID:10000516-1592035200-1592042400@www.racetime.info
SUMMARY:Block Party -5K Run/Walk & Kids Dash: CANCELLED/POSTPONED
DESCRIPTION:
URL:https://www.racetime.info/event/block-party-5k-run-walk-kids-dash-2/
LOCATION:St. Norbert Parking Lot (next To Metra Train Station)\, Walters Avenue and Lorenz Drive\, Northbrook\, IL\, 60062\, United States
ORGANIZER;CN="Pamela Berg":MAILTO:prhubart@yahoo.com
GEO:42.1275267;-87.8289548
X-APPLE-STRUCTURED-LOCATION;VALUE=URI;X-ADDRESS=St. Norbert Parking Lot (next To Metra Train Station) Walters Avenue and Lorenz Drive Northbrook IL 60062 United States;X-APPLE-RADIUS=500;X-TITLE=Walters Avenue and Lorenz Drive:geo:-87.8289548,42.1275267
END:VEVENT
BEGIN:VEVENT
DTSTART;TZID=America/Chicago:20190608T080000
DTEND;TZID=America/Chicago:20190608T100000
DTSTAMP:20260424T012744
CREATED:20170317T051002Z
LAST-MODIFIED:20190608T170617Z
UID:10000514-1559980800-1559988000@www.racetime.info
SUMMARY:Block Party -5K Run/Walk & Kids Dash
DESCRIPTION:Block Party 5K Age Group Results\n\nBlock Party 5K Overall Results\n\nBlock Party Team Results
URL:https://www.racetime.info/event/block-party-5k-run-walk-2-72-miles-kids-dash/
LOCATION:St. Norbert Parking Lot (next To Metra Train Station)\, Walters Avenue and Lorenz Drive\, Northbrook\, IL\, 60062\, United States
CATEGORIES:2019-06 Results (June)
ORGANIZER;CN="Pamela Berg":MAILTO:prhubart@yahoo.com
GEO:42.1275267;-87.8289548
X-APPLE-STRUCTURED-LOCATION;VALUE=URI;X-ADDRESS=St. Norbert Parking Lot (next To Metra Train Station) Walters Avenue and Lorenz Drive Northbrook IL 60062 United States;X-APPLE-RADIUS=500;X-TITLE=Walters Avenue and Lorenz Drive:geo:-87.8289548,42.1275267
END:VEVENT
BEGIN:VEVENT
DTSTART;TZID=America/Chicago:20180609T080000
DTEND;TZID=America/Chicago:20180609T100000
DTSTAMP:20260424T012744
CREATED:20170317T051002Z
LAST-MODIFIED:20180609T164702Z
UID:10000512-1528531200-1528538400@www.racetime.info
SUMMARY:Block Party -5K Run/Walk (2.72 Miles) & Kids Dash
DESCRIPTION:Block Party -5K Age Group Results\n\nBlock Party -5K Overall Results
URL:https://www.racetime.info/event/block-party-5k-run-walk-kids-dash/
LOCATION:St. Norbert Parking Lot (next To Metra Train Station)\, Walters Avenue and Lorenz Drive\, Northbrook\, IL\, 60062\, United States
CATEGORIES:2018-06 Results (June)
ORGANIZER;CN="Pamela Berg":MAILTO:prhubart@yahoo.com
GEO:42.1275267;-87.8289548
X-APPLE-STRUCTURED-LOCATION;VALUE=URI;X-ADDRESS=St. Norbert Parking Lot (next To Metra Train Station) Walters Avenue and Lorenz Drive Northbrook IL 60062 United States;X-APPLE-RADIUS=500;X-TITLE=Walters Avenue and Lorenz Drive:geo:-87.8289548,42.1275267
END:VEVENT
END:VCALENDAR