BEGIN:VCALENDAR
VERSION:2.0
PRODID:-//Race Time - ECPv6.15.13//NONSGML v1.0//EN
CALSCALE:GREGORIAN
METHOD:PUBLISH
X-ORIGINAL-URL:https://www.racetime.info
X-WR-CALDESC:Events for Race Time
REFRESH-INTERVAL;VALUE=DURATION:PT1H
X-Robots-Tag:noindex
X-PUBLISHED-TTL:PT1H
BEGIN:VTIMEZONE
TZID:America/Indiana/Indianapolis
BEGIN:DAYLIGHT
TZOFFSETFROM:-0500
TZOFFSETTO:-0400
TZNAME:EDT
DTSTART:20160313T070000
END:DAYLIGHT
BEGIN:STANDARD
TZOFFSETFROM:-0400
TZOFFSETTO:-0500
TZNAME:EST
DTSTART:20161106T060000
END:STANDARD
BEGIN:DAYLIGHT
TZOFFSETFROM:-0500
TZOFFSETTO:-0400
TZNAME:EDT
DTSTART:20170312T070000
END:DAYLIGHT
BEGIN:STANDARD
TZOFFSETFROM:-0400
TZOFFSETTO:-0500
TZNAME:EST
DTSTART:20171105T060000
END:STANDARD
BEGIN:DAYLIGHT
TZOFFSETFROM:-0500
TZOFFSETTO:-0400
TZNAME:EDT
DTSTART:20180311T070000
END:DAYLIGHT
BEGIN:STANDARD
TZOFFSETFROM:-0400
TZOFFSETTO:-0500
TZNAME:EST
DTSTART:20181104T060000
END:STANDARD
BEGIN:DAYLIGHT
TZOFFSETFROM:-0500
TZOFFSETTO:-0400
TZNAME:EDT
DTSTART:20190310T070000
END:DAYLIGHT
BEGIN:STANDARD
TZOFFSETFROM:-0400
TZOFFSETTO:-0500
TZNAME:EST
DTSTART:20191103T060000
END:STANDARD
BEGIN:DAYLIGHT
TZOFFSETFROM:-0500
TZOFFSETTO:-0400
TZNAME:EDT
DTSTART:20200308T070000
END:DAYLIGHT
BEGIN:STANDARD
TZOFFSETFROM:-0400
TZOFFSETTO:-0500
TZNAME:EST
DTSTART:20201101T060000
END:STANDARD
END:VTIMEZONE
BEGIN:VTIMEZONE
TZID:America/Chicago
BEGIN:DAYLIGHT
TZOFFSETFROM:-0600
TZOFFSETTO:-0500
TZNAME:CDT
DTSTART:20150308T080000
END:DAYLIGHT
BEGIN:STANDARD
TZOFFSETFROM:-0500
TZOFFSETTO:-0600
TZNAME:CST
DTSTART:20151101T070000
END:STANDARD
BEGIN:DAYLIGHT
TZOFFSETFROM:-0600
TZOFFSETTO:-0500
TZNAME:CDT
DTSTART:20160313T080000
END:DAYLIGHT
BEGIN:STANDARD
TZOFFSETFROM:-0500
TZOFFSETTO:-0600
TZNAME:CST
DTSTART:20161106T070000
END:STANDARD
BEGIN:DAYLIGHT
TZOFFSETFROM:-0600
TZOFFSETTO:-0500
TZNAME:CDT
DTSTART:20170312T080000
END:DAYLIGHT
BEGIN:STANDARD
TZOFFSETFROM:-0500
TZOFFSETTO:-0600
TZNAME:CST
DTSTART:20171105T070000
END:STANDARD
END:VTIMEZONE
BEGIN:VEVENT
DTSTART;TZID=America/Indiana/Indianapolis:20190921T090000
DTEND;TZID=America/Indiana/Indianapolis:20190921T230000
DTSTAMP:20260424T012511
CREATED:20170315T203715Z
LAST-MODIFIED:20190921T201305Z
UID:10001211-1569056400-1569106800@www.racetime.info
SUMMARY:Doggie Dash & Dawdle 5K & 1 Mile Run/Walk
DESCRIPTION:Doggie Dash & Dawdle 5K Age Group Results\n\nDoggie Dash & Dawdle 5K Overall Results
URL:https://www.racetime.info/event/doggie-dash-dawdle-5k-1-mile-run-walk-2/
LOCATION:Attica Elementary School\, 500 E. Washington Street\, Attica\, IL\, 47918\, United States
CATEGORIES:2019-09 Results (September)
ORGANIZER;CN="Patricia Hargan":MAILTO:phargan19@gmail.com
GEO:40.2901968;-87.2433914
X-APPLE-STRUCTURED-LOCATION;VALUE=URI;X-ADDRESS=Attica Elementary School 500 E. Washington Street Attica IL 47918 United States;X-APPLE-RADIUS=500;X-TITLE=500 E. Washington Street:geo:-87.2433914,40.2901968
END:VEVENT
BEGIN:VEVENT
DTSTART;TZID=America/Indiana/Indianapolis:20180519T090000
DTEND;TZID=America/Indiana/Indianapolis:20180519T230000
DTSTAMP:20260424T012511
CREATED:20170315T203715Z
LAST-MODIFIED:20180519T201733Z
UID:10001210-1526720400-1526770800@www.racetime.info
SUMMARY:Doggie Dash & Dawdle 5K & 1 Mile Run/Walk
DESCRIPTION:Doggie Dash 5K Age Group Results\n\nDoggie Dash 5K Overall Results
URL:https://www.racetime.info/event/doggie-dash-dawdle-5k-1-mile-run-walk/
LOCATION:Attica Elementary School\, 500 E. Washington Street\, Attica\, IL\, 47918\, United States
CATEGORIES:2018-05 Results (May)
ORGANIZER;CN="Patricia Hargan":MAILTO:phargan19@gmail.com
GEO:40.2901968;-87.2433914
X-APPLE-STRUCTURED-LOCATION;VALUE=URI;X-ADDRESS=Attica Elementary School 500 E. Washington Street Attica IL 47918 United States;X-APPLE-RADIUS=500;X-TITLE=500 E. Washington Street:geo:-87.2433914,40.2901968
END:VEVENT
BEGIN:VEVENT
DTSTART;TZID=America/Indiana/Indianapolis:20170520T090000
DTEND;TZID=America/Indiana/Indianapolis:20170520T230000
DTSTAMP:20260424T012511
CREATED:20170315T203715Z
LAST-MODIFIED:20170520T224626Z
UID:10001206-1495270800-1495321200@www.racetime.info
SUMMARY:Doggie Dash & Dawdle 5K & 1 Mile Run/Walk
DESCRIPTION:Doggie Dash 5K Age Group Results\n\nDoggie Dash 5K Overall Results
URL:https://www.racetime.info/event/doggie-dash-dawdle-5k-1-mile-runwalk/
LOCATION:Attica Elementary School\, 500 E. Washington Street\, Attica\, IL\, 47918\, United States
CATEGORIES:2017-05 Results (May)
ORGANIZER;CN="Patricia Hargan":MAILTO:phargan19@gmail.com
GEO:40.2901968;-87.2433914
X-APPLE-STRUCTURED-LOCATION;VALUE=URI;X-ADDRESS=Attica Elementary School 500 E. Washington Street Attica IL 47918 United States;X-APPLE-RADIUS=500;X-TITLE=500 E. Washington Street:geo:-87.2433914,40.2901968
END:VEVENT
BEGIN:VEVENT
DTSTART;TZID=America/Chicago:20160430T090000
DTEND;TZID=America/Chicago:20160430T110000
DTSTAMP:20260424T012511
CREATED:20160113T182716Z
LAST-MODIFIED:20160430T224144Z
UID:10000483-1462006800-1462014000@www.racetime.info
SUMMARY:Doggie Dash and Dawdle 5K & 1 Mile Run/Walk
DESCRIPTION:Doggie Dash & Dawdle 5K Age Group Results\n\nDoggie Dash & Dawdle 5K Overall Results
URL:https://www.racetime.info/event/doggie-dash-and-dawdle-5k-1-mile-runwalk/
LOCATION:Attica Elementary School\, 500 E. Washington Street\, Attica\, IL\, 47918\, United States
CATEGORIES:2016-04 Results (April)
ORGANIZER;CN="Patricia Hargan":MAILTO:phargan19@gmail.com
GEO:40.2901968;-87.2433914
X-APPLE-STRUCTURED-LOCATION;VALUE=URI;X-ADDRESS=Attica Elementary School 500 E. Washington Street Attica IL 47918 United States;X-APPLE-RADIUS=500;X-TITLE=500 E. Washington Street:geo:-87.2433914,40.2901968
END:VEVENT
END:VCALENDAR