BEGIN:VCALENDAR
VERSION:2.0
PRODID:-//Race Time - ECPv6.15.13//NONSGML v1.0//EN
CALSCALE:GREGORIAN
METHOD:PUBLISH
X-WR-CALNAME:Race Time
X-ORIGINAL-URL:https://www.racetime.info
X-WR-CALDESC:Events for Race Time
REFRESH-INTERVAL;VALUE=DURATION:PT1H
X-Robots-Tag:noindex
X-PUBLISHED-TTL:PT1H
BEGIN:VTIMEZONE
TZID:America/Chicago
BEGIN:DAYLIGHT
TZOFFSETFROM:-0600
TZOFFSETTO:-0500
TZNAME:CDT
DTSTART:20140309T080000
END:DAYLIGHT
BEGIN:STANDARD
TZOFFSETFROM:-0500
TZOFFSETTO:-0600
TZNAME:CST
DTSTART:20141102T070000
END:STANDARD
BEGIN:DAYLIGHT
TZOFFSETFROM:-0600
TZOFFSETTO:-0500
TZNAME:CDT
DTSTART:20150308T080000
END:DAYLIGHT
BEGIN:STANDARD
TZOFFSETFROM:-0500
TZOFFSETTO:-0600
TZNAME:CST
DTSTART:20151101T070000
END:STANDARD
BEGIN:DAYLIGHT
TZOFFSETFROM:-0600
TZOFFSETTO:-0500
TZNAME:CDT
DTSTART:20160313T080000
END:DAYLIGHT
BEGIN:STANDARD
TZOFFSETFROM:-0500
TZOFFSETTO:-0600
TZNAME:CST
DTSTART:20161106T070000
END:STANDARD
END:VTIMEZONE
BEGIN:VEVENT
DTSTART;TZID=America/Chicago:20150815T080000
DTEND;TZID=America/Chicago:20150815T110000
DTSTAMP:20260424T024340
CREATED:20150626T203418Z
LAST-MODIFIED:20150815T172123Z
UID:10000288-1439625600-1439636400@www.racetime.info
SUMMARY:Kariann Hill Breast Cancer 5K Run/Walk Benefit
DESCRIPTION:Kariann Hill 5K Age Group Results\n\nKariann Hill 5K Overall Results
URL:https://www.racetime.info/event/kariann-hill-breast-cancer-5k-runwalk-benefit/
LOCATION:Round Lake Area Park District\, 2004 N. Municipal Wy\, Round Lake Beach\, IL\, 60073\, United States
CATEGORIES:2015-08 Results (August)
ORGANIZER;CN="Patrick Murray":MAILTO:pmurray0247@gmail.com
GEO:42.3843311;-88.0721672
X-APPLE-STRUCTURED-LOCATION;VALUE=URI;X-ADDRESS=Round Lake Area Park District 2004 N. Municipal Wy Round Lake Beach IL 60073 United States;X-APPLE-RADIUS=500;X-TITLE=2004 N. Municipal Wy:geo:-88.0721672,42.3843311
END:VEVENT
END:VCALENDAR