BEGIN:VCALENDAR
VERSION:2.0
PRODID:-//Race Time - ECPv6.15.13//NONSGML v1.0//EN
CALSCALE:GREGORIAN
METHOD:PUBLISH
X-ORIGINAL-URL:https://www.racetime.info
X-WR-CALDESC:Events for Race Time
REFRESH-INTERVAL;VALUE=DURATION:PT1H
X-Robots-Tag:noindex
X-PUBLISHED-TTL:PT1H
BEGIN:VTIMEZONE
TZID:America/Chicago
BEGIN:DAYLIGHT
TZOFFSETFROM:-0600
TZOFFSETTO:-0500
TZNAME:CDT
DTSTART:20170312T080000
END:DAYLIGHT
BEGIN:STANDARD
TZOFFSETFROM:-0500
TZOFFSETTO:-0600
TZNAME:CST
DTSTART:20171105T070000
END:STANDARD
BEGIN:DAYLIGHT
TZOFFSETFROM:-0600
TZOFFSETTO:-0500
TZNAME:CDT
DTSTART:20180311T080000
END:DAYLIGHT
BEGIN:STANDARD
TZOFFSETFROM:-0500
TZOFFSETTO:-0600
TZNAME:CST
DTSTART:20181104T070000
END:STANDARD
BEGIN:DAYLIGHT
TZOFFSETFROM:-0600
TZOFFSETTO:-0500
TZNAME:CDT
DTSTART:20190310T080000
END:DAYLIGHT
BEGIN:STANDARD
TZOFFSETFROM:-0500
TZOFFSETTO:-0600
TZNAME:CST
DTSTART:20191103T070000
END:STANDARD
END:VTIMEZONE
BEGIN:VEVENT
DTSTART;TZID=America/Chicago:20180811T073000
DTEND;TZID=America/Chicago:20180811T100000
DTSTAMP:20260424T041314
CREATED:20180608T154829Z
LAST-MODIFIED:20180811T171100Z
UID:10001804-1533972600-1533981600@www.racetime.info
SUMMARY:St. Francis of Assisi Summerfest 5K Run/Walk
DESCRIPTION:St. Francis Summerfest 5K Overall Results
URL:https://www.racetime.info/event/st-francis-of-assisi-summerfest-5k-run-walk/
LOCATION:St. Francis of Assisi\, 15050 Wolf Road\, Orland Park\, IL\, 60467\, United States
CATEGORIES:2018-08 Results (August)
ORGANIZER;CN="Paula Belski":MAILTO:pbelski@sfaorland.org
GEO:41.615356;-87.8930947
X-APPLE-STRUCTURED-LOCATION;VALUE=URI;X-ADDRESS=St. Francis of Assisi 15050 Wolf Road Orland Park IL 60467 United States;X-APPLE-RADIUS=500;X-TITLE=15050 Wolf Road:geo:-87.8930947,41.615356
END:VEVENT
END:VCALENDAR