BEGIN:VCALENDAR
VERSION:2.0
PRODID:-//Race Time - ECPv6.15.13//NONSGML v1.0//EN
CALSCALE:GREGORIAN
METHOD:PUBLISH
X-WR-CALNAME:Race Time
X-ORIGINAL-URL:https://www.racetime.info
X-WR-CALDESC:Events for Race Time
REFRESH-INTERVAL;VALUE=DURATION:PT1H
X-Robots-Tag:noindex
X-PUBLISHED-TTL:PT1H
BEGIN:VTIMEZONE
TZID:America/Chicago
BEGIN:DAYLIGHT
TZOFFSETFROM:-0600
TZOFFSETTO:-0500
TZNAME:CDT
DTSTART:20210314T080000
END:DAYLIGHT
BEGIN:STANDARD
TZOFFSETFROM:-0500
TZOFFSETTO:-0600
TZNAME:CST
DTSTART:20211107T070000
END:STANDARD
BEGIN:DAYLIGHT
TZOFFSETFROM:-0600
TZOFFSETTO:-0500
TZNAME:CDT
DTSTART:20220313T080000
END:DAYLIGHT
BEGIN:STANDARD
TZOFFSETFROM:-0500
TZOFFSETTO:-0600
TZNAME:CST
DTSTART:20221106T070000
END:STANDARD
BEGIN:DAYLIGHT
TZOFFSETFROM:-0600
TZOFFSETTO:-0500
TZNAME:CDT
DTSTART:20230312T080000
END:DAYLIGHT
BEGIN:STANDARD
TZOFFSETFROM:-0500
TZOFFSETTO:-0600
TZNAME:CST
DTSTART:20231105T070000
END:STANDARD
BEGIN:DAYLIGHT
TZOFFSETFROM:-0600
TZOFFSETTO:-0500
TZNAME:CDT
DTSTART:20240310T080000
END:DAYLIGHT
BEGIN:STANDARD
TZOFFSETFROM:-0500
TZOFFSETTO:-0600
TZNAME:CST
DTSTART:20241103T070000
END:STANDARD
BEGIN:DAYLIGHT
TZOFFSETFROM:-0600
TZOFFSETTO:-0500
TZNAME:CDT
DTSTART:20250309T080000
END:DAYLIGHT
BEGIN:STANDARD
TZOFFSETFROM:-0500
TZOFFSETTO:-0600
TZNAME:CST
DTSTART:20251102T070000
END:STANDARD
BEGIN:DAYLIGHT
TZOFFSETFROM:-0600
TZOFFSETTO:-0500
TZNAME:CDT
DTSTART:20260308T080000
END:DAYLIGHT
BEGIN:STANDARD
TZOFFSETFROM:-0500
TZOFFSETTO:-0600
TZNAME:CST
DTSTART:20261101T070000
END:STANDARD
END:VTIMEZONE
BEGIN:VEVENT
DTSTART;TZID=America/Chicago:20250927T091500
DTEND;TZID=America/Chicago:20250927T113000
DTSTAMP:20260423T212859
CREATED:20250728T114212Z
LAST-MODIFIED:20250927T165057Z
UID:10002391-1758964500-1758972600@www.racetime.info
SUMMARY:Mark Bancroft 5K Run/Walk & Youth Dash for Charity
DESCRIPTION:Mark Bancroft 5K Overall Results
URL:https://www.racetime.info/event/mark-bancroft-5k-run-walk-youth-dash-for-charity/
LOCATION:Waubonsie Lake Park\, 998 Knautz Road\, Aurora\, IL\, 60504\, United States
CATEGORIES:2025-09 Results (September)
ORGANIZER;CN="Rick Marsh":MAILTO:richardmarsh2@aol.com
GEO:41.7386015;-88.2619044
X-APPLE-STRUCTURED-LOCATION;VALUE=URI;X-ADDRESS=Waubonsie Lake Park 998 Knautz Road Aurora IL 60504 United States;X-APPLE-RADIUS=500;X-TITLE=998 Knautz Road:geo:-88.2619044,41.7386015
END:VEVENT
BEGIN:VEVENT
DTSTART;TZID=America/Chicago:20241005T091500
DTEND;TZID=America/Chicago:20241005T113000
DTSTAMP:20260423T212859
CREATED:20210913T114024Z
LAST-MODIFIED:20241005T193119Z
UID:10001239-1728119700-1728127800@www.racetime.info
SUMMARY:Mark Bancroft 5K Run/Walk & Youth Dash for Charity
DESCRIPTION:Mark Bancroft Memorial 5K Overall Results
URL:https://www.racetime.info/event/copy-of-mark-bancroft-5k-run-walk-for-charity-3/
LOCATION:Waubonsie Lake Park\, 998 Knautz Road\, Aurora\, IL\, 60504\, United States
CATEGORIES:2024-10 Results (October)
ORGANIZER;CN="Rick Marsh":MAILTO:richardmarsh2@aol.com
GEO:41.7386015;-88.2619044
X-APPLE-STRUCTURED-LOCATION;VALUE=URI;X-ADDRESS=Waubonsie Lake Park 998 Knautz Road Aurora IL 60504 United States;X-APPLE-RADIUS=500;X-TITLE=998 Knautz Road:geo:-88.2619044,41.7386015
END:VEVENT
BEGIN:VEVENT
DTSTART;TZID=America/Chicago:20230930T093000
DTEND;TZID=America/Chicago:20230930T130000
DTSTAMP:20260423T212859
CREATED:20210913T114024Z
LAST-MODIFIED:20230930T232256Z
UID:10001238-1696066200-1696078800@www.racetime.info
SUMMARY:Mark Bancroft 5K Run/Walk for Charity
DESCRIPTION:Mark Bancroft 5K Overall Results
URL:https://www.racetime.info/event/copy-of-mark-bancroft-5k-run-walk-for-charity-2/
LOCATION:Waubonsie Lake Park\, 998 Knautz Road\, Aurora\, IL\, 60504\, United States
CATEGORIES:2023-09 Results (September)
ORGANIZER;CN="Rick Marsh":MAILTO:richardmarsh2@aol.com
GEO:41.7386015;-88.2619044
X-APPLE-STRUCTURED-LOCATION;VALUE=URI;X-ADDRESS=Waubonsie Lake Park 998 Knautz Road Aurora IL 60504 United States;X-APPLE-RADIUS=500;X-TITLE=998 Knautz Road:geo:-88.2619044,41.7386015
END:VEVENT
BEGIN:VEVENT
DTSTART;TZID=America/Chicago:20221008T103000
DTEND;TZID=America/Chicago:20221008T133000
DTSTAMP:20260423T212859
CREATED:20210913T114024Z
LAST-MODIFIED:20221008T194251Z
UID:10001237-1665225000-1665235800@www.racetime.info
SUMMARY:Mark Bancroft 5K Run/Walk for Charity
DESCRIPTION:Mark Bancroft 5K Overall Results
URL:https://www.racetime.info/event/copy-of-mark-bancroft-5k-run-walk-for-charity/
LOCATION:Waubonsie Lake Park\, 998 Knautz Road\, Aurora\, IL\, 60504\, United States
CATEGORIES:2022-10 Results (October)
ORGANIZER;CN="Rick Marsh":MAILTO:richardmarsh2@aol.com
GEO:41.7386015;-88.2619044
X-APPLE-STRUCTURED-LOCATION;VALUE=URI;X-ADDRESS=Waubonsie Lake Park 998 Knautz Road Aurora IL 60504 United States;X-APPLE-RADIUS=500;X-TITLE=998 Knautz Road:geo:-88.2619044,41.7386015
END:VEVENT
END:VCALENDAR