BEGIN:VCALENDAR
VERSION:2.0
PRODID:-//Race Time - ECPv6.15.13//NONSGML v1.0//EN
CALSCALE:GREGORIAN
METHOD:PUBLISH
X-ORIGINAL-URL:https://www.racetime.info
X-WR-CALDESC:Events for Race Time
REFRESH-INTERVAL;VALUE=DURATION:PT1H
X-Robots-Tag:noindex
X-PUBLISHED-TTL:PT1H
BEGIN:VTIMEZONE
TZID:America/Chicago
BEGIN:DAYLIGHT
TZOFFSETFROM:-0600
TZOFFSETTO:-0500
TZNAME:CDT
DTSTART:20170312T080000
END:DAYLIGHT
BEGIN:STANDARD
TZOFFSETFROM:-0500
TZOFFSETTO:-0600
TZNAME:CST
DTSTART:20171105T070000
END:STANDARD
BEGIN:DAYLIGHT
TZOFFSETFROM:-0600
TZOFFSETTO:-0500
TZNAME:CDT
DTSTART:20180311T080000
END:DAYLIGHT
BEGIN:STANDARD
TZOFFSETFROM:-0500
TZOFFSETTO:-0600
TZNAME:CST
DTSTART:20181104T070000
END:STANDARD
BEGIN:DAYLIGHT
TZOFFSETFROM:-0600
TZOFFSETTO:-0500
TZNAME:CDT
DTSTART:20190310T080000
END:DAYLIGHT
BEGIN:STANDARD
TZOFFSETFROM:-0500
TZOFFSETTO:-0600
TZNAME:CST
DTSTART:20191103T070000
END:STANDARD
END:VTIMEZONE
BEGIN:VEVENT
DTSTART;TZID=America/Chicago:20180701T100000
DTEND;TZID=America/Chicago:20180701T113000
DTSTAMP:20260424T012352
CREATED:20180614T113036Z
LAST-MODIFIED:20180701T215630Z
UID:10001806-1530439200-1530444600@www.racetime.info
SUMMARY:Kirkland Lions Fourth of July 5K Run/Walk
DESCRIPTION:Kirkland 5K Age Group Results\n\nKirkland 5K Overall Results
URL:https://www.racetime.info/event/kirkland-lions-fourth-of-july-5k-run-walk/
LOCATION:Franklin Township Park\, 200 Park Street\, Kirkland\, IL\, 60146\, United States
CATEGORIES:2018-07 Results (July)
ORGANIZER;CN="Phil Montgomery":MAILTO:kirkland4thofjuly5k@gmail.com
GEO:42.0908838;-88.8449792
X-APPLE-STRUCTURED-LOCATION;VALUE=URI;X-ADDRESS=Franklin Township Park 200 Park Street Kirkland IL 60146 United States;X-APPLE-RADIUS=500;X-TITLE=200 Park Street:geo:-88.8449792,42.0908838
END:VEVENT
END:VCALENDAR