BEGIN:VCALENDAR
VERSION:2.0
PRODID:-//Race Time - ECPv6.15.13//NONSGML v1.0//EN
CALSCALE:GREGORIAN
METHOD:PUBLISH
X-WR-CALNAME:Race Time
X-ORIGINAL-URL:https://www.racetime.info
X-WR-CALDESC:Events for Race Time
REFRESH-INTERVAL;VALUE=DURATION:PT1H
X-Robots-Tag:noindex
X-PUBLISHED-TTL:PT1H
BEGIN:VTIMEZONE
TZID:America/Chicago
BEGIN:DAYLIGHT
TZOFFSETFROM:-0600
TZOFFSETTO:-0500
TZNAME:CDT
DTSTART:20190310T080000
END:DAYLIGHT
BEGIN:STANDARD
TZOFFSETFROM:-0500
TZOFFSETTO:-0600
TZNAME:CST
DTSTART:20191103T070000
END:STANDARD
BEGIN:DAYLIGHT
TZOFFSETFROM:-0600
TZOFFSETTO:-0500
TZNAME:CDT
DTSTART:20200308T080000
END:DAYLIGHT
BEGIN:STANDARD
TZOFFSETFROM:-0500
TZOFFSETTO:-0600
TZNAME:CST
DTSTART:20201101T070000
END:STANDARD
BEGIN:DAYLIGHT
TZOFFSETFROM:-0600
TZOFFSETTO:-0500
TZNAME:CDT
DTSTART:20210314T080000
END:DAYLIGHT
BEGIN:STANDARD
TZOFFSETFROM:-0500
TZOFFSETTO:-0600
TZNAME:CST
DTSTART:20211107T070000
END:STANDARD
BEGIN:DAYLIGHT
TZOFFSETFROM:-0600
TZOFFSETTO:-0500
TZNAME:CDT
DTSTART:20220313T080000
END:DAYLIGHT
BEGIN:STANDARD
TZOFFSETFROM:-0500
TZOFFSETTO:-0600
TZNAME:CST
DTSTART:20221106T070000
END:STANDARD
BEGIN:DAYLIGHT
TZOFFSETFROM:-0600
TZOFFSETTO:-0500
TZNAME:CDT
DTSTART:20230312T080000
END:DAYLIGHT
BEGIN:STANDARD
TZOFFSETFROM:-0500
TZOFFSETTO:-0600
TZNAME:CST
DTSTART:20231105T070000
END:STANDARD
BEGIN:DAYLIGHT
TZOFFSETFROM:-0600
TZOFFSETTO:-0500
TZNAME:CDT
DTSTART:20240310T080000
END:DAYLIGHT
BEGIN:STANDARD
TZOFFSETFROM:-0500
TZOFFSETTO:-0600
TZNAME:CST
DTSTART:20241103T070000
END:STANDARD
BEGIN:DAYLIGHT
TZOFFSETFROM:-0600
TZOFFSETTO:-0500
TZNAME:CDT
DTSTART:20250309T080000
END:DAYLIGHT
BEGIN:STANDARD
TZOFFSETFROM:-0500
TZOFFSETTO:-0600
TZNAME:CST
DTSTART:20251102T070000
END:STANDARD
BEGIN:DAYLIGHT
TZOFFSETFROM:-0600
TZOFFSETTO:-0500
TZNAME:CDT
DTSTART:20260308T080000
END:DAYLIGHT
BEGIN:STANDARD
TZOFFSETFROM:-0500
TZOFFSETTO:-0600
TZNAME:CST
DTSTART:20261101T070000
END:STANDARD
END:VTIMEZONE
BEGIN:VEVENT
DTSTART;TZID=America/Chicago:20250716T181500
DTEND;TZID=America/Chicago:20250716T200000
DTSTAMP:20260423T195918
CREATED:20250322T123026Z
LAST-MODIFIED:20250701T174447Z
UID:10002295-1752689700-1752696000@www.racetime.info
SUMMARY:Summer Sunset 5K Run/Walk & Youth Runs
DESCRIPTION:
URL:https://www.racetime.info/event/summer-sunset-5k-run-walk-youth-runs-2/
LOCATION:Pottawatomi Park\, 8 North Avenue\, St. Charles\, IL\, 60174\, United States
ORGANIZER;CN="Race Director Fox River Trail Runners":MAILTO:summersunset@foxrivertrailrunners.org
GEO:41.9210527;-88.3158804
X-APPLE-STRUCTURED-LOCATION;VALUE=URI;X-ADDRESS=Pottawatomi Park 8 North Avenue St. Charles IL 60174 United States;X-APPLE-RADIUS=500;X-TITLE=8 North Avenue:geo:-88.3158804,41.9210527
END:VEVENT
BEGIN:VEVENT
DTSTART;TZID=America/Chicago:20240717T181500
DTEND;TZID=America/Chicago:20240717T200000
DTSTAMP:20260423T195918
CREATED:20210604T114102Z
LAST-MODIFIED:20240613T110044Z
UID:10001993-1721240100-1721246400@www.racetime.info
SUMMARY:Summer Sunset 5K Run/Walk & Youth Runs
DESCRIPTION:
URL:https://www.racetime.info/event/copy-of-summer-sunset-5k-run-walk-youth-runs-2/
LOCATION:Pottawatomi Park\, 8 North Avenue\, St. Charles\, IL\, 60174\, United States
ORGANIZER;CN="Race Director Fox River Trail Runners":MAILTO:summersunset@foxrivertrailrunners.org
GEO:41.9210527;-88.3158804
X-APPLE-STRUCTURED-LOCATION;VALUE=URI;X-ADDRESS=Pottawatomi Park 8 North Avenue St. Charles IL 60174 United States;X-APPLE-RADIUS=500;X-TITLE=8 North Avenue:geo:-88.3158804,41.9210527
END:VEVENT
BEGIN:VEVENT
DTSTART;TZID=America/Chicago:20220720T180000
DTEND;TZID=America/Chicago:20220720T200000
DTSTAMP:20260423T195918
CREATED:20210604T114102Z
LAST-MODIFIED:20220721T043951Z
UID:10001992-1658340000-1658347200@www.racetime.info
SUMMARY:Summer Sunset 5K Run/Walk & Youth Runs
DESCRIPTION:Summer Sunset Youth Races\n\nSummer Sunset 5K Age Group Results\n\nSummer Sunset 5K Overall Results\n \nIf you were not able to stay for the award ceremony and you have placed in your age group\, please contact Race Time at racetime21@hotmail.com and we can ship your medal to you.
URL:https://www.racetime.info/event/copy-of-summer-sunset-5k-run-walk-youth-runs/
LOCATION:Pottawatomi Park\, 8 North Avenue\, St. Charles\, IL\, 60174\, United States
CATEGORIES:2022-07 Results (July)
ORGANIZER;CN="Race Director Fox River Trail Runners":MAILTO:summersunset@foxrivertrailrunners.org
GEO:41.9210527;-88.3158804
X-APPLE-STRUCTURED-LOCATION;VALUE=URI;X-ADDRESS=Pottawatomi Park 8 North Avenue St. Charles IL 60174 United States;X-APPLE-RADIUS=500;X-TITLE=8 North Avenue:geo:-88.3158804,41.9210527
END:VEVENT
BEGIN:VEVENT
DTSTART;TZID=America/Chicago:20220501T070000
DTEND;TZID=America/Chicago:20220501T110000
DTSTAMP:20260423T195918
CREATED:20200214T135527Z
LAST-MODIFIED:20220510T012134Z
UID:10001936-1651388400-1651402800@www.racetime.info
SUMMARY:Great Western Half Marathon & 10K
DESCRIPTION:Great Western 10K Age Group Results\n\nGreat Western 10K Overall Results\n\nGreat Western Half Marathon Age Group Results\n\nGreat Western Half Marathon Overall Results\n\nGreat Western Half Marathon Pacers
URL:https://www.racetime.info/event/great-western-half-marathon-10k/
LOCATION:LeRoy Oakes Forest Preserve\, 37W584 Dean Street\, St. Charles\, IL\, 60175\, United States
CATEGORIES:2022-05 Results (May)
ORGANIZER;CN="Race Director Fox River Trail Runners":MAILTO:summersunset@foxrivertrailrunners.org
GEO:41.929212;-88.352091
X-APPLE-STRUCTURED-LOCATION;VALUE=URI;X-ADDRESS=LeRoy Oakes Forest Preserve 37W584 Dean Street St. Charles IL 60175 United States;X-APPLE-RADIUS=500;X-TITLE=37W584 Dean Street:geo:-88.352091,41.929212
END:VEVENT
BEGIN:VEVENT
DTSTART;TZID=America/Chicago:20210721T181500
DTEND;TZID=America/Chicago:20210721T203000
DTSTAMP:20260423T195918
CREATED:20210604T114102Z
LAST-MODIFIED:20210722T150253Z
UID:10001991-1626891300-1626899400@www.racetime.info
SUMMARY:Summer Sunset 5K Run/Walk & Youth Runs
DESCRIPTION:Summer Sunset Youth Runs\n\nSummer Sunset 5K Age Group Results\n\nSummer Sunset 5K Overall Results
URL:https://www.racetime.info/event/summer-sunset-5k-run-walk-youth-runs/
LOCATION:LeRoy Oakes Forest Preserve\, 37W584 Dean Street\, St. Charles\, IL\, 60175\, United States
CATEGORIES:2021-07 Results (July)
ORGANIZER;CN="Race Director Fox River Trail Runners":MAILTO:summersunset@foxrivertrailrunners.org
GEO:41.929212;-88.352091
X-APPLE-STRUCTURED-LOCATION;VALUE=URI;X-ADDRESS=LeRoy Oakes Forest Preserve 37W584 Dean Street St. Charles IL 60175 United States;X-APPLE-RADIUS=500;X-TITLE=37W584 Dean Street:geo:-88.352091,41.929212
END:VEVENT
BEGIN:VEVENT
DTSTART;TZID=America/Chicago:20210502T060000
DTEND;TZID=America/Chicago:20210502T100000
DTSTAMP:20260423T195918
CREATED:20200214T135527Z
LAST-MODIFIED:20210505T220059Z
UID:10001935-1619935200-1619949600@www.racetime.info
SUMMARY:Great Western Half Marathon & 10K
DESCRIPTION:Great Western 10K Overall Results\n\nGreat Western Half Marathon Overall Results
URL:https://www.racetime.info/event/great-western-half-marathon-cancelled/
LOCATION:LeRoy Oakes Forest Preserve\, 37W584 Dean Street\, St. Charles\, IL\, 60175\, United States
CATEGORIES:2021-05 Results (May)
ORGANIZER;CN="Race Director Fox River Trail Runners":MAILTO:summersunset@foxrivertrailrunners.org
GEO:41.929212;-88.352091
X-APPLE-STRUCTURED-LOCATION;VALUE=URI;X-ADDRESS=LeRoy Oakes Forest Preserve 37W584 Dean Street St. Charles IL 60175 United States;X-APPLE-RADIUS=500;X-TITLE=37W584 Dean Street:geo:-88.352091,41.929212
END:VEVENT
BEGIN:VEVENT
DTSTART;TZID=America/Chicago:20200503T070000
DTEND;TZID=America/Chicago:20200503T110000
DTSTAMP:20260423T195918
CREATED:20200214T135527Z
LAST-MODIFIED:20200317T112033Z
UID:10001934-1588489200-1588503600@www.racetime.info
SUMMARY:Great Western Half Marathon: CANCELLED
DESCRIPTION:
URL:https://www.racetime.info/event/great-western-half-marathon/
LOCATION:LeRoy Oakes Forest Preserve\, 37W584 Dean Street\, St. Charles\, IL\, 60175\, United States
ORGANIZER;CN="Race Director Fox River Trail Runners":MAILTO:summersunset@foxrivertrailrunners.org
GEO:41.929212;-88.352091
X-APPLE-STRUCTURED-LOCATION;VALUE=URI;X-ADDRESS=LeRoy Oakes Forest Preserve 37W584 Dean Street St. Charles IL 60175 United States;X-APPLE-RADIUS=500;X-TITLE=37W584 Dean Street:geo:-88.352091,41.929212
END:VEVENT
END:VCALENDAR