BEGIN:VCALENDAR
VERSION:2.0
PRODID:-//Race Time - ECPv6.15.13//NONSGML v1.0//EN
CALSCALE:GREGORIAN
METHOD:PUBLISH
X-WR-CALNAME:Race Time
X-ORIGINAL-URL:https://www.racetime.info
X-WR-CALDESC:Events for Race Time
REFRESH-INTERVAL;VALUE=DURATION:PT1H
X-Robots-Tag:noindex
X-PUBLISHED-TTL:PT1H
BEGIN:VTIMEZONE
TZID:America/Chicago
BEGIN:DAYLIGHT
TZOFFSETFROM:-0600
TZOFFSETTO:-0500
TZNAME:CDT
DTSTART:20160313T080000
END:DAYLIGHT
BEGIN:STANDARD
TZOFFSETFROM:-0500
TZOFFSETTO:-0600
TZNAME:CST
DTSTART:20161106T070000
END:STANDARD
BEGIN:DAYLIGHT
TZOFFSETFROM:-0600
TZOFFSETTO:-0500
TZNAME:CDT
DTSTART:20170312T080000
END:DAYLIGHT
BEGIN:STANDARD
TZOFFSETFROM:-0500
TZOFFSETTO:-0600
TZNAME:CST
DTSTART:20171105T070000
END:STANDARD
BEGIN:DAYLIGHT
TZOFFSETFROM:-0600
TZOFFSETTO:-0500
TZNAME:CDT
DTSTART:20180311T080000
END:DAYLIGHT
BEGIN:STANDARD
TZOFFSETFROM:-0500
TZOFFSETTO:-0600
TZNAME:CST
DTSTART:20181104T070000
END:STANDARD
BEGIN:DAYLIGHT
TZOFFSETFROM:-0600
TZOFFSETTO:-0500
TZNAME:CDT
DTSTART:20190310T080000
END:DAYLIGHT
BEGIN:STANDARD
TZOFFSETFROM:-0500
TZOFFSETTO:-0600
TZNAME:CST
DTSTART:20191103T070000
END:STANDARD
BEGIN:DAYLIGHT
TZOFFSETFROM:-0600
TZOFFSETTO:-0500
TZNAME:CDT
DTSTART:20200308T080000
END:DAYLIGHT
BEGIN:STANDARD
TZOFFSETFROM:-0500
TZOFFSETTO:-0600
TZNAME:CST
DTSTART:20201101T070000
END:STANDARD
END:VTIMEZONE
BEGIN:VEVENT
DTSTART;TZID=America/Chicago:20190518T080000
DTEND;TZID=America/Chicago:20190518T100000
DTSTAMP:20260424T012411
CREATED:20170220T232736Z
LAST-MODIFIED:20190518T191025Z
UID:10000420-1558166400-1558173600@www.racetime.info
SUMMARY:Y Run 5K & Super Kids Fun Run
DESCRIPTION:Y Run Youth 1 Mile Overall Results\n\nY 5K Age Group Results\n\nY 5K Overall Results
URL:https://www.racetime.info/event/y-run-5k-super-kids-fun-run-3/
LOCATION:Downtown Glen Ellyn\, Hillside and Main Street\, Glen Ellyn\, IL\, 60137\, United States
CATEGORIES:2019-05 Results (May)
ORGANIZER;CN="Kelly Coffey":MAILTO:kcoffey@ryallymca.org
GEO:41.8740406;-88.0666676
X-APPLE-STRUCTURED-LOCATION;VALUE=URI;X-ADDRESS=Downtown Glen Ellyn Hillside and Main Street Glen Ellyn IL 60137 United States;X-APPLE-RADIUS=500;X-TITLE=Hillside and Main Street:geo:-88.0666676,41.8740406
END:VEVENT
BEGIN:VEVENT
DTSTART;TZID=America/Chicago:20180519T080000
DTEND;TZID=America/Chicago:20180519T100000
DTSTAMP:20260424T012411
CREATED:20170220T232736Z
LAST-MODIFIED:20180519T160838Z
UID:10000436-1526716800-1526724000@www.racetime.info
SUMMARY:Y Run 5K & Super Kids Fun Run
DESCRIPTION:Y Run 5K Age Group Results\n\nY Run 5K Overall Results\n\nY Super Kids 1 Mile Run
URL:https://www.racetime.info/event/y-run-5k-super-kids-fun-run-2/
LOCATION:Downtown Glen Ellyn\, Hillside and Main Street\, Glen Ellyn\, IL\, 60137\, United States
CATEGORIES:2018-05 Results (May)
ORGANIZER;CN="Kelly Coffey":MAILTO:kcoffey@ryallymca.org
GEO:41.8740406;-88.0666676
X-APPLE-STRUCTURED-LOCATION;VALUE=URI;X-ADDRESS=Downtown Glen Ellyn Hillside and Main Street Glen Ellyn IL 60137 United States;X-APPLE-RADIUS=500;X-TITLE=Hillside and Main Street:geo:-88.0666676,41.8740406
END:VEVENT
BEGIN:VEVENT
DTSTART;TZID=America/Chicago:20170520T080000
DTEND;TZID=America/Chicago:20170520T100000
DTSTAMP:20260424T012411
CREATED:20170220T232736Z
LAST-MODIFIED:20170520T205043Z
UID:10000435-1495267200-1495274400@www.racetime.info
SUMMARY:Y Run 5K & Super Kids Fun Run
DESCRIPTION:Y 5K Age Group Results\n\nY 5K Overall Results\n\nY Super Kids 1K Results
URL:https://www.racetime.info/event/y-run-5k-super-kids-fun-run/
LOCATION:Downtown Glen Ellyn\, Hillside and Main Street\, Glen Ellyn\, IL\, 60137\, United States
CATEGORIES:2017-05 Results (May)
ORGANIZER;CN="Kelly Coffey":MAILTO:kcoffey@ryallymca.org
GEO:41.8740406;-88.0666676
X-APPLE-STRUCTURED-LOCATION;VALUE=URI;X-ADDRESS=Downtown Glen Ellyn Hillside and Main Street Glen Ellyn IL 60137 United States;X-APPLE-RADIUS=500;X-TITLE=Hillside and Main Street:geo:-88.0666676,41.8740406
END:VEVENT
END:VCALENDAR