BEGIN:VCALENDAR
VERSION:2.0
PRODID:-//Race Time - ECPv6.15.13//NONSGML v1.0//EN
CALSCALE:GREGORIAN
METHOD:PUBLISH
X-WR-CALNAME:Race Time
X-ORIGINAL-URL:https://www.racetime.info
X-WR-CALDESC:Events for Race Time
REFRESH-INTERVAL;VALUE=DURATION:PT1H
X-Robots-Tag:noindex
X-PUBLISHED-TTL:PT1H
BEGIN:VTIMEZONE
TZID:America/Chicago
BEGIN:DAYLIGHT
TZOFFSETFROM:-0600
TZOFFSETTO:-0500
TZNAME:CDT
DTSTART:20150308T080000
END:DAYLIGHT
BEGIN:STANDARD
TZOFFSETFROM:-0500
TZOFFSETTO:-0600
TZNAME:CST
DTSTART:20151101T070000
END:STANDARD
BEGIN:DAYLIGHT
TZOFFSETFROM:-0600
TZOFFSETTO:-0500
TZNAME:CDT
DTSTART:20160313T080000
END:DAYLIGHT
BEGIN:STANDARD
TZOFFSETFROM:-0500
TZOFFSETTO:-0600
TZNAME:CST
DTSTART:20161106T070000
END:STANDARD
BEGIN:DAYLIGHT
TZOFFSETFROM:-0600
TZOFFSETTO:-0500
TZNAME:CDT
DTSTART:20170312T080000
END:DAYLIGHT
BEGIN:STANDARD
TZOFFSETFROM:-0500
TZOFFSETTO:-0600
TZNAME:CST
DTSTART:20171105T070000
END:STANDARD
END:VTIMEZONE
BEGIN:VEVENT
DTSTART;TZID=America/Chicago:20160917T090000
DTEND;TZID=America/Chicago:20160917T110000
DTSTAMP:20260424T065705
CREATED:20160803T181603Z
LAST-MODIFIED:20160917T184711Z
UID:10000301-1474102800-1474110000@www.racetime.info
SUMMARY:Foundation 5K Run/Walk & Kids Mini Mile
DESCRIPTION:Foundation 5K Overall results
URL:https://www.racetime.info/event/foundation-5k-runwalk-kids-mini-mile-2/
LOCATION:North Park\, 10040 Addison\, Franklin Park\, IL\, 60131\, United States
CATEGORIES:2016-09 Results (September)
ORGANIZER;CN="Rebecca Golyzniak":MAILTO:fgoly@fpparks.org
GEO:41.9438347;-87.8769876
X-APPLE-STRUCTURED-LOCATION;VALUE=URI;X-ADDRESS=North Park 10040 Addison Franklin Park IL 60131 United States;X-APPLE-RADIUS=500;X-TITLE=10040 Addison:geo:-87.8769876,41.9438347
END:VEVENT
END:VCALENDAR