BEGIN:VCALENDAR
VERSION:2.0
PRODID:-//Race Time - ECPv6.15.13//NONSGML v1.0//EN
CALSCALE:GREGORIAN
METHOD:PUBLISH
X-ORIGINAL-URL:https://www.racetime.info
X-WR-CALDESC:Events for Race Time
REFRESH-INTERVAL;VALUE=DURATION:PT1H
X-Robots-Tag:noindex
X-PUBLISHED-TTL:PT1H
BEGIN:VTIMEZONE
TZID:America/Chicago
BEGIN:DAYLIGHT
TZOFFSETFROM:-0600
TZOFFSETTO:-0500
TZNAME:CDT
DTSTART:20240310T080000
END:DAYLIGHT
BEGIN:STANDARD
TZOFFSETFROM:-0500
TZOFFSETTO:-0600
TZNAME:CST
DTSTART:20241103T070000
END:STANDARD
BEGIN:DAYLIGHT
TZOFFSETFROM:-0600
TZOFFSETTO:-0500
TZNAME:CDT
DTSTART:20250309T080000
END:DAYLIGHT
BEGIN:STANDARD
TZOFFSETFROM:-0500
TZOFFSETTO:-0600
TZNAME:CST
DTSTART:20251102T070000
END:STANDARD
BEGIN:DAYLIGHT
TZOFFSETFROM:-0600
TZOFFSETTO:-0500
TZNAME:CDT
DTSTART:20260308T080000
END:DAYLIGHT
BEGIN:STANDARD
TZOFFSETFROM:-0500
TZOFFSETTO:-0600
TZNAME:CST
DTSTART:20261101T070000
END:STANDARD
END:VTIMEZONE
BEGIN:VEVENT
DTSTART;TZID=America/Chicago:20250405T090000
DTEND;TZID=America/Chicago:20250405T113000
DTSTAMP:20260423T235948
CREATED:20250321T100400Z
LAST-MODIFIED:20250405T191547Z
UID:10002280-1743843600-1743852600@www.racetime.info
SUMMARY:Bruce Johnson Memorial Farm To Farm Run/Walk
DESCRIPTION:Farm to Farm 5K Age Group Results\n\nFarm to Farm 5K Overall Results\n\nFarm to Farm 10K Age Group Results\n\nFarm to Farm 10K Overall Results
URL:https://www.racetime.info/event/bruce-johnson-memorial-farm-to-farm-run-walk-2/
LOCATION:Kent Farms\, 12662 N. Christian Hollow Road\, Winslow\, IL\, 61089\, United States
CATEGORIES:2025-04 Results (April)
ORGANIZER;CN="Roberta Nichols":MAILTO:roberta@j3timing.com
END:VEVENT
END:VCALENDAR