BEGIN:VCALENDAR
VERSION:2.0
PRODID:-//Race Time - ECPv6.15.13//NONSGML v1.0//EN
CALSCALE:GREGORIAN
METHOD:PUBLISH
X-ORIGINAL-URL:https://www.racetime.info
X-WR-CALDESC:Events for Race Time
REFRESH-INTERVAL;VALUE=DURATION:PT1H
X-Robots-Tag:noindex
X-PUBLISHED-TTL:PT1H
BEGIN:VTIMEZONE
TZID:America/Chicago
BEGIN:DAYLIGHT
TZOFFSETFROM:-0600
TZOFFSETTO:-0500
TZNAME:CDT
DTSTART:20180311T080000
END:DAYLIGHT
BEGIN:STANDARD
TZOFFSETFROM:-0500
TZOFFSETTO:-0600
TZNAME:CST
DTSTART:20181104T070000
END:STANDARD
BEGIN:DAYLIGHT
TZOFFSETFROM:-0600
TZOFFSETTO:-0500
TZNAME:CDT
DTSTART:20190310T080000
END:DAYLIGHT
BEGIN:STANDARD
TZOFFSETFROM:-0500
TZOFFSETTO:-0600
TZNAME:CST
DTSTART:20191103T070000
END:STANDARD
BEGIN:DAYLIGHT
TZOFFSETFROM:-0600
TZOFFSETTO:-0500
TZNAME:CDT
DTSTART:20200308T080000
END:DAYLIGHT
BEGIN:STANDARD
TZOFFSETFROM:-0500
TZOFFSETTO:-0600
TZNAME:CST
DTSTART:20201101T070000
END:STANDARD
END:VTIMEZONE
BEGIN:VEVENT
DTSTART;TZID=America/Chicago:20190623T083000
DTEND;TZID=America/Chicago:20190623T103000
DTSTAMP:20260424T053439
CREATED:20190507T235708Z
LAST-MODIFIED:20190623T160652Z
UID:10001881-1561278600-1561285800@www.racetime.info
SUMMARY:Step It Up 5K
DESCRIPTION:Step It Up 5K Age Group Results\n\nStep It Up 5K Overall Results
URL:https://www.racetime.info/event/step-it-up-5k/
LOCATION:Chicago Botanic Garden\, 1000 Lake Cook Road\, Glencoe\, IL\, 60022\, United States
CATEGORIES:2019-06 Results (June)
ORGANIZER;CN="Ronna Ash":MAILTO:cns@hadassah.org
END:VEVENT
END:VCALENDAR