BEGIN:VCALENDAR
VERSION:2.0
PRODID:-//Race Time - ECPv6.15.13//NONSGML v1.0//EN
CALSCALE:GREGORIAN
METHOD:PUBLISH
X-ORIGINAL-URL:https://www.racetime.info
X-WR-CALDESC:Events for Race Time
REFRESH-INTERVAL;VALUE=DURATION:PT1H
X-Robots-Tag:noindex
X-PUBLISHED-TTL:PT1H
BEGIN:VTIMEZONE
TZID:America/Chicago
BEGIN:DAYLIGHT
TZOFFSETFROM:-0600
TZOFFSETTO:-0500
TZNAME:CDT
DTSTART:20140309T080000
END:DAYLIGHT
BEGIN:STANDARD
TZOFFSETFROM:-0500
TZOFFSETTO:-0600
TZNAME:CST
DTSTART:20141102T070000
END:STANDARD
BEGIN:DAYLIGHT
TZOFFSETFROM:-0600
TZOFFSETTO:-0500
TZNAME:CDT
DTSTART:20150308T080000
END:DAYLIGHT
BEGIN:STANDARD
TZOFFSETFROM:-0500
TZOFFSETTO:-0600
TZNAME:CST
DTSTART:20151101T070000
END:STANDARD
BEGIN:DAYLIGHT
TZOFFSETFROM:-0600
TZOFFSETTO:-0500
TZNAME:CDT
DTSTART:20160313T080000
END:DAYLIGHT
BEGIN:STANDARD
TZOFFSETFROM:-0500
TZOFFSETTO:-0600
TZNAME:CST
DTSTART:20161106T070000
END:STANDARD
BEGIN:DAYLIGHT
TZOFFSETFROM:-0600
TZOFFSETTO:-0500
TZNAME:CDT
DTSTART:20170312T080000
END:DAYLIGHT
BEGIN:STANDARD
TZOFFSETFROM:-0500
TZOFFSETTO:-0600
TZNAME:CST
DTSTART:20171105T070000
END:STANDARD
BEGIN:DAYLIGHT
TZOFFSETFROM:-0600
TZOFFSETTO:-0500
TZNAME:CDT
DTSTART:20180311T080000
END:DAYLIGHT
BEGIN:STANDARD
TZOFFSETFROM:-0500
TZOFFSETTO:-0600
TZNAME:CST
DTSTART:20181104T070000
END:STANDARD
BEGIN:DAYLIGHT
TZOFFSETFROM:-0600
TZOFFSETTO:-0500
TZNAME:CDT
DTSTART:20190310T080000
END:DAYLIGHT
BEGIN:STANDARD
TZOFFSETFROM:-0500
TZOFFSETTO:-0600
TZNAME:CST
DTSTART:20191103T070000
END:STANDARD
BEGIN:DAYLIGHT
TZOFFSETFROM:-0600
TZOFFSETTO:-0500
TZNAME:CDT
DTSTART:20200308T080000
END:DAYLIGHT
BEGIN:STANDARD
TZOFFSETFROM:-0500
TZOFFSETTO:-0600
TZNAME:CST
DTSTART:20201101T070000
END:STANDARD
END:VTIMEZONE
BEGIN:VEVENT
DTSTART;TZID=America/Chicago:20190914T193000
DTEND;TZID=America/Chicago:20190914T210000
DTSTAMP:20260424T012420
CREATED:20170801T111942Z
LAST-MODIFIED:20190915T025825Z
UID:10001569-1568489400-1568494800@www.racetime.info
SUMMARY:Dash in the Dark 5K
DESCRIPTION:Dash In The Dark 5K Age Group Results\n\nDash In The Dark 5K Overall Results
URL:https://www.racetime.info/event/dash-in-the-dark-5k-4/
LOCATION:Pottawatomi Park\, 8 North Avenue\, St. Charles\, IL\, 60174\, United States
CATEGORIES:2019-09 Results (September)
ORGANIZER;CN="Ryan Crawford":MAILTO:rcrawford@sd129.org
GEO:41.9210527;-88.3158804
X-APPLE-STRUCTURED-LOCATION;VALUE=URI;X-ADDRESS=Pottawatomi Park 8 North Avenue St. Charles IL 60174 United States;X-APPLE-RADIUS=500;X-TITLE=8 North Avenue:geo:-88.3158804,41.9210527
END:VEVENT
BEGIN:VEVENT
DTSTART;TZID=America/Chicago:20180908T193000
DTEND;TZID=America/Chicago:20180908T210000
DTSTAMP:20260424T012420
CREATED:20170801T111942Z
LAST-MODIFIED:20180909T175606Z
UID:10001567-1536435000-1536440400@www.racetime.info
SUMMARY:Dash in the Dark 5K
DESCRIPTION:Dash In The Dark 5K Age Group Results\n\nDash In The Dark 5K Overall Results
URL:https://www.racetime.info/event/dash-in-the-dark-5k-3/
LOCATION:Pottawatomi Park\, 8 North Avenue\, St. Charles\, IL\, 60174\, United States
CATEGORIES:2018-09 Results (September)
ORGANIZER;CN="Ryan Crawford":MAILTO:rcrawford@sd129.org
GEO:41.9210527;-88.3158804
X-APPLE-STRUCTURED-LOCATION;VALUE=URI;X-ADDRESS=Pottawatomi Park 8 North Avenue St. Charles IL 60174 United States;X-APPLE-RADIUS=500;X-TITLE=8 North Avenue:geo:-88.3158804,41.9210527
END:VEVENT
BEGIN:VEVENT
DTSTART;TZID=America/Chicago:20170909T193000
DTEND;TZID=America/Chicago:20170909T210000
DTSTAMP:20260424T012420
CREATED:20170801T111942Z
LAST-MODIFIED:20170910T024838Z
UID:10001566-1504985400-1504990800@www.racetime.info
SUMMARY:Dash in the Dark 5K
DESCRIPTION:Dash In The Dark 5K Age Group Results\n\nDash In The Dark 5K Overall Results
URL:https://www.racetime.info/event/dash-in-the-dark-5k-2/
LOCATION:Pottawatomi Park\, 8 North Avenue\, St. Charles\, IL\, 60174\, United States
CATEGORIES:2017-09 Results (September)
ORGANIZER;CN="Ryan Crawford":MAILTO:rcrawford@sd129.org
GEO:41.9210527;-88.3158804
X-APPLE-STRUCTURED-LOCATION;VALUE=URI;X-ADDRESS=Pottawatomi Park 8 North Avenue St. Charles IL 60174 United States;X-APPLE-RADIUS=500;X-TITLE=8 North Avenue:geo:-88.3158804,41.9210527
END:VEVENT
BEGIN:VEVENT
DTSTART;TZID=America/Chicago:20160910T193000
DTEND;TZID=America/Chicago:20160910T210000
DTSTAMP:20260424T012420
CREATED:20160828T022241Z
LAST-MODIFIED:20160917T051047Z
UID:10000772-1473535800-1473541200@www.racetime.info
SUMMARY:Dash In The Dark 5K Run
DESCRIPTION:Dash In The Dark 5K Run Age Group Results\n\nDash In The Dark 5K Run Overall Results
URL:https://www.racetime.info/event/dash-in-the-dark-5k-run/
LOCATION:Pottawatomi Park\, 8 North Avenue\, St. Charles\, IL\, 60174\, United States
CATEGORIES:2016-09 Results (September)
ORGANIZER;CN="Ryan Crawford":MAILTO:rcrawford@sd129.org
GEO:41.9210527;-88.3158804
X-APPLE-STRUCTURED-LOCATION;VALUE=URI;X-ADDRESS=Pottawatomi Park 8 North Avenue St. Charles IL 60174 United States;X-APPLE-RADIUS=500;X-TITLE=8 North Avenue:geo:-88.3158804,41.9210527
END:VEVENT
BEGIN:VEVENT
DTSTART;TZID=America/Chicago:20150912T193000
DTEND;TZID=America/Chicago:20150912T220000
DTSTAMP:20260424T012420
CREATED:20150812T151907Z
LAST-MODIFIED:20150913T032347Z
UID:10000090-1442086200-1442095200@www.racetime.info
SUMMARY:Dash In The Dark 5K
DESCRIPTION:Dash In The Dark 5K Age Group Results\n\nDash In The Dark 5K Overall Results
URL:https://www.racetime.info/event/dash-in-the-dark-5k/
LOCATION:Pottawatomi Park\, 8 North Avenue\, St. Charles\, IL\, 60174\, United States
CATEGORIES:2015-09 Results (September)
ORGANIZER;CN="Ryan Crawford":MAILTO:rcrawford@sd129.org
GEO:41.9210527;-88.3158804
X-APPLE-STRUCTURED-LOCATION;VALUE=URI;X-ADDRESS=Pottawatomi Park 8 North Avenue St. Charles IL 60174 United States;X-APPLE-RADIUS=500;X-TITLE=8 North Avenue:geo:-88.3158804,41.9210527
END:VEVENT
END:VCALENDAR