BEGIN:VCALENDAR
VERSION:2.0
PRODID:-//Race Time - ECPv6.15.13//NONSGML v1.0//EN
CALSCALE:GREGORIAN
METHOD:PUBLISH
X-ORIGINAL-URL:https://www.racetime.info
X-WR-CALDESC:Events for Race Time
REFRESH-INTERVAL;VALUE=DURATION:PT1H
X-Robots-Tag:noindex
X-PUBLISHED-TTL:PT1H
BEGIN:VTIMEZONE
TZID:America/Chicago
BEGIN:DAYLIGHT
TZOFFSETFROM:-0600
TZOFFSETTO:-0500
TZNAME:CDT
DTSTART:20160313T080000
END:DAYLIGHT
BEGIN:STANDARD
TZOFFSETFROM:-0500
TZOFFSETTO:-0600
TZNAME:CST
DTSTART:20161106T070000
END:STANDARD
BEGIN:DAYLIGHT
TZOFFSETFROM:-0600
TZOFFSETTO:-0500
TZNAME:CDT
DTSTART:20170312T080000
END:DAYLIGHT
BEGIN:STANDARD
TZOFFSETFROM:-0500
TZOFFSETTO:-0600
TZNAME:CST
DTSTART:20171105T070000
END:STANDARD
BEGIN:DAYLIGHT
TZOFFSETFROM:-0600
TZOFFSETTO:-0500
TZNAME:CDT
DTSTART:20180311T080000
END:DAYLIGHT
BEGIN:STANDARD
TZOFFSETFROM:-0500
TZOFFSETTO:-0600
TZNAME:CST
DTSTART:20181104T070000
END:STANDARD
END:VTIMEZONE
BEGIN:VEVENT
DTSTART;TZID=America/Chicago:20170909T093000
DTEND;TZID=America/Chicago:20170909T113000
DTSTAMP:20260424T023311
CREATED:20170804T124341Z
LAST-MODIFIED:20170909T175457Z
UID:10000753-1504949400-1504956600@www.racetime.info
SUMMARY:Forever U 5K Run/Walk
DESCRIPTION:Forever U 5K Overall Results
URL:https://www.racetime.info/event/forever-u-5k-runwalk/
LOCATION:Hickory Creek Barrens Nature Preserve\, 141 S. Schoolhouse Road\, New Lenox\, IL\, 60451\, United States
CATEGORIES:2017-09 Results (September)
ORGANIZER;CN="Ryan Hesslau":MAILTO:ryan@foreverumovement.com
GEO:41.509825;-87.927881
X-APPLE-STRUCTURED-LOCATION;VALUE=URI;X-ADDRESS=Hickory Creek Barrens Nature Preserve 141 S. Schoolhouse Road New Lenox IL 60451 United States;X-APPLE-RADIUS=500;X-TITLE=141 S. Schoolhouse Road:geo:-87.927881,41.509825
END:VEVENT
END:VCALENDAR