BEGIN:VCALENDAR
VERSION:2.0
PRODID:-//Race Time - ECPv6.15.13//NONSGML v1.0//EN
CALSCALE:GREGORIAN
METHOD:PUBLISH
X-ORIGINAL-URL:https://www.racetime.info
X-WR-CALDESC:Events for Race Time
REFRESH-INTERVAL;VALUE=DURATION:PT1H
X-Robots-Tag:noindex
X-PUBLISHED-TTL:PT1H
BEGIN:VTIMEZONE
TZID:America/Chicago
BEGIN:DAYLIGHT
TZOFFSETFROM:-0600
TZOFFSETTO:-0500
TZNAME:CDT
DTSTART:20140309T080000
END:DAYLIGHT
BEGIN:STANDARD
TZOFFSETFROM:-0500
TZOFFSETTO:-0600
TZNAME:CST
DTSTART:20141102T070000
END:STANDARD
BEGIN:DAYLIGHT
TZOFFSETFROM:-0600
TZOFFSETTO:-0500
TZNAME:CDT
DTSTART:20150308T080000
END:DAYLIGHT
BEGIN:STANDARD
TZOFFSETFROM:-0500
TZOFFSETTO:-0600
TZNAME:CST
DTSTART:20151101T070000
END:STANDARD
BEGIN:DAYLIGHT
TZOFFSETFROM:-0600
TZOFFSETTO:-0500
TZNAME:CDT
DTSTART:20160313T080000
END:DAYLIGHT
BEGIN:STANDARD
TZOFFSETFROM:-0500
TZOFFSETTO:-0600
TZNAME:CST
DTSTART:20161106T070000
END:STANDARD
END:VTIMEZONE
BEGIN:VEVENT
DTSTART;TZID=America/Chicago:20150517T090000
DTEND;TZID=America/Chicago:20150517T110000
DTSTAMP:20260424T053445
CREATED:20150409T034506Z
LAST-MODIFIED:20150829T201822Z
UID:10000008-1431853200-1431860400@www.racetime.info
SUMMARY:Roads Scholar 5K
DESCRIPTION:Roads Scholar 5K Age Group Results\n\nRoads Scholar 5k Overall Results
URL:https://www.racetime.info/event/roads-scholar-5k-2/
LOCATION:Rosary High School\, 901 N. Edgelawn\, Aurora\, IL\, United States
CATEGORIES:2015-05 Results (May)
ORGANIZER;CN="Sandra Galindo":MAILTO:sgalindo@rosaryhs.com
GEO:41.7746413;-88.3567841
X-APPLE-STRUCTURED-LOCATION;VALUE=URI;X-ADDRESS=Rosary High School 901 N. Edgelawn Aurora IL United States;X-APPLE-RADIUS=500;X-TITLE=901 N. Edgelawn:geo:-88.3567841,41.7746413
END:VEVENT
END:VCALENDAR