BEGIN:VCALENDAR
VERSION:2.0
PRODID:-//Race Time - ECPv6.15.13//NONSGML v1.0//EN
CALSCALE:GREGORIAN
METHOD:PUBLISH
X-WR-CALNAME:Race Time
X-ORIGINAL-URL:https://www.racetime.info
X-WR-CALDESC:Events for Race Time
REFRESH-INTERVAL;VALUE=DURATION:PT1H
X-Robots-Tag:noindex
X-PUBLISHED-TTL:PT1H
BEGIN:VTIMEZONE
TZID:America/Chicago
BEGIN:DAYLIGHT
TZOFFSETFROM:-0600
TZOFFSETTO:-0500
TZNAME:CDT
DTSTART:20140309T080000
END:DAYLIGHT
BEGIN:STANDARD
TZOFFSETFROM:-0500
TZOFFSETTO:-0600
TZNAME:CST
DTSTART:20141102T070000
END:STANDARD
BEGIN:DAYLIGHT
TZOFFSETFROM:-0600
TZOFFSETTO:-0500
TZNAME:CDT
DTSTART:20150308T080000
END:DAYLIGHT
BEGIN:STANDARD
TZOFFSETFROM:-0500
TZOFFSETTO:-0600
TZNAME:CST
DTSTART:20151101T070000
END:STANDARD
BEGIN:DAYLIGHT
TZOFFSETFROM:-0600
TZOFFSETTO:-0500
TZNAME:CDT
DTSTART:20160313T080000
END:DAYLIGHT
BEGIN:STANDARD
TZOFFSETFROM:-0500
TZOFFSETTO:-0600
TZNAME:CST
DTSTART:20161106T070000
END:STANDARD
BEGIN:DAYLIGHT
TZOFFSETFROM:-0600
TZOFFSETTO:-0500
TZNAME:CDT
DTSTART:20170312T080000
END:DAYLIGHT
BEGIN:STANDARD
TZOFFSETFROM:-0500
TZOFFSETTO:-0600
TZNAME:CST
DTSTART:20171105T070000
END:STANDARD
END:VTIMEZONE
BEGIN:VEVENT
DTSTART;TZID=America/Chicago:20160604T091000
DTEND;TZID=America/Chicago:20160604T110000
DTSTAMP:20260424T053145
CREATED:20160526T111121Z
LAST-MODIFIED:20160604T202139Z
UID:10000267-1465031400-1465038000@www.racetime.info
SUMMARY:Rockford Fire 911 3K Run/Walk
DESCRIPTION:Rockford 911 3K Age Group Results\n\nRockford 911 3K Overall Results
URL:https://www.racetime.info/event/rockford-fire-911-3k-runwalk/
LOCATION:Rockford Fire\, 391 N. Trainer Road\, Rockford\, IL\, 61101\, United States
CATEGORIES:2016-06 Results (June)
ORGANIZER;CN="Sandy Stansell":MAILTO:sandy.stansell@rockfordil.gov
GEO:42.2722816;-88.9898061
X-APPLE-STRUCTURED-LOCATION;VALUE=URI;X-ADDRESS=Rockford Fire 391 N. Trainer Road Rockford IL 61101 United States;X-APPLE-RADIUS=500;X-TITLE=391 N. Trainer Road:geo:-88.9898061,42.2722816
END:VEVENT
BEGIN:VEVENT
DTSTART;TZID=America/Chicago:20150606T091000
DTEND;TZID=America/Chicago:20150606T110000
DTSTAMP:20260424T053145
CREATED:20150409T034511Z
LAST-MODIFIED:20150606T185906Z
UID:10000171-1433581800-1433588400@www.racetime.info
SUMMARY:911 3K
DESCRIPTION:911 3K Age Group Results\n\n911 3K Overall Results
URL:https://www.racetime.info/event/911-3k-2/
LOCATION:Rockford Fire\, 391 N. Trainer Road\, Rockford\, IL\, 61101\, United States
CATEGORIES:2015-06 Results (June)
ORGANIZER;CN="Sandy Stansell":MAILTO:sandy.stansell@rockfordil.gov
GEO:42.2722816;-88.9898061
X-APPLE-STRUCTURED-LOCATION;VALUE=URI;X-ADDRESS=Rockford Fire 391 N. Trainer Road Rockford IL 61101 United States;X-APPLE-RADIUS=500;X-TITLE=391 N. Trainer Road:geo:-88.9898061,42.2722816
END:VEVENT
END:VCALENDAR