BEGIN:VCALENDAR
VERSION:2.0
PRODID:-//Race Time - ECPv6.15.13//NONSGML v1.0//EN
CALSCALE:GREGORIAN
METHOD:PUBLISH
X-ORIGINAL-URL:https://www.racetime.info
X-WR-CALDESC:Events for Race Time
REFRESH-INTERVAL;VALUE=DURATION:PT1H
X-Robots-Tag:noindex
X-PUBLISHED-TTL:PT1H
BEGIN:VTIMEZONE
TZID:America/Chicago
BEGIN:DAYLIGHT
TZOFFSETFROM:-0600
TZOFFSETTO:-0500
TZNAME:CDT
DTSTART:20150308T080000
END:DAYLIGHT
BEGIN:STANDARD
TZOFFSETFROM:-0500
TZOFFSETTO:-0600
TZNAME:CST
DTSTART:20151101T070000
END:STANDARD
BEGIN:DAYLIGHT
TZOFFSETFROM:-0600
TZOFFSETTO:-0500
TZNAME:CDT
DTSTART:20160313T080000
END:DAYLIGHT
BEGIN:STANDARD
TZOFFSETFROM:-0500
TZOFFSETTO:-0600
TZNAME:CST
DTSTART:20161106T070000
END:STANDARD
BEGIN:DAYLIGHT
TZOFFSETFROM:-0600
TZOFFSETTO:-0500
TZNAME:CDT
DTSTART:20170312T080000
END:DAYLIGHT
BEGIN:STANDARD
TZOFFSETFROM:-0500
TZOFFSETTO:-0600
TZNAME:CST
DTSTART:20171105T070000
END:STANDARD
BEGIN:DAYLIGHT
TZOFFSETFROM:-0600
TZOFFSETTO:-0500
TZNAME:CDT
DTSTART:20180311T080000
END:DAYLIGHT
BEGIN:STANDARD
TZOFFSETFROM:-0500
TZOFFSETTO:-0600
TZNAME:CST
DTSTART:20181104T070000
END:STANDARD
BEGIN:DAYLIGHT
TZOFFSETFROM:-0600
TZOFFSETTO:-0500
TZNAME:CDT
DTSTART:20190310T080000
END:DAYLIGHT
BEGIN:STANDARD
TZOFFSETFROM:-0500
TZOFFSETTO:-0600
TZNAME:CST
DTSTART:20191103T070000
END:STANDARD
BEGIN:DAYLIGHT
TZOFFSETFROM:-0600
TZOFFSETTO:-0500
TZNAME:CDT
DTSTART:20200308T080000
END:DAYLIGHT
BEGIN:STANDARD
TZOFFSETFROM:-0500
TZOFFSETTO:-0600
TZNAME:CST
DTSTART:20201101T070000
END:STANDARD
BEGIN:DAYLIGHT
TZOFFSETFROM:-0600
TZOFFSETTO:-0500
TZNAME:CDT
DTSTART:20210314T080000
END:DAYLIGHT
BEGIN:STANDARD
TZOFFSETFROM:-0500
TZOFFSETTO:-0600
TZNAME:CST
DTSTART:20211107T070000
END:STANDARD
BEGIN:DAYLIGHT
TZOFFSETFROM:-0600
TZOFFSETTO:-0500
TZNAME:CDT
DTSTART:20220313T080000
END:DAYLIGHT
BEGIN:STANDARD
TZOFFSETFROM:-0500
TZOFFSETTO:-0600
TZNAME:CST
DTSTART:20221106T070000
END:STANDARD
BEGIN:DAYLIGHT
TZOFFSETFROM:-0600
TZOFFSETTO:-0500
TZNAME:CDT
DTSTART:20230312T080000
END:DAYLIGHT
BEGIN:STANDARD
TZOFFSETFROM:-0500
TZOFFSETTO:-0600
TZNAME:CST
DTSTART:20231105T070000
END:STANDARD
END:VTIMEZONE
BEGIN:VEVENT
DTSTART;TZID=America/Chicago:20221106T100000
DTEND;TZID=America/Chicago:20221106T113000
DTSTAMP:20260424T041411
CREATED:20160809T011705Z
LAST-MODIFIED:20221106T203542Z
UID:10000292-1667728800-1667734200@www.racetime.info
SUMMARY:Jones College Prep Eagle 5K Run/Walk
DESCRIPTION:JCP Eagle 5K Overall Results
URL:https://www.racetime.info/event/copy-of-jones-college-prep-eagle-5k-run-walk/
LOCATION:Washington Park\, Pool & Russell Drive\, Chicago\, IL\, United States
CATEGORIES:2022-11 Results (November)
ORGANIZER;CN="Sarah Renz":MAILTO:sarah.renz@friendsofjones.org
GEO:41.7929062;-87.6134155
X-APPLE-STRUCTURED-LOCATION;VALUE=URI;X-ADDRESS=Washington Park Pool & Russell Drive Chicago IL United States;X-APPLE-RADIUS=500;X-TITLE=Pool & Russell Drive:geo:-87.6134155,41.7929062
END:VEVENT
BEGIN:VEVENT
DTSTART;TZID=America/Chicago:20211024T100000
DTEND;TZID=America/Chicago:20211024T120000
DTSTAMP:20260424T041411
CREATED:20160809T011705Z
LAST-MODIFIED:20211025T102603Z
UID:10000291-1635069600-1635076800@www.racetime.info
SUMMARY:Jones College Prep Eagle 5K Run/Walk
DESCRIPTION:JCP Eagle 5K Run Overall Results by Division
URL:https://www.racetime.info/event/jones-college-prep-eagle-5k-run-walk-3/
LOCATION:Washington Park\, Pool & Russell Drive\, Chicago\, IL\, United States
CATEGORIES:2021-10 Results (October)
ORGANIZER;CN="Sarah Renz":MAILTO:sarah.renz@friendsofjones.org
GEO:41.7929062;-87.6134155
X-APPLE-STRUCTURED-LOCATION;VALUE=URI;X-ADDRESS=Washington Park Pool & Russell Drive Chicago IL United States;X-APPLE-RADIUS=500;X-TITLE=Pool & Russell Drive:geo:-87.6134155,41.7929062
END:VEVENT
BEGIN:VEVENT
DTSTART;TZID=America/Chicago:20191020T100000
DTEND;TZID=America/Chicago:20191020T120000
DTSTAMP:20260424T041411
CREATED:20160809T011705Z
LAST-MODIFIED:20191020T184710Z
UID:10000290-1571565600-1571572800@www.racetime.info
SUMMARY:Jones College Prep Eagle 5K Run/Walk
DESCRIPTION:JCP Eagles 5K Overall Results\n\nJCP Eagles 5K Results by Division
URL:https://www.racetime.info/event/jones-college-prep-eagle-5k-run-walk-2/
LOCATION:Washington Park\, Pool & Russell Drive\, Chicago\, IL\, United States
CATEGORIES:2019-10 Results (October)
ORGANIZER;CN="Sarah Renz":MAILTO:sarah.renz@friendsofjones.org
GEO:41.7929062;-87.6134155
X-APPLE-STRUCTURED-LOCATION;VALUE=URI;X-ADDRESS=Washington Park Pool & Russell Drive Chicago IL United States;X-APPLE-RADIUS=500;X-TITLE=Pool & Russell Drive:geo:-87.6134155,41.7929062
END:VEVENT
BEGIN:VEVENT
DTSTART;TZID=America/Chicago:20181021T100000
DTEND;TZID=America/Chicago:20181021T120000
DTSTAMP:20260424T041411
CREATED:20160809T011705Z
LAST-MODIFIED:20181021T182901Z
UID:10000298-1540116000-1540123200@www.racetime.info
SUMMARY:Jones College Prep Eagle 5K Run/Walk
DESCRIPTION:JCP Eagle Run Faculty Results\n\nJCP Eagle Run Student Results\n\nJCP Eagle Run Individual Results\n\nJCP Eagle Run Complete Overall Results
URL:https://www.racetime.info/event/jones-college-prep-eagle-5k-run-walk/
LOCATION:Washington Park\, Pool & Russell Drive\, Chicago\, IL\, United States
CATEGORIES:2018-10 Results (October)
ORGANIZER;CN="Sarah Renz":MAILTO:sarah.renz@friendsofjones.org
GEO:41.7929062;-87.6134155
X-APPLE-STRUCTURED-LOCATION;VALUE=URI;X-ADDRESS=Washington Park Pool & Russell Drive Chicago IL United States;X-APPLE-RADIUS=500;X-TITLE=Pool & Russell Drive:geo:-87.6134155,41.7929062
END:VEVENT
BEGIN:VEVENT
DTSTART;TZID=America/Chicago:20161023T100000
DTEND;TZID=America/Chicago:20161023T120000
DTSTAMP:20260424T041411
CREATED:20160809T011705Z
LAST-MODIFIED:20161023T211729Z
UID:10000303-1477216800-1477224000@www.racetime.info
SUMMARY:Jones College Prep Eagle 5K Run/Walk
DESCRIPTION:Eagle 5K Overall Results by Division\n\nEagle 5K Overall Results
URL:https://www.racetime.info/event/jones-college-prep-eagle-5k-runwalk/
LOCATION:Washington Park\, Pool & Russell Drive\, Chicago\, IL\, United States
CATEGORIES:2016-10 Results (October)
ORGANIZER;CN="Sarah Renz":MAILTO:sarah.renz@friendsofjones.org
GEO:41.7929062;-87.6134155
X-APPLE-STRUCTURED-LOCATION;VALUE=URI;X-ADDRESS=Washington Park Pool & Russell Drive Chicago IL United States;X-APPLE-RADIUS=500;X-TITLE=Pool & Russell Drive:geo:-87.6134155,41.7929062
END:VEVENT
END:VCALENDAR