BEGIN:VCALENDAR
VERSION:2.0
PRODID:-//Race Time - ECPv6.15.13//NONSGML v1.0//EN
CALSCALE:GREGORIAN
METHOD:PUBLISH
X-WR-CALNAME:Race Time
X-ORIGINAL-URL:https://www.racetime.info
X-WR-CALDESC:Events for Race Time
REFRESH-INTERVAL;VALUE=DURATION:PT1H
X-Robots-Tag:noindex
X-PUBLISHED-TTL:PT1H
BEGIN:VTIMEZONE
TZID:America/Chicago
BEGIN:DAYLIGHT
TZOFFSETFROM:-0600
TZOFFSETTO:-0500
TZNAME:CDT
DTSTART:20150308T080000
END:DAYLIGHT
BEGIN:STANDARD
TZOFFSETFROM:-0500
TZOFFSETTO:-0600
TZNAME:CST
DTSTART:20151101T070000
END:STANDARD
BEGIN:DAYLIGHT
TZOFFSETFROM:-0600
TZOFFSETTO:-0500
TZNAME:CDT
DTSTART:20160313T080000
END:DAYLIGHT
BEGIN:STANDARD
TZOFFSETFROM:-0500
TZOFFSETTO:-0600
TZNAME:CST
DTSTART:20161106T070000
END:STANDARD
BEGIN:DAYLIGHT
TZOFFSETFROM:-0600
TZOFFSETTO:-0500
TZNAME:CDT
DTSTART:20170312T080000
END:DAYLIGHT
BEGIN:STANDARD
TZOFFSETFROM:-0500
TZOFFSETTO:-0600
TZNAME:CST
DTSTART:20171105T070000
END:STANDARD
BEGIN:DAYLIGHT
TZOFFSETFROM:-0600
TZOFFSETTO:-0500
TZNAME:CDT
DTSTART:20180311T080000
END:DAYLIGHT
BEGIN:STANDARD
TZOFFSETFROM:-0500
TZOFFSETTO:-0600
TZNAME:CST
DTSTART:20181104T070000
END:STANDARD
END:VTIMEZONE
BEGIN:VEVENT
DTSTART;TZID=America/Chicago:20170325T090000
DTEND;TZID=America/Chicago:20170325T110000
DTSTAMP:20260424T054010
CREATED:20170204T225943Z
LAST-MODIFIED:20170325T162806Z
UID:10000376-1490432400-1490439600@www.racetime.info
SUMMARY:Aurora University's 5th Annual Athletic Training 5K Run/Walk
DESCRIPTION:AUA T5K Age Group Results\n\nAUA T5K Overall Results
URL:https://www.racetime.info/event/aurora-universitys-5th-annual-athletic-training-5k-runwalk/
LOCATION:Aurora University\, 347 S. Gladstone Avenue\, Aurora\, IL\, 60506\, United States
CATEGORIES:2017-03 Results (March)
ORGANIZER;CN="Sarah Radtke":MAILTO:sradtke@aurora.edu
GEO:41.754845;-88.348359
X-APPLE-STRUCTURED-LOCATION;VALUE=URI;X-ADDRESS=Aurora University 347 S. Gladstone Avenue Aurora IL 60506 United States;X-APPLE-RADIUS=500;X-TITLE=347 S. Gladstone Avenue:geo:-88.348359,41.754845
END:VEVENT
BEGIN:VEVENT
DTSTART;TZID=America/Chicago:20160402T090000
DTEND;TZID=America/Chicago:20160402T110000
DTSTAMP:20260424T054010
CREATED:20151125T185546Z
LAST-MODIFIED:20160402T170819Z
UID:10000167-1459587600-1459594800@www.racetime.info
SUMMARY:Aurora University Athletic Training 5K Run/Walk
DESCRIPTION:AU 5K Age Group Results\n\nAU 5K Overall Results
URL:https://www.racetime.info/event/aurora-university-athletic-training-5k-runwalk/
LOCATION:Aurora University\, 347 S. Gladstone Avenue\, Aurora\, IL\, 60506\, United States
CATEGORIES:2016-04 Results (April)
ORGANIZER;CN="Sarah Radtke":MAILTO:sradtke@aurora.edu
GEO:41.754845;-88.348359
X-APPLE-STRUCTURED-LOCATION;VALUE=URI;X-ADDRESS=Aurora University 347 S. Gladstone Avenue Aurora IL 60506 United States;X-APPLE-RADIUS=500;X-TITLE=347 S. Gladstone Avenue:geo:-88.348359,41.754845
END:VEVENT
END:VCALENDAR