BEGIN:VCALENDAR
VERSION:2.0
PRODID:-//Race Time - ECPv6.15.13//NONSGML v1.0//EN
CALSCALE:GREGORIAN
METHOD:PUBLISH
X-ORIGINAL-URL:https://www.racetime.info
X-WR-CALDESC:Events for Race Time
REFRESH-INTERVAL;VALUE=DURATION:PT1H
X-Robots-Tag:noindex
X-PUBLISHED-TTL:PT1H
BEGIN:VTIMEZONE
TZID:America/Chicago
BEGIN:DAYLIGHT
TZOFFSETFROM:-0600
TZOFFSETTO:-0500
TZNAME:CDT
DTSTART:20150308T080000
END:DAYLIGHT
BEGIN:STANDARD
TZOFFSETFROM:-0500
TZOFFSETTO:-0600
TZNAME:CST
DTSTART:20151101T070000
END:STANDARD
BEGIN:DAYLIGHT
TZOFFSETFROM:-0600
TZOFFSETTO:-0500
TZNAME:CDT
DTSTART:20160313T080000
END:DAYLIGHT
BEGIN:STANDARD
TZOFFSETFROM:-0500
TZOFFSETTO:-0600
TZNAME:CST
DTSTART:20161106T070000
END:STANDARD
BEGIN:DAYLIGHT
TZOFFSETFROM:-0600
TZOFFSETTO:-0500
TZNAME:CDT
DTSTART:20170312T080000
END:DAYLIGHT
BEGIN:STANDARD
TZOFFSETFROM:-0500
TZOFFSETTO:-0600
TZNAME:CST
DTSTART:20171105T070000
END:STANDARD
END:VTIMEZONE
BEGIN:VEVENT
DTSTART;TZID=America/Chicago:20160917T090000
DTEND;TZID=America/Chicago:20160917T110000
DTSTAMP:20260424T041440
CREATED:20160325T020629Z
LAST-MODIFIED:20160917T160528Z
UID:10000581-1474102800-1474110000@www.racetime.info
SUMMARY:George Bridges 5K Run/Walk
DESCRIPTION:George Bridges 5K Age Group Results\n\nGeorge Bridges 5K Overall Results
URL:https://www.racetime.info/event/george-bridges-5k-runwalk/
LOCATION:Waukegan Field House Sports and Fitness Center\, 800 Baldwin Avenue\, Waukegan\, IL\, 60085\, United States
CATEGORIES:2016-09 Results (September)
ORGANIZER;CN="Shelby McDonald":MAILTO:smcdonald@waukeganparks.org
GEO:42.3710087;-87.8732763
X-APPLE-STRUCTURED-LOCATION;VALUE=URI;X-ADDRESS=Waukegan Field House Sports and Fitness Center 800 Baldwin Avenue Waukegan IL 60085 United States;X-APPLE-RADIUS=500;X-TITLE=800 Baldwin Avenue:geo:-87.8732763,42.3710087
END:VEVENT
END:VCALENDAR