BEGIN:VCALENDAR
VERSION:2.0
PRODID:-//Race Time - ECPv6.15.13//NONSGML v1.0//EN
CALSCALE:GREGORIAN
METHOD:PUBLISH
X-ORIGINAL-URL:https://www.racetime.info
X-WR-CALDESC:Events for Race Time
REFRESH-INTERVAL;VALUE=DURATION:PT1H
X-Robots-Tag:noindex
X-PUBLISHED-TTL:PT1H
BEGIN:VTIMEZONE
TZID:America/Chicago
BEGIN:DAYLIGHT
TZOFFSETFROM:-0600
TZOFFSETTO:-0500
TZNAME:CDT
DTSTART:20150308T080000
END:DAYLIGHT
BEGIN:STANDARD
TZOFFSETFROM:-0500
TZOFFSETTO:-0600
TZNAME:CST
DTSTART:20151101T070000
END:STANDARD
BEGIN:DAYLIGHT
TZOFFSETFROM:-0600
TZOFFSETTO:-0500
TZNAME:CDT
DTSTART:20160313T080000
END:DAYLIGHT
BEGIN:STANDARD
TZOFFSETFROM:-0500
TZOFFSETTO:-0600
TZNAME:CST
DTSTART:20161106T070000
END:STANDARD
BEGIN:DAYLIGHT
TZOFFSETFROM:-0600
TZOFFSETTO:-0500
TZNAME:CDT
DTSTART:20170312T080000
END:DAYLIGHT
BEGIN:STANDARD
TZOFFSETFROM:-0500
TZOFFSETTO:-0600
TZNAME:CST
DTSTART:20171105T070000
END:STANDARD
BEGIN:DAYLIGHT
TZOFFSETFROM:-0600
TZOFFSETTO:-0500
TZNAME:CDT
DTSTART:20180311T080000
END:DAYLIGHT
BEGIN:STANDARD
TZOFFSETFROM:-0500
TZOFFSETTO:-0600
TZNAME:CST
DTSTART:20181104T070000
END:STANDARD
BEGIN:DAYLIGHT
TZOFFSETFROM:-0600
TZOFFSETTO:-0500
TZNAME:CDT
DTSTART:20190310T080000
END:DAYLIGHT
BEGIN:STANDARD
TZOFFSETFROM:-0500
TZOFFSETTO:-0600
TZNAME:CST
DTSTART:20191103T070000
END:STANDARD
BEGIN:DAYLIGHT
TZOFFSETFROM:-0600
TZOFFSETTO:-0500
TZNAME:CDT
DTSTART:20200308T080000
END:DAYLIGHT
BEGIN:STANDARD
TZOFFSETFROM:-0500
TZOFFSETTO:-0600
TZNAME:CST
DTSTART:20201101T070000
END:STANDARD
BEGIN:DAYLIGHT
TZOFFSETFROM:-0600
TZOFFSETTO:-0500
TZNAME:CDT
DTSTART:20210314T080000
END:DAYLIGHT
BEGIN:STANDARD
TZOFFSETFROM:-0500
TZOFFSETTO:-0600
TZNAME:CST
DTSTART:20211107T070000
END:STANDARD
BEGIN:DAYLIGHT
TZOFFSETFROM:-0600
TZOFFSETTO:-0500
TZNAME:CDT
DTSTART:20220313T080000
END:DAYLIGHT
BEGIN:STANDARD
TZOFFSETFROM:-0500
TZOFFSETTO:-0600
TZNAME:CST
DTSTART:20221106T070000
END:STANDARD
BEGIN:DAYLIGHT
TZOFFSETFROM:-0600
TZOFFSETTO:-0500
TZNAME:CDT
DTSTART:20230312T080000
END:DAYLIGHT
BEGIN:STANDARD
TZOFFSETFROM:-0500
TZOFFSETTO:-0600
TZNAME:CST
DTSTART:20231105T070000
END:STANDARD
BEGIN:DAYLIGHT
TZOFFSETFROM:-0600
TZOFFSETTO:-0500
TZNAME:CDT
DTSTART:20240310T080000
END:DAYLIGHT
BEGIN:STANDARD
TZOFFSETFROM:-0500
TZOFFSETTO:-0600
TZNAME:CST
DTSTART:20241103T070000
END:STANDARD
BEGIN:DAYLIGHT
TZOFFSETFROM:-0600
TZOFFSETTO:-0500
TZNAME:CDT
DTSTART:20250309T080000
END:DAYLIGHT
BEGIN:STANDARD
TZOFFSETFROM:-0500
TZOFFSETTO:-0600
TZNAME:CST
DTSTART:20251102T070000
END:STANDARD
END:VTIMEZONE
BEGIN:VEVENT
DTSTART;TZID=America/Chicago:20241006T090000
DTEND;TZID=America/Chicago:20241006T110000
DTSTAMP:20260423T213011
CREATED:20170509T210412Z
LAST-MODIFIED:20241012T092848Z
UID:10001395-1728205200-1728212400@www.racetime.info
SUMMARY:Fox Chase 5K & Youth Mile
DESCRIPTION:Fox Chase 1 Mile Age Group Results\n\nFox Chase 1 Mile Overall Results\n\nFox Chase 5K Age Group Results\n\nFox Chase 5K Overall Results
URL:https://www.racetime.info/event/copy-of-fox-chase-5k-youth-mile-3/
LOCATION:Stanger Park\, 257 Lexington Road\, Fox River Grove\, IL\, 60021\, United States
CATEGORIES:2024-10 Results (October)
ORGANIZER;CN="Sheri Sepeczi":MAILTO:sepeczi@ameritech.net
GEO:42.1958967;-88.2116426
X-APPLE-STRUCTURED-LOCATION;VALUE=URI;X-ADDRESS=Stanger Park 257 Lexington Road Fox River Grove IL 60021 United States;X-APPLE-RADIUS=500;X-TITLE=257 Lexington Road:geo:-88.2116426,42.1958967
END:VEVENT
BEGIN:VEVENT
DTSTART;TZID=America/Chicago:20231001T090000
DTEND;TZID=America/Chicago:20231001T103000
DTSTAMP:20260423T213011
CREATED:20170509T210412Z
LAST-MODIFIED:20231001T173440Z
UID:10001393-1696150800-1696156200@www.racetime.info
SUMMARY:Fox Chase 5K & Youth Mile
DESCRIPTION:Fox Chase 5K Age Group Results\n\nFox Chase 5K Overall Results\n\nFox Chase 1 Mile Age Group Results\n\nFox Chase 1 Mile Overall Results
URL:https://www.racetime.info/event/copy-of-fox-chase-5k-youth-mile-2/
LOCATION:Stanger Park\, 257 Lexington Road\, Fox River Grove\, IL\, 60021\, United States
CATEGORIES:2023-10 Results (October)
ORGANIZER;CN="Sheri Sepeczi":MAILTO:sepeczi@ameritech.net
GEO:42.1958967;-88.2116426
X-APPLE-STRUCTURED-LOCATION;VALUE=URI;X-ADDRESS=Stanger Park 257 Lexington Road Fox River Grove IL 60021 United States;X-APPLE-RADIUS=500;X-TITLE=257 Lexington Road:geo:-88.2116426,42.1958967
END:VEVENT
BEGIN:VEVENT
DTSTART;TZID=America/Chicago:20221002T090000
DTEND;TZID=America/Chicago:20221002T103000
DTSTAMP:20260423T213011
CREATED:20170509T210412Z
LAST-MODIFIED:20221002T195235Z
UID:10001391-1664701200-1664706600@www.racetime.info
SUMMARY:Fox Chase 5K & Youth Mile
DESCRIPTION:Fox Chase 5K Age Group Results\n\nFox Chase 5K Overall Results\n\nFox Chase 1 Mile Age Group Results\n\nFox Chase 1 Mile Overall Results
URL:https://www.racetime.info/event/copy-of-fox-chase-5k-youth-mile/
LOCATION:Stanger Park\, 257 Lexington Road\, Fox River Grove\, IL\, 60021\, United States
CATEGORIES:2022-10 Results (October)
ORGANIZER;CN="Sheri Sepeczi":MAILTO:sepeczi@ameritech.net
GEO:42.1958967;-88.2116426
X-APPLE-STRUCTURED-LOCATION;VALUE=URI;X-ADDRESS=Stanger Park 257 Lexington Road Fox River Grove IL 60021 United States;X-APPLE-RADIUS=500;X-TITLE=257 Lexington Road:geo:-88.2116426,42.1958967
END:VEVENT
BEGIN:VEVENT
DTSTART;TZID=America/Chicago:20211003T090000
DTEND;TZID=America/Chicago:20211003T110000
DTSTAMP:20260423T213011
CREATED:20170509T210412Z
LAST-MODIFIED:20211011T005354Z
UID:10001390-1633251600-1633258800@www.racetime.info
SUMMARY:Fox Chase 5K & Youth Mile
DESCRIPTION:Fox Chase 5K Age Group Results\n\nFox Chase 5K Overall Results\n\nFox Chase Youth Mile Age Group Results\n\nFox Chase Youth Mile Overall Results
URL:https://www.racetime.info/event/fox-chase-5k-youth-mile-virtual/
LOCATION:Stanger Park\, 257 Lexington Road\, Fox River Grove\, IL\, 60021\, United States
CATEGORIES:2021-10 Results (October)
ORGANIZER;CN="Sheri Sepeczi":MAILTO:sepeczi@ameritech.net
GEO:42.1958967;-88.2116426
X-APPLE-STRUCTURED-LOCATION;VALUE=URI;X-ADDRESS=Stanger Park 257 Lexington Road Fox River Grove IL 60021 United States;X-APPLE-RADIUS=500;X-TITLE=257 Lexington Road:geo:-88.2116426,42.1958967
END:VEVENT
BEGIN:VEVENT
DTSTART;TZID=America/Chicago:20201003T090000
DTEND;TZID=America/Chicago:20201003T110000
DTSTAMP:20260423T213011
CREATED:20170509T210412Z
LAST-MODIFIED:20200906T003051Z
UID:10001389-1601715600-1601722800@www.racetime.info
SUMMARY:Fox Chase 5K & Youth Mile:  VIRTUAL
DESCRIPTION:
URL:https://www.racetime.info/event/fox-chase-5k-youth-mile-4/
LOCATION:Stanger Park\, 257 Lexington Road\, Fox River Grove\, IL\, 60021\, United States
ORGANIZER;CN="Sheri Sepeczi":MAILTO:sepeczi@ameritech.net
GEO:42.1958967;-88.2116426
X-APPLE-STRUCTURED-LOCATION;VALUE=URI;X-ADDRESS=Stanger Park 257 Lexington Road Fox River Grove IL 60021 United States;X-APPLE-RADIUS=500;X-TITLE=257 Lexington Road:geo:-88.2116426,42.1958967
END:VEVENT
BEGIN:VEVENT
DTSTART;TZID=America/Chicago:20191006T090000
DTEND;TZID=America/Chicago:20191006T110000
DTSTAMP:20260423T213011
CREATED:20170509T210412Z
LAST-MODIFIED:20191010T121327Z
UID:10001386-1570352400-1570359600@www.racetime.info
SUMMARY:Fox Chase 5K & Youth Mile
DESCRIPTION:Fox Chase 1 Mile Age Group Results\n\nFox Chase 1 Mile Overall Results\n\nFox Chase 5K Age Group Results\n\nFox Chase 5K Overall Results
URL:https://www.racetime.info/event/fox-chase-5k-youth-mile-2/
LOCATION:Stanger Park\, 257 Lexington Road\, Fox River Grove\, IL\, 60021\, United States
CATEGORIES:2019-10 Results (October)
ORGANIZER;CN="Sheri Sepeczi":MAILTO:sepeczi@ameritech.net
GEO:42.1958967;-88.2116426
X-APPLE-STRUCTURED-LOCATION;VALUE=URI;X-ADDRESS=Stanger Park 257 Lexington Road Fox River Grove IL 60021 United States;X-APPLE-RADIUS=500;X-TITLE=257 Lexington Road:geo:-88.2116426,42.1958967
END:VEVENT
BEGIN:VEVENT
DTSTART;TZID=America/Chicago:20180930T090000
DTEND;TZID=America/Chicago:20180930T110000
DTSTAMP:20260423T213011
CREATED:20170509T210412Z
LAST-MODIFIED:20181005T134429Z
UID:10001384-1538298000-1538305200@www.racetime.info
SUMMARY:Fox Chase 5K & Youth Mile
DESCRIPTION:Fox Chase 1 Mile Age Group Results\n\nFox Chase 1 Mile Overall\n\nFox Chase 5K Age Group Results\n\nFox Chase 5K Overall Results
URL:https://www.racetime.info/event/fox-chase-5k-youth-mile-3/
LOCATION:Stanger Park\, 257 Lexington Road\, Fox River Grove\, IL\, 60021\, United States
CATEGORIES:2018-09 Results (September)
ORGANIZER;CN="Sheri Sepeczi":MAILTO:sepeczi@ameritech.net
GEO:42.1958967;-88.2116426
X-APPLE-STRUCTURED-LOCATION;VALUE=URI;X-ADDRESS=Stanger Park 257 Lexington Road Fox River Grove IL 60021 United States;X-APPLE-RADIUS=500;X-TITLE=257 Lexington Road:geo:-88.2116426,42.1958967
END:VEVENT
BEGIN:VEVENT
DTSTART;TZID=America/Chicago:20170924T090000
DTEND;TZID=America/Chicago:20170924T110000
DTSTAMP:20260423T213011
CREATED:20170509T210412Z
LAST-MODIFIED:20170924T204215Z
UID:10001382-1506243600-1506250800@www.racetime.info
SUMMARY:Fox Chase 5K & Youth Mile
DESCRIPTION:Fox Chase Youth 1 Mile Age Group Results\n\nFox Chase Youth 1 Mile Overall Results\n\nFox Chase 5K Age Group Results\n\nFox Chase 5K Overall Results
URL:https://www.racetime.info/event/fox-chase-5k-youth-mile/
LOCATION:Stanger Park\, 257 Lexington Road\, Fox River Grove\, IL\, 60021\, United States
CATEGORIES:2017-09 Results (September)
ORGANIZER;CN="Sheri Sepeczi":MAILTO:sepeczi@ameritech.net
GEO:42.1958967;-88.2116426
X-APPLE-STRUCTURED-LOCATION;VALUE=URI;X-ADDRESS=Stanger Park 257 Lexington Road Fox River Grove IL 60021 United States;X-APPLE-RADIUS=500;X-TITLE=257 Lexington Road:geo:-88.2116426,42.1958967
END:VEVENT
BEGIN:VEVENT
DTSTART;TZID=America/Chicago:20161002T090000
DTEND;TZID=America/Chicago:20161002T110000
DTSTAMP:20260423T213011
CREATED:20160902T120043Z
LAST-MODIFIED:20161002T181001Z
UID:10000798-1475398800-1475406000@www.racetime.info
SUMMARY:Fox Chase 5K Run/Walk & 1 Mile Youth Run
DESCRIPTION:Fox Chase 1 Mile Youth Age Group Results\n\nFox Chase 1 Mile Youth Overall Results\n\nFox Chase 5K Age Group Results\n\nFox Chase 5K Overall Results\n\nFox Chase Team Results
URL:https://www.racetime.info/event/fox-chase-5k-runwalk-1-mile-youth-run/
LOCATION:Stanger Park\, 257 Lexington Road\, Fox River Grove\, IL\, 60021\, United States
CATEGORIES:2016-10 Results (October)
ORGANIZER;CN="Sheri Sepeczi":MAILTO:sepeczi@ameritech.net
GEO:42.1958967;-88.2116426
X-APPLE-STRUCTURED-LOCATION;VALUE=URI;X-ADDRESS=Stanger Park 257 Lexington Road Fox River Grove IL 60021 United States;X-APPLE-RADIUS=500;X-TITLE=257 Lexington Road:geo:-88.2116426,42.1958967
END:VEVENT
END:VCALENDAR