BEGIN:VCALENDAR
VERSION:2.0
PRODID:-//Race Time - ECPv6.15.13//NONSGML v1.0//EN
CALSCALE:GREGORIAN
METHOD:PUBLISH
X-ORIGINAL-URL:https://www.racetime.info
X-WR-CALDESC:Events for Race Time
REFRESH-INTERVAL;VALUE=DURATION:PT1H
X-Robots-Tag:noindex
X-PUBLISHED-TTL:PT1H
BEGIN:VTIMEZONE
TZID:America/Chicago
BEGIN:DAYLIGHT
TZOFFSETFROM:-0600
TZOFFSETTO:-0500
TZNAME:CDT
DTSTART:20140309T080000
END:DAYLIGHT
BEGIN:STANDARD
TZOFFSETFROM:-0500
TZOFFSETTO:-0600
TZNAME:CST
DTSTART:20141102T070000
END:STANDARD
BEGIN:DAYLIGHT
TZOFFSETFROM:-0600
TZOFFSETTO:-0500
TZNAME:CDT
DTSTART:20150308T080000
END:DAYLIGHT
BEGIN:STANDARD
TZOFFSETFROM:-0500
TZOFFSETTO:-0600
TZNAME:CST
DTSTART:20151101T070000
END:STANDARD
BEGIN:DAYLIGHT
TZOFFSETFROM:-0600
TZOFFSETTO:-0500
TZNAME:CDT
DTSTART:20160313T080000
END:DAYLIGHT
BEGIN:STANDARD
TZOFFSETFROM:-0500
TZOFFSETTO:-0600
TZNAME:CST
DTSTART:20161106T070000
END:STANDARD
END:VTIMEZONE
BEGIN:VEVENT
DTSTART;TZID=America/Chicago:20150919T163000
DTEND;TZID=America/Chicago:20150919T190000
DTSTAMP:20260424T031204
CREATED:20150722T003016Z
LAST-MODIFIED:20150920T000520Z
UID:10000315-1442680200-1442689200@www.racetime.info
SUMMARY:Food Truck 5K
DESCRIPTION:Food Truck 5K Age Group Results\n\nFood Truck 5K Overall Results
URL:https://www.racetime.info/event/food-truck-5k/
LOCATION:Recreation Park\, 500 East Miner Street\, Arlington Heights\, IL\, 60004\, United States
CATEGORIES:2015-09 Results (September)
ORGANIZER;CN="Sherri Grysen":MAILTO:sgrysen@gmail.com
GEO:42.0846102;-87.9767831
X-APPLE-STRUCTURED-LOCATION;VALUE=URI;X-ADDRESS=Recreation Park 500 East Miner Street Arlington Heights IL 60004 United States;X-APPLE-RADIUS=500;X-TITLE=500 East Miner Street:geo:-87.9767831,42.0846102
END:VEVENT
END:VCALENDAR