BEGIN:VCALENDAR
VERSION:2.0
PRODID:-//Race Time - ECPv6.15.13//NONSGML v1.0//EN
CALSCALE:GREGORIAN
METHOD:PUBLISH
X-WR-CALNAME:Race Time
X-ORIGINAL-URL:https://www.racetime.info
X-WR-CALDESC:Events for Race Time
REFRESH-INTERVAL;VALUE=DURATION:PT1H
X-Robots-Tag:noindex
X-PUBLISHED-TTL:PT1H
BEGIN:VTIMEZONE
TZID:America/Chicago
BEGIN:DAYLIGHT
TZOFFSETFROM:-0600
TZOFFSETTO:-0500
TZNAME:CDT
DTSTART:20160313T080000
END:DAYLIGHT
BEGIN:STANDARD
TZOFFSETFROM:-0500
TZOFFSETTO:-0600
TZNAME:CST
DTSTART:20161106T070000
END:STANDARD
BEGIN:DAYLIGHT
TZOFFSETFROM:-0600
TZOFFSETTO:-0500
TZNAME:CDT
DTSTART:20170312T080000
END:DAYLIGHT
BEGIN:STANDARD
TZOFFSETFROM:-0500
TZOFFSETTO:-0600
TZNAME:CST
DTSTART:20171105T070000
END:STANDARD
BEGIN:DAYLIGHT
TZOFFSETFROM:-0600
TZOFFSETTO:-0500
TZNAME:CDT
DTSTART:20180311T080000
END:DAYLIGHT
BEGIN:STANDARD
TZOFFSETFROM:-0500
TZOFFSETTO:-0600
TZNAME:CST
DTSTART:20181104T070000
END:STANDARD
BEGIN:DAYLIGHT
TZOFFSETFROM:-0600
TZOFFSETTO:-0500
TZNAME:CDT
DTSTART:20190310T080000
END:DAYLIGHT
BEGIN:STANDARD
TZOFFSETFROM:-0500
TZOFFSETTO:-0600
TZNAME:CST
DTSTART:20191103T070000
END:STANDARD
BEGIN:DAYLIGHT
TZOFFSETFROM:-0600
TZOFFSETTO:-0500
TZNAME:CDT
DTSTART:20200308T080000
END:DAYLIGHT
BEGIN:STANDARD
TZOFFSETFROM:-0500
TZOFFSETTO:-0600
TZNAME:CST
DTSTART:20201101T070000
END:STANDARD
BEGIN:DAYLIGHT
TZOFFSETFROM:-0600
TZOFFSETTO:-0500
TZNAME:CDT
DTSTART:20210314T080000
END:DAYLIGHT
BEGIN:STANDARD
TZOFFSETFROM:-0500
TZOFFSETTO:-0600
TZNAME:CST
DTSTART:20211107T070000
END:STANDARD
END:VTIMEZONE
BEGIN:VEVENT
DTSTART;TZID=America/Chicago:20200627T090000
DTEND;TZID=America/Chicago:20200627T110000
DTSTAMP:20260424T012336
CREATED:20170613T181503Z
LAST-MODIFIED:20200418T141008Z
UID:10001471-1593248400-1593255600@www.racetime.info
SUMMARY:Fast Feet for Families 5K Run & 2 Mile Walk: CANCELLED
DESCRIPTION:
URL:https://www.racetime.info/event/fast-feet-for-families-5k-run-2-mile-walk-3/
LOCATION:Rock County Human Services\, 3530 N. County Road F\, Janesville\, WI\, 53545\, United States
ORGANIZER;CN="Shilo Titus":MAILTO:shilo.titus@co.rock.wi.us
GEO:42.7261198;-89.0295823
X-APPLE-STRUCTURED-LOCATION;VALUE=URI;X-ADDRESS=Rock County Human Services 3530 N. County Road F Janesville WI 53545 United States;X-APPLE-RADIUS=500;X-TITLE=3530 N. County Road F:geo:-89.0295823,42.7261198
END:VEVENT
BEGIN:VEVENT
DTSTART;TZID=America/Chicago:20190713T090000
DTEND;TZID=America/Chicago:20190713T110000
DTSTAMP:20260424T012336
CREATED:20170613T181503Z
LAST-MODIFIED:20190713T184359Z
UID:10001470-1563008400-1563015600@www.racetime.info
SUMMARY:Fast Feet for Families 5K Run & 2 Mile Walk
DESCRIPTION:Fast Feet For Families 5K Age Group Results\n\nFast Feet For Families 5K Overall Results
URL:https://www.racetime.info/event/fast-feet-for-families-5k-run-2-mile-walk-2/
LOCATION:Rock County Human Services\, 3530 N. County Road F\, Janesville\, WI\, 53545\, United States
CATEGORIES:2019-07 Results (July)
ORGANIZER;CN="Shilo Titus":MAILTO:shilo.titus@co.rock.wi.us
GEO:42.7261198;-89.0295823
X-APPLE-STRUCTURED-LOCATION;VALUE=URI;X-ADDRESS=Rock County Human Services 3530 N. County Road F Janesville WI 53545 United States;X-APPLE-RADIUS=500;X-TITLE=3530 N. County Road F:geo:-89.0295823,42.7261198
END:VEVENT
BEGIN:VEVENT
DTSTART;TZID=America/Chicago:20180721T090000
DTEND;TZID=America/Chicago:20180721T110000
DTSTAMP:20260424T012336
CREATED:20170613T181503Z
LAST-MODIFIED:20180721T174820Z
UID:10001469-1532163600-1532170800@www.racetime.info
SUMMARY:Fast Feet for Families 5K Run & 2 Mile Walk
DESCRIPTION:Fast Feet For Families 5K Age Group Results\n\nFast Feet For Families 5K Overall Results
URL:https://www.racetime.info/event/fast-feet-for-families-5k-run-2-mile-walk/
LOCATION:Rock County Human Services\, 3530 N. County Road F\, Janesville\, WI\, 53545\, United States
CATEGORIES:2018-07 Results (July)
ORGANIZER;CN="Shilo Titus":MAILTO:shilo.titus@co.rock.wi.us
GEO:42.7261198;-89.0295823
X-APPLE-STRUCTURED-LOCATION;VALUE=URI;X-ADDRESS=Rock County Human Services 3530 N. County Road F Janesville WI 53545 United States;X-APPLE-RADIUS=500;X-TITLE=3530 N. County Road F:geo:-89.0295823,42.7261198
END:VEVENT
BEGIN:VEVENT
DTSTART;TZID=America/Chicago:20170722T090000
DTEND;TZID=America/Chicago:20170722T110000
DTSTAMP:20260424T012336
CREATED:20170613T181503Z
LAST-MODIFIED:20170722T223353Z
UID:10000655-1500714000-1500721200@www.racetime.info
SUMMARY:Fast Feet for Families 5K Run & 2 Mile Walk
DESCRIPTION:Fast Feet For Families 5K Age Group Results\n\nFast Feet For Families 5K Overall Results
URL:https://www.racetime.info/event/fast-feets-for-families-5k-run-2-mile-walk/
LOCATION:Rock County Human Services\, 3530 N. County Road F\, Janesville\, WI\, 53545\, United States
CATEGORIES:2017-07 Results (July)
ORGANIZER;CN="Shilo Titus":MAILTO:shilo.titus@co.rock.wi.us
GEO:42.7261198;-89.0295823
X-APPLE-STRUCTURED-LOCATION;VALUE=URI;X-ADDRESS=Rock County Human Services 3530 N. County Road F Janesville WI 53545 United States;X-APPLE-RADIUS=500;X-TITLE=3530 N. County Road F:geo:-89.0295823,42.7261198
END:VEVENT
END:VCALENDAR