BEGIN:VCALENDAR
VERSION:2.0
PRODID:-//Race Time - ECPv6.15.13//NONSGML v1.0//EN
CALSCALE:GREGORIAN
METHOD:PUBLISH
X-WR-CALNAME:Race Time
X-ORIGINAL-URL:https://www.racetime.info
X-WR-CALDESC:Events for Race Time
REFRESH-INTERVAL;VALUE=DURATION:PT1H
X-Robots-Tag:noindex
X-PUBLISHED-TTL:PT1H
BEGIN:VTIMEZONE
TZID:America/Chicago
BEGIN:DAYLIGHT
TZOFFSETFROM:-0600
TZOFFSETTO:-0500
TZNAME:CDT
DTSTART:20160313T080000
END:DAYLIGHT
BEGIN:STANDARD
TZOFFSETFROM:-0500
TZOFFSETTO:-0600
TZNAME:CST
DTSTART:20161106T070000
END:STANDARD
BEGIN:DAYLIGHT
TZOFFSETFROM:-0600
TZOFFSETTO:-0500
TZNAME:CDT
DTSTART:20170312T080000
END:DAYLIGHT
BEGIN:STANDARD
TZOFFSETFROM:-0500
TZOFFSETTO:-0600
TZNAME:CST
DTSTART:20171105T070000
END:STANDARD
BEGIN:DAYLIGHT
TZOFFSETFROM:-0600
TZOFFSETTO:-0500
TZNAME:CDT
DTSTART:20180311T080000
END:DAYLIGHT
BEGIN:STANDARD
TZOFFSETFROM:-0500
TZOFFSETTO:-0600
TZNAME:CST
DTSTART:20181104T070000
END:STANDARD
BEGIN:DAYLIGHT
TZOFFSETFROM:-0600
TZOFFSETTO:-0500
TZNAME:CDT
DTSTART:20190310T080000
END:DAYLIGHT
BEGIN:STANDARD
TZOFFSETFROM:-0500
TZOFFSETTO:-0600
TZNAME:CST
DTSTART:20191103T070000
END:STANDARD
BEGIN:DAYLIGHT
TZOFFSETFROM:-0600
TZOFFSETTO:-0500
TZNAME:CDT
DTSTART:20200308T080000
END:DAYLIGHT
BEGIN:STANDARD
TZOFFSETFROM:-0500
TZOFFSETTO:-0600
TZNAME:CST
DTSTART:20201101T070000
END:STANDARD
END:VTIMEZONE
BEGIN:VEVENT
DTSTART;TZID=America/Chicago:20190825T090000
DTEND;TZID=America/Chicago:20190825T110000
DTSTAMP:20260424T024534
CREATED:20170410T122303Z
LAST-MODIFIED:20190828T043539Z
UID:10001314-1566723600-1566730800@www.racetime.info
SUMMARY:Prairie State Road Runners & DNA Athletics:  FREE 5K Run/Walk!
DESCRIPTION:DNA PSRR FREE 5K AGE GROUP RESULTS\n\nDNA PSRR FREE 5K OVERALL RESULTS
URL:https://www.racetime.info/event/prairie-state-road-runners-dna-athletics-free-5k-run-walk-2/
LOCATION:Prairie Bluff Golf Course\, 19433 Renwick Road\, Crest Hill\, IL\, United States
CATEGORIES:2019-08 Results (August)
ORGANIZER;CN="Steve Koven":MAILTO:stevekoven@psrr.org
GEO:41.5942836;-88.0906993
X-APPLE-STRUCTURED-LOCATION;VALUE=URI;X-ADDRESS=Prairie Bluff Golf Course 19433 Renwick Road Crest Hill IL United States;X-APPLE-RADIUS=500;X-TITLE=19433 Renwick Road:geo:-88.0906993,41.5942836
END:VEVENT
BEGIN:VEVENT
DTSTART;TZID=America/Chicago:20180826T090000
DTEND;TZID=America/Chicago:20180826T110000
DTSTAMP:20260424T024534
CREATED:20170410T122303Z
LAST-MODIFIED:20180826T182553Z
UID:10001306-1535274000-1535281200@www.racetime.info
SUMMARY:Prairie State Road Runners & DNA Athletics:  FREE 5K Run/Walk!
DESCRIPTION:DNA PSRR 5K Age Group Results\n\nDNA PSRR 5K Overall Results
URL:https://www.racetime.info/event/prairie-state-road-runners-dna-athletics-free-5k-run-walk/
LOCATION:Prairie Bluff Golf Course\, 19433 Renwick Road\, Crest Hill\, IL\, United States
CATEGORIES:2018-08 Results (August)
ORGANIZER;CN="Steve Koven":MAILTO:stevekoven@psrr.org
GEO:41.5942836;-88.0906993
X-APPLE-STRUCTURED-LOCATION;VALUE=URI;X-ADDRESS=Prairie Bluff Golf Course 19433 Renwick Road Crest Hill IL United States;X-APPLE-RADIUS=500;X-TITLE=19433 Renwick Road:geo:-88.0906993,41.5942836
END:VEVENT
BEGIN:VEVENT
DTSTART;TZID=America/Chicago:20170827T090000
DTEND;TZID=America/Chicago:20170827T110000
DTSTAMP:20260424T024534
CREATED:20170410T122303Z
LAST-MODIFIED:20170827T165054Z
UID:10001304-1503824400-1503831600@www.racetime.info
SUMMARY:Prairie State Road Runners & DNA Athletics:  FREE 5K Run/Walk!
DESCRIPTION:PSRR/DNA Athletics 5K Age Group Results\n\nPSRR/DNA Athletics 5K Overall Results
URL:https://www.racetime.info/event/prairie-state-road-runners-dna-athletics-free-5k-runwalk/
LOCATION:Prairie Bluff Golf Course\, 19433 Renwick Road\, Crest Hill\, IL\, United States
CATEGORIES:2017-08 Results (August)
ORGANIZER;CN="Steve Koven":MAILTO:stevekoven@psrr.org
GEO:41.5942836;-88.0906993
X-APPLE-STRUCTURED-LOCATION;VALUE=URI;X-ADDRESS=Prairie Bluff Golf Course 19433 Renwick Road Crest Hill IL United States;X-APPLE-RADIUS=500;X-TITLE=19433 Renwick Road:geo:-88.0906993,41.5942836
END:VEVENT
END:VCALENDAR