BEGIN:VCALENDAR
VERSION:2.0
PRODID:-//Race Time - ECPv6.15.13//NONSGML v1.0//EN
CALSCALE:GREGORIAN
METHOD:PUBLISH
X-WR-CALNAME:Race Time
X-ORIGINAL-URL:https://www.racetime.info
X-WR-CALDESC:Events for Race Time
REFRESH-INTERVAL;VALUE=DURATION:PT1H
X-Robots-Tag:noindex
X-PUBLISHED-TTL:PT1H
BEGIN:VTIMEZONE
TZID:America/Chicago
BEGIN:DAYLIGHT
TZOFFSETFROM:-0600
TZOFFSETTO:-0500
TZNAME:CDT
DTSTART:20140309T080000
END:DAYLIGHT
BEGIN:STANDARD
TZOFFSETFROM:-0500
TZOFFSETTO:-0600
TZNAME:CST
DTSTART:20141102T070000
END:STANDARD
BEGIN:DAYLIGHT
TZOFFSETFROM:-0600
TZOFFSETTO:-0500
TZNAME:CDT
DTSTART:20150308T080000
END:DAYLIGHT
BEGIN:STANDARD
TZOFFSETFROM:-0500
TZOFFSETTO:-0600
TZNAME:CST
DTSTART:20151101T070000
END:STANDARD
BEGIN:DAYLIGHT
TZOFFSETFROM:-0600
TZOFFSETTO:-0500
TZNAME:CDT
DTSTART:20160313T080000
END:DAYLIGHT
BEGIN:STANDARD
TZOFFSETFROM:-0500
TZOFFSETTO:-0600
TZNAME:CST
DTSTART:20161106T070000
END:STANDARD
END:VTIMEZONE
BEGIN:VEVENT
DTSTART;TZID=America/Chicago:20151006T163000
DTEND;TZID=America/Chicago:20151006T180000
DTSTAMP:20260424T012301
CREATED:20150925T010904Z
LAST-MODIFIED:20151007T014655Z
UID:10000146-1444149000-1444154400@www.racetime.info
SUMMARY:Will County Girls Championships Cross Country Meet
DESCRIPTION:WILL COUNTY XC FRESH SOPH GIRLS OVERALL\n\nWILL COUNTY XC FRESH SOPH GIRLS TEAM RESULTS\n\nWILL COUNTY XC VARSITY GIRLS OVERALL\n\nWILL COUNTY XC VARSITY GIRLS TEAM RESULTS\n\nWILL COUNTY XC OPEN GIRLS OVERALL
URL:https://www.racetime.info/event/will-county-girls-championships-cross-country-meet/
LOCATION:Channahon Community Park\, 23200 W. McClintock Road\, Channahon\, IL\, 60410\, United States
CATEGORIES:2015 Cross Country Results
ORGANIZER;CN="Steve Millsaps":MAILTO:smillsaps@jths.org
GEO:41.4726537;-88.1767734
X-APPLE-STRUCTURED-LOCATION;VALUE=URI;X-ADDRESS=Channahon Community Park 23200 W. McClintock Road Channahon IL 60410 United States;X-APPLE-RADIUS=500;X-TITLE=23200 W. McClintock Road:geo:-88.1767734,41.4726537
END:VEVENT
END:VCALENDAR