BEGIN:VCALENDAR
VERSION:2.0
PRODID:-//Race Time - ECPv6.15.13//NONSGML v1.0//EN
CALSCALE:GREGORIAN
METHOD:PUBLISH
X-WR-CALNAME:Race Time
X-ORIGINAL-URL:https://www.racetime.info
X-WR-CALDESC:Events for Race Time
REFRESH-INTERVAL;VALUE=DURATION:PT1H
X-Robots-Tag:noindex
X-PUBLISHED-TTL:PT1H
BEGIN:VTIMEZONE
TZID:America/Chicago
BEGIN:DAYLIGHT
TZOFFSETFROM:-0600
TZOFFSETTO:-0500
TZNAME:CDT
DTSTART:20140309T080000
END:DAYLIGHT
BEGIN:STANDARD
TZOFFSETFROM:-0500
TZOFFSETTO:-0600
TZNAME:CST
DTSTART:20141102T070000
END:STANDARD
BEGIN:DAYLIGHT
TZOFFSETFROM:-0600
TZOFFSETTO:-0500
TZNAME:CDT
DTSTART:20150308T080000
END:DAYLIGHT
BEGIN:STANDARD
TZOFFSETFROM:-0500
TZOFFSETTO:-0600
TZNAME:CST
DTSTART:20151101T070000
END:STANDARD
BEGIN:DAYLIGHT
TZOFFSETFROM:-0600
TZOFFSETTO:-0500
TZNAME:CDT
DTSTART:20160313T080000
END:DAYLIGHT
BEGIN:STANDARD
TZOFFSETFROM:-0500
TZOFFSETTO:-0600
TZNAME:CST
DTSTART:20161106T070000
END:STANDARD
BEGIN:DAYLIGHT
TZOFFSETFROM:-0600
TZOFFSETTO:-0500
TZNAME:CDT
DTSTART:20170312T080000
END:DAYLIGHT
BEGIN:STANDARD
TZOFFSETFROM:-0500
TZOFFSETTO:-0600
TZNAME:CST
DTSTART:20171105T070000
END:STANDARD
BEGIN:DAYLIGHT
TZOFFSETFROM:-0600
TZOFFSETTO:-0500
TZNAME:CDT
DTSTART:20180311T080000
END:DAYLIGHT
BEGIN:STANDARD
TZOFFSETFROM:-0500
TZOFFSETTO:-0600
TZNAME:CST
DTSTART:20181104T070000
END:STANDARD
BEGIN:DAYLIGHT
TZOFFSETFROM:-0600
TZOFFSETTO:-0500
TZNAME:CDT
DTSTART:20190310T080000
END:DAYLIGHT
BEGIN:STANDARD
TZOFFSETFROM:-0500
TZOFFSETTO:-0600
TZNAME:CST
DTSTART:20191103T070000
END:STANDARD
BEGIN:DAYLIGHT
TZOFFSETFROM:-0600
TZOFFSETTO:-0500
TZNAME:CDT
DTSTART:20200308T080000
END:DAYLIGHT
BEGIN:STANDARD
TZOFFSETFROM:-0500
TZOFFSETTO:-0600
TZNAME:CST
DTSTART:20201101T070000
END:STANDARD
BEGIN:DAYLIGHT
TZOFFSETFROM:-0600
TZOFFSETTO:-0500
TZNAME:CDT
DTSTART:20210314T080000
END:DAYLIGHT
BEGIN:STANDARD
TZOFFSETFROM:-0500
TZOFFSETTO:-0600
TZNAME:CST
DTSTART:20211107T070000
END:STANDARD
BEGIN:DAYLIGHT
TZOFFSETFROM:-0600
TZOFFSETTO:-0500
TZNAME:CDT
DTSTART:20220313T080000
END:DAYLIGHT
BEGIN:STANDARD
TZOFFSETFROM:-0500
TZOFFSETTO:-0600
TZNAME:CST
DTSTART:20221106T070000
END:STANDARD
BEGIN:DAYLIGHT
TZOFFSETFROM:-0600
TZOFFSETTO:-0500
TZNAME:CDT
DTSTART:20230312T080000
END:DAYLIGHT
BEGIN:STANDARD
TZOFFSETFROM:-0500
TZOFFSETTO:-0600
TZNAME:CST
DTSTART:20231105T070000
END:STANDARD
BEGIN:DAYLIGHT
TZOFFSETFROM:-0600
TZOFFSETTO:-0500
TZNAME:CDT
DTSTART:20240310T080000
END:DAYLIGHT
BEGIN:STANDARD
TZOFFSETFROM:-0500
TZOFFSETTO:-0600
TZNAME:CST
DTSTART:20241103T070000
END:STANDARD
BEGIN:DAYLIGHT
TZOFFSETFROM:-0600
TZOFFSETTO:-0500
TZNAME:CDT
DTSTART:20250309T080000
END:DAYLIGHT
BEGIN:STANDARD
TZOFFSETFROM:-0500
TZOFFSETTO:-0600
TZNAME:CST
DTSTART:20251102T070000
END:STANDARD
BEGIN:DAYLIGHT
TZOFFSETFROM:-0600
TZOFFSETTO:-0500
TZNAME:CDT
DTSTART:20260308T080000
END:DAYLIGHT
BEGIN:STANDARD
TZOFFSETFROM:-0500
TZOFFSETTO:-0600
TZNAME:CST
DTSTART:20261101T070000
END:STANDARD
END:VTIMEZONE
BEGIN:VEVENT
DTSTART;TZID=America/Chicago:20250927T100000
DTEND;TZID=America/Chicago:20250927T123000
DTSTAMP:20260423T235950
CREATED:20250421T120841Z
LAST-MODIFIED:20251001T151347Z
UID:10002353-1758967200-1758976200@www.racetime.info
SUMMARY:Rosetoberfest 5K Run/Walk
DESCRIPTION:Rosetoberfest 5K Overall Results
URL:https://www.racetime.info/event/rosetoberfest-5k-run-walk/
LOCATION:Parkway Bank Park Entertainment District\, 5501 Park Place\, Rosemont\, IL\, 60018\, United States
CATEGORIES:2025-09 Results (September)
ORGANIZER;CN="Sue Hussey":MAILTO:sue@saluteinc.org
END:VEVENT
BEGIN:VEVENT
DTSTART;TZID=America/Chicago:20250524T080000
DTEND;TZID=America/Chicago:20250524T100000
DTSTAMP:20260423T235950
CREATED:20250314T191824Z
LAST-MODIFIED:20250314T191824Z
UID:10002271-1748073600-1748080800@www.racetime.info
SUMMARY:Salute 2 Mile Honor Walk and 4 Mile Remember Run
DESCRIPTION:
URL:https://www.racetime.info/event/salute-2-mile-honor-walk-and-4-mile-remember-run/
LOCATION:Lake Arlington\, 2201 N. Windsor Drive\, Arlington Heights\, 60004
ORGANIZER;CN="Sue Hussey":MAILTO:sue@saluteinc.org
END:VEVENT
BEGIN:VEVENT
DTSTART;TZID=America/Chicago:20240525T080000
DTEND;TZID=America/Chicago:20240525T100000
DTSTAMP:20260423T235950
CREATED:20220213T142702Z
LAST-MODIFIED:20240208T132608Z
UID:10002087-1716624000-1716631200@www.racetime.info
SUMMARY:Salute 2 Mile Honor Walk and 4 Mile Remember Run
DESCRIPTION:
URL:https://www.racetime.info/event/copy-of-salute-inc-5k-run-walk-1-mile-walk-2/
LOCATION:Lake Arlington\, 2201 N. Windsor Drive\, Arlington Heights\, 60004
ORGANIZER;CN="Sue Hussey":MAILTO:sue@saluteinc.org
END:VEVENT
BEGIN:VEVENT
DTSTART;TZID=America/Chicago:20230527T080000
DTEND;TZID=America/Chicago:20230527T100000
DTSTAMP:20260423T235950
CREATED:20220213T142702Z
LAST-MODIFIED:20230527T162608Z
UID:10002086-1685174400-1685181600@www.racetime.info
SUMMARY:SALUTE\, INC. 5K Run/Walk & 1 Mile Walk
DESCRIPTION:Salute 5K Age Group Results\n\nSalute 5K Overall Results\n\nSalute 10K Age Group Results\n\nSalute 10K Overall Results
URL:https://www.racetime.info/event/copy-of-salute-inc-5k-run-walk-1-mile-walk/
LOCATION:Recreation Park\, 500 East Miner Street\, Arlington Heights\, IL\, 60004\, United States
CATEGORIES:2023-05 Results (May)
ORGANIZER;CN="Sue Hussey":MAILTO:sue@saluteinc.org
GEO:42.0846102;-87.9767831
X-APPLE-STRUCTURED-LOCATION;VALUE=URI;X-ADDRESS=Recreation Park 500 East Miner Street Arlington Heights IL 60004 United States;X-APPLE-RADIUS=500;X-TITLE=500 East Miner Street:geo:-87.9767831,42.0846102
END:VEVENT
BEGIN:VEVENT
DTSTART;TZID=America/Chicago:20220528T080000
DTEND;TZID=America/Chicago:20220528T093000
DTSTAMP:20260423T235950
CREATED:20220213T142702Z
LAST-MODIFIED:20220528T155646Z
UID:10002085-1653724800-1653730200@www.racetime.info
SUMMARY:SALUTE\, INC. 5K Run/Walk & 1 Mile Walk
DESCRIPTION:Salute 5K Age Group Results\n\nSalute 5K Overall Results
URL:https://www.racetime.info/event/salute-inc-5k-run-walk-1-mile-walk/
LOCATION:Recreation Park\, 500 East Miner Street\, Arlington Heights\, IL\, 60004\, United States
CATEGORIES:2022-05 Results (May)
ORGANIZER;CN="Sue Hussey":MAILTO:sue@saluteinc.org
GEO:42.0846102;-87.9767831
X-APPLE-STRUCTURED-LOCATION;VALUE=URI;X-ADDRESS=Recreation Park 500 East Miner Street Arlington Heights IL 60004 United States;X-APPLE-RADIUS=500;X-TITLE=500 East Miner Street:geo:-87.9767831,42.0846102
END:VEVENT
BEGIN:VEVENT
DTSTART;TZID=America/Chicago:20200812T183000
DTEND;TZID=America/Chicago:20200812T203000
DTSTAMP:20260423T235950
CREATED:20170621T204124Z
LAST-MODIFIED:20200629T123100Z
UID:10001500-1597257000-1597264200@www.racetime.info
SUMMARY:Homestretch for Heroes 5K Run/Walk: CANCELLED
DESCRIPTION:
URL:https://www.racetime.info/event/homestretch-for-heroes-5k-run-walk-3/
LOCATION:Arlington International Racecourse\, 2200 W. Euclid Avenue\, Arlington Heights\, IL\, 60004\, United States
ORGANIZER;CN="Sue Hussey":MAILTO:sue@saluteinc.org
GEO:42.088754;-87.955779
X-APPLE-STRUCTURED-LOCATION;VALUE=URI;X-ADDRESS=Arlington International Racecourse 2200 W. Euclid Avenue Arlington Heights IL 60004 United States;X-APPLE-RADIUS=500;X-TITLE=2200 W. Euclid Avenue:geo:-87.955779,42.088754
END:VEVENT
BEGIN:VEVENT
DTSTART;TZID=America/Chicago:20190806T183000
DTEND;TZID=America/Chicago:20190806T203000
DTSTAMP:20260423T235950
CREATED:20170621T204124Z
LAST-MODIFIED:20190811T201953Z
UID:10001499-1565116200-1565123400@www.racetime.info
SUMMARY:Homestretch for Heroes 5K Run/Walk
DESCRIPTION:Homestretch For Heroes Overall 1.25 Mile Results\n\nHomestretch For Heroes Overall 5K Results\n\nHomestretch For Heroes Overall Results Unknown Distance\n\nHomestretch For Heroes Team Results
URL:https://www.racetime.info/event/homestretch-for-heroes-5k-run-walk-2/
LOCATION:Arlington International Racecourse\, 2200 W. Euclid Avenue\, Arlington Heights\, IL\, 60004\, United States
CATEGORIES:2019-08 Results (August)
ORGANIZER;CN="Sue Hussey":MAILTO:sue@saluteinc.org
GEO:42.088754;-87.955779
X-APPLE-STRUCTURED-LOCATION;VALUE=URI;X-ADDRESS=Arlington International Racecourse 2200 W. Euclid Avenue Arlington Heights IL 60004 United States;X-APPLE-RADIUS=500;X-TITLE=2200 W. Euclid Avenue:geo:-87.955779,42.088754
END:VEVENT
BEGIN:VEVENT
DTSTART;TZID=America/Chicago:20190525T080000
DTEND;TZID=America/Chicago:20190525T100000
DTSTAMP:20260423T235950
CREATED:20171207T021419Z
LAST-MODIFIED:20190525T165022Z
UID:10001704-1558771200-1558778400@www.racetime.info
SUMMARY:Salute\, Inc. 5K & 10K Run; 5K Walk; 5K & 10K Adaptive Run/Walk
DESCRIPTION:Salute 5K Age Group Results\n\nSalute 5K Overall Results\n\nSalute 10K Age Group Results\n\nSalute 10K Overall Results
URL:https://www.racetime.info/event/salute-inc-5k-5k-walk-5k-10k-adaptive-run-walk-2/
LOCATION:Recreation Park\, 500 East Miner Street\, Arlington Heights\, IL\, 60004\, United States
CATEGORIES:2019-05 Results (May)
ORGANIZER;CN="Sue Hussey":MAILTO:sue@saluteinc.org
GEO:42.0846102;-87.9767831
X-APPLE-STRUCTURED-LOCATION;VALUE=URI;X-ADDRESS=Recreation Park 500 East Miner Street Arlington Heights IL 60004 United States;X-APPLE-RADIUS=500;X-TITLE=500 East Miner Street:geo:-87.9767831,42.0846102
END:VEVENT
BEGIN:VEVENT
DTSTART;TZID=America/Chicago:20180807T183000
DTEND;TZID=America/Chicago:20180807T203000
DTSTAMP:20260423T235950
CREATED:20170621T204124Z
LAST-MODIFIED:20180810T022013Z
UID:10001498-1533666600-1533673800@www.racetime.info
SUMMARY:Homestretch for Heroes 5K Run/Walk
DESCRIPTION:Homestretch for Heroes 5K Overall Results\n\nHomestretch for Heroes Team Results
URL:https://www.racetime.info/event/homestretch-for-heroes-5k-run-walk/
LOCATION:Arlington International Racecourse\, 2200 W. Euclid Avenue\, Arlington Heights\, IL\, 60004\, United States
CATEGORIES:2018-08 Results (August)
ORGANIZER;CN="Sue Hussey":MAILTO:sue@saluteinc.org
GEO:42.088754;-87.955779
X-APPLE-STRUCTURED-LOCATION;VALUE=URI;X-ADDRESS=Arlington International Racecourse 2200 W. Euclid Avenue Arlington Heights IL 60004 United States;X-APPLE-RADIUS=500;X-TITLE=2200 W. Euclid Avenue:geo:-87.955779,42.088754
END:VEVENT
BEGIN:VEVENT
DTSTART;TZID=America/Chicago:20180527T080000
DTEND;TZID=America/Chicago:20180527T100000
DTSTAMP:20260423T235950
CREATED:20171207T021419Z
LAST-MODIFIED:20180605T140214Z
UID:10001703-1527408000-1527415200@www.racetime.info
SUMMARY:Salute\, Inc. 5K & 10K Run; 5K Walk; 5K & 10K Adaptive Run/Walk
DESCRIPTION:Salute Run 5K Adaptive Results\n\nSalute Run 5K Age Group Results\n\nSalute Run 5K Overall Results\n\nSalute Run 10K Adaptive Results\n\nSalute Run 10K Age Group Results\n\nSalute Run 10K Overall Results
URL:https://www.racetime.info/event/salute-inc-5k-5k-walk-5k-10k-adaptive-run-walk/
LOCATION:Recreation Park\, 500 East Miner Street\, Arlington Heights\, IL\, 60004\, United States
CATEGORIES:2018-05 Results (May)
ORGANIZER;CN="Sue Hussey":MAILTO:sue@saluteinc.org
GEO:42.0846102;-87.9767831
X-APPLE-STRUCTURED-LOCATION;VALUE=URI;X-ADDRESS=Recreation Park 500 East Miner Street Arlington Heights IL 60004 United States;X-APPLE-RADIUS=500;X-TITLE=500 East Miner Street:geo:-87.9767831,42.0846102
END:VEVENT
BEGIN:VEVENT
DTSTART;TZID=America/Chicago:20170808T183000
DTEND;TZID=America/Chicago:20170808T203000
DTSTAMP:20260423T235950
CREATED:20170621T204124Z
LAST-MODIFIED:20170809T103718Z
UID:10001497-1502217000-1502224200@www.racetime.info
SUMMARY:Homestretch for Heroes 5K Run/Walk
DESCRIPTION:Homestretch for Heroes 5K Overall Results\n\nHomestretch for Heroes Team Results
URL:https://www.racetime.info/event/homestretch-for-heroes-5k-runwalk-2/
LOCATION:Arlington International Racecourse\, 2200 W. Euclid Avenue\, Arlington Heights\, IL\, 60004\, United States
CATEGORIES:2017-08 Results (August)
ORGANIZER;CN="Sue Hussey":MAILTO:sue@saluteinc.org
GEO:42.088754;-87.955779
X-APPLE-STRUCTURED-LOCATION;VALUE=URI;X-ADDRESS=Arlington International Racecourse 2200 W. Euclid Avenue Arlington Heights IL 60004 United States;X-APPLE-RADIUS=500;X-TITLE=2200 W. Euclid Avenue:geo:-87.955779,42.088754
END:VEVENT
BEGIN:VEVENT
DTSTART;TZID=America/Chicago:20160809T183000
DTEND;TZID=America/Chicago:20160809T203000
DTSTAMP:20260423T235950
CREATED:20160708T200932Z
LAST-MODIFIED:20160810T023242Z
UID:10000276-1470767400-1470774600@www.racetime.info
SUMMARY:Homestretch for Heroes 5K Run/Walk
DESCRIPTION:Homestretch For Heroes 5K Overall Results\n\nHomestretch For Heroes Team Results
URL:https://www.racetime.info/event/homestretch-for-heroes-5k-runwalk/
LOCATION:Arlington International Racecourse\, 2200 W. Euclid Avenue\, Arlington Heights\, IL\, 60004\, United States
CATEGORIES:2016-08 Results (August)
ORGANIZER;CN="Sue Hussey":MAILTO:sue@saluteinc.org
GEO:42.088754;-87.955779
X-APPLE-STRUCTURED-LOCATION;VALUE=URI;X-ADDRESS=Arlington International Racecourse 2200 W. Euclid Avenue Arlington Heights IL 60004 United States;X-APPLE-RADIUS=500;X-TITLE=2200 W. Euclid Avenue:geo:-87.955779,42.088754
END:VEVENT
BEGIN:VEVENT
DTSTART;TZID=America/Chicago:20160529T080000
DTEND;TZID=America/Chicago:20160529T110000
DTSTAMP:20260423T235950
CREATED:20160315T181321Z
LAST-MODIFIED:20170410T054209Z
UID:10000224-1464508800-1464519600@www.racetime.info
SUMMARY:Salute 5K Run/Walk & 10K Run & Tactical Challenge
DESCRIPTION:Got Freedom 5K Adaptive Challenge \nGot Freedom 5K Age Group Results\n\nGot Freedom 5K Overall Results\n\nGot Freedom 5K Tactical Challenge\n\nGot Freedom 10K Age Group Results\n\nGot Freedom 10K Overall Results\n\nGot Freedom 10K Adaptive Challenge
URL:https://www.racetime.info/event/salute-5k-runwalk-10k-run-tactical-challenge/
LOCATION:Miner School\, 1101 East Miner Street\, Arlington Heights\, IL\, 60004\, United States
CATEGORIES:2016-05 Results (May)
ORGANIZER;CN="Sue Hussey":MAILTO:sue@saluteinc.org
GEO:42.083683;-87.968497
X-APPLE-STRUCTURED-LOCATION;VALUE=URI;X-ADDRESS=Miner School 1101 East Miner Street Arlington Heights IL 60004 United States;X-APPLE-RADIUS=500;X-TITLE=1101 East Miner Street:geo:-87.968497,42.083683
END:VEVENT
BEGIN:VEVENT
DTSTART;TZID=America/Chicago:20150812T183000
DTEND;TZID=America/Chicago:20150812T210000
DTSTAMP:20260423T235950
CREATED:20150713T131241Z
LAST-MODIFIED:20150813T015249Z
UID:10000082-1439404200-1439413200@www.racetime.info
SUMMARY:Homestretch for Heroes 5K
DESCRIPTION:Homestretch for Heroes 5K Overall Results
URL:https://www.racetime.info/event/homestretch-for-heroes-5k/
LOCATION:Arlington International Racecourse\, 2200 W. Euclid Avenue\, Arlington Heights\, IL\, 60004\, United States
CATEGORIES:2015-08 Results (August)
ORGANIZER;CN="Sue Hussey":MAILTO:sue@saluteinc.org
GEO:42.088754;-87.955779
X-APPLE-STRUCTURED-LOCATION;VALUE=URI;X-ADDRESS=Arlington International Racecourse 2200 W. Euclid Avenue Arlington Heights IL 60004 United States;X-APPLE-RADIUS=500;X-TITLE=2200 W. Euclid Avenue:geo:-87.955779,42.088754
END:VEVENT
END:VCALENDAR