BEGIN:VCALENDAR
VERSION:2.0
PRODID:-//Race Time - ECPv6.15.13//NONSGML v1.0//EN
CALSCALE:GREGORIAN
METHOD:PUBLISH
X-WR-CALNAME:Race Time
X-ORIGINAL-URL:https://www.racetime.info
X-WR-CALDESC:Events for Race Time
REFRESH-INTERVAL;VALUE=DURATION:PT1H
X-Robots-Tag:noindex
X-PUBLISHED-TTL:PT1H
BEGIN:VTIMEZONE
TZID:America/Chicago
BEGIN:DAYLIGHT
TZOFFSETFROM:-0600
TZOFFSETTO:-0500
TZNAME:CDT
DTSTART:20140309T080000
END:DAYLIGHT
BEGIN:STANDARD
TZOFFSETFROM:-0500
TZOFFSETTO:-0600
TZNAME:CST
DTSTART:20141102T070000
END:STANDARD
BEGIN:DAYLIGHT
TZOFFSETFROM:-0600
TZOFFSETTO:-0500
TZNAME:CDT
DTSTART:20150308T080000
END:DAYLIGHT
BEGIN:STANDARD
TZOFFSETFROM:-0500
TZOFFSETTO:-0600
TZNAME:CST
DTSTART:20151101T070000
END:STANDARD
BEGIN:DAYLIGHT
TZOFFSETFROM:-0600
TZOFFSETTO:-0500
TZNAME:CDT
DTSTART:20160313T080000
END:DAYLIGHT
BEGIN:STANDARD
TZOFFSETFROM:-0500
TZOFFSETTO:-0600
TZNAME:CST
DTSTART:20161106T070000
END:STANDARD
END:VTIMEZONE
BEGIN:VEVENT
DTSTART;TZID=America/Chicago:20150524T080000
DTEND;TZID=America/Chicago:20150524T110000
DTSTAMP:20260424T050916
CREATED:20150409T034507Z
LAST-MODIFIED:20150829T202108Z
UID:10000148-1432454400-1432465200@www.racetime.info
SUMMARY:Got Freedom
DESCRIPTION:Got Freedom 5K Adaptive Overall Results\n\nGot Freedom 5K Tactical Challenge Overall Results\n\nGot Freedom 5K Age Group Results\n\nGot Freedom 5K Overall Results\n\nGot Freedom 10K Adaptive Overall Results\n\nGot Freedom 10K Age Group Results\n\nGot Freedom 10K Overall Results
URL:https://www.racetime.info/event/got-freedom-2/
LOCATION:Miner School\, Arlington Heights\, IL\, United States
CATEGORIES:2015-05 Results (May)
ORGANIZER;CN="Sue Hussey":MAILTO:sue@saluteinc.org
GEO:42.0883603;-87.9806265
END:VEVENT
END:VCALENDAR