BEGIN:VCALENDAR
VERSION:2.0
PRODID:-//Race Time - ECPv6.15.13//NONSGML v1.0//EN
CALSCALE:GREGORIAN
METHOD:PUBLISH
X-ORIGINAL-URL:https://www.racetime.info
X-WR-CALDESC:Events for Race Time
REFRESH-INTERVAL;VALUE=DURATION:PT1H
X-Robots-Tag:noindex
X-PUBLISHED-TTL:PT1H
BEGIN:VTIMEZONE
TZID:America/Chicago
BEGIN:DAYLIGHT
TZOFFSETFROM:-0600
TZOFFSETTO:-0500
TZNAME:CDT
DTSTART:20140309T080000
END:DAYLIGHT
BEGIN:STANDARD
TZOFFSETFROM:-0500
TZOFFSETTO:-0600
TZNAME:CST
DTSTART:20141102T070000
END:STANDARD
BEGIN:DAYLIGHT
TZOFFSETFROM:-0600
TZOFFSETTO:-0500
TZNAME:CDT
DTSTART:20150308T080000
END:DAYLIGHT
BEGIN:STANDARD
TZOFFSETFROM:-0500
TZOFFSETTO:-0600
TZNAME:CST
DTSTART:20151101T070000
END:STANDARD
BEGIN:DAYLIGHT
TZOFFSETFROM:-0600
TZOFFSETTO:-0500
TZNAME:CDT
DTSTART:20160313T080000
END:DAYLIGHT
BEGIN:STANDARD
TZOFFSETFROM:-0500
TZOFFSETTO:-0600
TZNAME:CST
DTSTART:20161106T070000
END:STANDARD
END:VTIMEZONE
BEGIN:VEVENT
DTSTART;TZID=America/Chicago:20150815T080000
DTEND;TZID=America/Chicago:20150815T100000
DTSTAMP:20260424T053450
CREATED:20150627T031105Z
LAST-MODIFIED:20150815T171934Z
UID:10000289-1439625600-1439632800@www.racetime.info
SUMMARY:Lisbon Kraut Route 5K Run/Walk
DESCRIPTION:Lisbon Kraut 5K Run Age Group Results\n\nLisbon Kraut 5K Run Overall Results\n\nLisbon Kraut 5K Walk Overall Results\n\nLisbon Kraut 5K Run & Walk Combined Overall Results
URL:https://www.racetime.info/event/lisbon-kraut-route-5k-runwalk/
LOCATION:Lisbon City Park\, South Jackson Street\, Lisbon\, IA\, 52253\, United States
CATEGORIES:2015-08 Results (August)
ORGANIZER;CN="Sue Nelson":MAILTO:tanelson@windstream.net
GEO:41.91794;-91.3839519
X-APPLE-STRUCTURED-LOCATION;VALUE=URI;X-ADDRESS=Lisbon City Park South Jackson Street Lisbon IA 52253 United States;X-APPLE-RADIUS=500;X-TITLE=South Jackson Street:geo:-91.3839519,41.91794
END:VEVENT
END:VCALENDAR