BEGIN:VCALENDAR
VERSION:2.0
PRODID:-//Race Time - ECPv6.15.13//NONSGML v1.0//EN
CALSCALE:GREGORIAN
METHOD:PUBLISH
X-WR-CALNAME:Race Time
X-ORIGINAL-URL:https://www.racetime.info
X-WR-CALDESC:Events for Race Time
REFRESH-INTERVAL;VALUE=DURATION:PT1H
X-Robots-Tag:noindex
X-PUBLISHED-TTL:PT1H
BEGIN:VTIMEZONE
TZID:America/Chicago
BEGIN:DAYLIGHT
TZOFFSETFROM:-0600
TZOFFSETTO:-0500
TZNAME:CDT
DTSTART:20140309T080000
END:DAYLIGHT
BEGIN:STANDARD
TZOFFSETFROM:-0500
TZOFFSETTO:-0600
TZNAME:CST
DTSTART:20141102T070000
END:STANDARD
BEGIN:DAYLIGHT
TZOFFSETFROM:-0600
TZOFFSETTO:-0500
TZNAME:CDT
DTSTART:20150308T080000
END:DAYLIGHT
BEGIN:STANDARD
TZOFFSETFROM:-0500
TZOFFSETTO:-0600
TZNAME:CST
DTSTART:20151101T070000
END:STANDARD
BEGIN:DAYLIGHT
TZOFFSETFROM:-0600
TZOFFSETTO:-0500
TZNAME:CDT
DTSTART:20160313T080000
END:DAYLIGHT
BEGIN:STANDARD
TZOFFSETFROM:-0500
TZOFFSETTO:-0600
TZNAME:CST
DTSTART:20161106T070000
END:STANDARD
END:VTIMEZONE
BEGIN:VEVENT
DTSTART;TZID=America/Chicago:20150509T080000
DTEND;TZID=America/Chicago:20150509T110000
DTSTAMP:20260424T035926
CREATED:20150505T040456Z
LAST-MODIFIED:20150829T201248Z
UID:10000206-1431158400-1431169200@www.racetime.info
SUMMARY:Let It Be Us Inaugural 5K Walk/Run
DESCRIPTION:Let It Be Us 5K Overall Results
URL:https://www.racetime.info/event/let-it-be-us-inaugural-5k-walkrun/
LOCATION:Citizens Park\, 511 Lake Zurich Road\, Barrington\, IL\, 60010\, United States
CATEGORIES:2015-05 Results (May)
ATTACH;FMTTYPE=image/png:https://www.racetime.info/wp-content/uploads/2015/05/2015-05-09_LetItBeUs.png
ORGANIZER;CN="Susan McConnell":MAILTO:susan@susanmcconnellphotography.com
GEO:42.1628694;-88.1244873
X-APPLE-STRUCTURED-LOCATION;VALUE=URI;X-ADDRESS=Citizens Park 511 Lake Zurich Road Barrington IL 60010 United States;X-APPLE-RADIUS=500;X-TITLE=511 Lake Zurich Road:geo:-88.1244873,42.1628694
END:VEVENT
END:VCALENDAR