BEGIN:VCALENDAR
VERSION:2.0
PRODID:-//Race Time - ECPv6.15.13//NONSGML v1.0//EN
CALSCALE:GREGORIAN
METHOD:PUBLISH
X-ORIGINAL-URL:https://www.racetime.info
X-WR-CALDESC:Events for Race Time
REFRESH-INTERVAL;VALUE=DURATION:PT1H
X-Robots-Tag:noindex
X-PUBLISHED-TTL:PT1H
BEGIN:VTIMEZONE
TZID:America/Chicago
BEGIN:DAYLIGHT
TZOFFSETFROM:-0600
TZOFFSETTO:-0500
TZNAME:CDT
DTSTART:20230312T080000
END:DAYLIGHT
BEGIN:STANDARD
TZOFFSETFROM:-0500
TZOFFSETTO:-0600
TZNAME:CST
DTSTART:20231105T070000
END:STANDARD
BEGIN:DAYLIGHT
TZOFFSETFROM:-0600
TZOFFSETTO:-0500
TZNAME:CDT
DTSTART:20240310T080000
END:DAYLIGHT
BEGIN:STANDARD
TZOFFSETFROM:-0500
TZOFFSETTO:-0600
TZNAME:CST
DTSTART:20241103T070000
END:STANDARD
BEGIN:DAYLIGHT
TZOFFSETFROM:-0600
TZOFFSETTO:-0500
TZNAME:CDT
DTSTART:20250309T080000
END:DAYLIGHT
BEGIN:STANDARD
TZOFFSETFROM:-0500
TZOFFSETTO:-0600
TZNAME:CST
DTSTART:20251102T070000
END:STANDARD
BEGIN:DAYLIGHT
TZOFFSETFROM:-0600
TZOFFSETTO:-0500
TZNAME:CDT
DTSTART:20260308T080000
END:DAYLIGHT
BEGIN:STANDARD
TZOFFSETFROM:-0500
TZOFFSETTO:-0600
TZNAME:CST
DTSTART:20261101T070000
END:STANDARD
END:VTIMEZONE
BEGIN:VEVENT
DTSTART;TZID=America/Chicago:20250928T090000
DTEND;TZID=America/Chicago:20250928T103000
DTSTAMP:20260424T000539
CREATED:20250529T100422Z
LAST-MODIFIED:20250929T101748Z
UID:10002367-1759050000-1759055400@www.racetime.info
SUMMARY:Brain Aneurysm Foundation 5K Walk/Run
DESCRIPTION:BAF Run For Research
URL:https://www.racetime.info/event/brain-aneurysm-foundation-5k-walk-run-3/
LOCATION:Diversey Harbor\, 2601 N. Cannon Drive\, Chicago\, IL\, 60614\, United States
CATEGORIES:2025-09 Results (September)
ORGANIZER;CN="Susie Frost":MAILTO:susie@bafound.org
END:VEVENT
BEGIN:VEVENT
DTSTART;TZID=America/Chicago:20240929T090000
DTEND;TZID=America/Chicago:20240929T103000
DTSTAMP:20260424T000539
CREATED:20240507T181241Z
LAST-MODIFIED:20240929T192031Z
UID:10001401-1727600400-1727605800@www.racetime.info
SUMMARY:Brain Aneurysm Foundation 5K Walk/Run
DESCRIPTION:Brain Aneurysm 5K Overall Results
URL:https://www.racetime.info/event/brain-aneurysm-foundation-5k-walk-run/
LOCATION:Diversey Harbor\, 2601 N. Cannon Drive\, Chicago\, IL\, 60614\, United States
CATEGORIES:2024-09 Results (September)
ORGANIZER;CN="Susie Frost":MAILTO:susie@bafound.org
END:VEVENT
END:VCALENDAR