BEGIN:VCALENDAR
VERSION:2.0
PRODID:-//Race Time - ECPv6.15.13//NONSGML v1.0//EN
CALSCALE:GREGORIAN
METHOD:PUBLISH
X-WR-CALNAME:Race Time
X-ORIGINAL-URL:https://www.racetime.info
X-WR-CALDESC:Events for Race Time
REFRESH-INTERVAL;VALUE=DURATION:PT1H
X-Robots-Tag:noindex
X-PUBLISHED-TTL:PT1H
BEGIN:VTIMEZONE
TZID:America/Chicago
BEGIN:DAYLIGHT
TZOFFSETFROM:-0600
TZOFFSETTO:-0500
TZNAME:CDT
DTSTART:20150308T080000
END:DAYLIGHT
BEGIN:STANDARD
TZOFFSETFROM:-0500
TZOFFSETTO:-0600
TZNAME:CST
DTSTART:20151101T070000
END:STANDARD
BEGIN:DAYLIGHT
TZOFFSETFROM:-0600
TZOFFSETTO:-0500
TZNAME:CDT
DTSTART:20160313T080000
END:DAYLIGHT
BEGIN:STANDARD
TZOFFSETFROM:-0500
TZOFFSETTO:-0600
TZNAME:CST
DTSTART:20161106T070000
END:STANDARD
BEGIN:DAYLIGHT
TZOFFSETFROM:-0600
TZOFFSETTO:-0500
TZNAME:CDT
DTSTART:20170312T080000
END:DAYLIGHT
BEGIN:STANDARD
TZOFFSETFROM:-0500
TZOFFSETTO:-0600
TZNAME:CST
DTSTART:20171105T070000
END:STANDARD
BEGIN:DAYLIGHT
TZOFFSETFROM:-0600
TZOFFSETTO:-0500
TZNAME:CDT
DTSTART:20180311T080000
END:DAYLIGHT
BEGIN:STANDARD
TZOFFSETFROM:-0500
TZOFFSETTO:-0600
TZNAME:CST
DTSTART:20181104T070000
END:STANDARD
BEGIN:DAYLIGHT
TZOFFSETFROM:-0600
TZOFFSETTO:-0500
TZNAME:CDT
DTSTART:20190310T080000
END:DAYLIGHT
BEGIN:STANDARD
TZOFFSETFROM:-0500
TZOFFSETTO:-0600
TZNAME:CST
DTSTART:20191103T070000
END:STANDARD
BEGIN:DAYLIGHT
TZOFFSETFROM:-0600
TZOFFSETTO:-0500
TZNAME:CDT
DTSTART:20200308T080000
END:DAYLIGHT
BEGIN:STANDARD
TZOFFSETFROM:-0500
TZOFFSETTO:-0600
TZNAME:CST
DTSTART:20201101T070000
END:STANDARD
END:VTIMEZONE
BEGIN:VEVENT
DTSTART;TZID=America/Chicago:20190216T090000
DTEND;TZID=America/Chicago:20190216T120000
DTSTAMP:20260423T224050
CREATED:20180116T003745Z
LAST-MODIFIED:20190216T193449Z
UID:10001710-1550307600-1550318400@www.racetime.info
SUMMARY:Galena Classic Sasquatch Shuffle - Snowshoe 2K & 5K
DESCRIPTION:Sasquatch Shuffle 2K\n\nSasquatch Shuffle 5K
URL:https://www.racetime.info/event/galena-classic-sasquatch-shuffle-snowshoe-2k-5k-2/
LOCATION:Eagle Ridge Resort & Spa\, 444 Eagle Ridge Drive\, Galena\, IL\, 61036\, United States
CATEGORIES:2019-02 Results (February)
ORGANIZER;CN="Kolbe Holdren":MAILTO:kholdren@eagleridge.com
GEO:42.4054927;-90.338314
X-APPLE-STRUCTURED-LOCATION;VALUE=URI;X-ADDRESS=Eagle Ridge Resort & Spa 444 Eagle Ridge Drive Galena IL 61036 United States;X-APPLE-RADIUS=500;X-TITLE=444 Eagle Ridge Drive:geo:-90.338314,42.4054927
END:VEVENT
BEGIN:VEVENT
DTSTART;TZID=America/Chicago:20180707T090000
DTEND;TZID=America/Chicago:20180707T110000
DTSTAMP:20260423T224050
CREATED:20170513T104136Z
LAST-MODIFIED:20180707T185925Z
UID:10001402-1530954000-1530961200@www.racetime.info
SUMMARY:Eagle Ridge Resort's Firecracker 5K & Kids Sprint
DESCRIPTION:Galena’s Firecracker 5K Age Group Results\n\nGalena’s Firecracker 5K Overall Results
URL:https://www.racetime.info/event/eagle-ridge-resorts-firecracker-5k-kids-sprint/
LOCATION:Eagle Ridge Resort & Spa\, 444 Eagle Ridge Drive\, Galena\, IL\, 61036\, United States
CATEGORIES:2018-07 Results (July)
ORGANIZER;CN="Kolbe Holdren":MAILTO:kholdren@eagleridge.com
GEO:42.4054927;-90.338314
X-APPLE-STRUCTURED-LOCATION;VALUE=URI;X-ADDRESS=Eagle Ridge Resort & Spa 444 Eagle Ridge Drive Galena IL 61036 United States;X-APPLE-RADIUS=500;X-TITLE=444 Eagle Ridge Drive:geo:-90.338314,42.4054927
END:VEVENT
BEGIN:VEVENT
DTSTART;TZID=America/Chicago:20180217T090000
DTEND;TZID=America/Chicago:20180217T120000
DTSTAMP:20260423T224050
CREATED:20180116T003745Z
LAST-MODIFIED:20180217T231529Z
UID:10001709-1518858000-1518868800@www.racetime.info
SUMMARY:Galena Classic Sasquatch Shuffle - Snowshoe 2K & 5K
DESCRIPTION:Sasquatch Shuffle 2K Age Group Results\n\nSasquatch Shuffle 2K Overall Results\n\nSasquatch Shuffle 5K Overall Results\n\nSasquatch Shuffle Team Results
URL:https://www.racetime.info/event/galena-classic-sasquatch-shuffle-snowshoe-2k-5k/
LOCATION:Eagle Ridge Resort & Spa\, 444 Eagle Ridge Drive\, Galena\, IL\, 61036\, United States
CATEGORIES:2018-02 Results (February)
ORGANIZER;CN="Kolbe Holdren":MAILTO:kholdren@eagleridge.com
GEO:42.4054927;-90.338314
X-APPLE-STRUCTURED-LOCATION;VALUE=URI;X-ADDRESS=Eagle Ridge Resort & Spa 444 Eagle Ridge Drive Galena IL 61036 United States;X-APPLE-RADIUS=500;X-TITLE=444 Eagle Ridge Drive:geo:-90.338314,42.4054927
END:VEVENT
BEGIN:VEVENT
DTSTART;TZID=America/Chicago:20170701T090000
DTEND;TZID=America/Chicago:20170701T110000
DTSTAMP:20260423T224050
CREATED:20170513T104136Z
LAST-MODIFIED:20170701T193942Z
UID:10001400-1498899600-1498906800@www.racetime.info
SUMMARY:Eagle Ridge Resort's Firecracker 5K & Kids Sprint
DESCRIPTION:Firecracker 5K Age Group Results\n\nFirecracker 5K Overall Results
URL:https://www.racetime.info/event/firecracker-5k-kids-sprinkler-sprint/
LOCATION:Eagle Ridge Resort & Spa\, 444 Eagle Ridge Drive\, Galena\, IL\, 61036\, United States
CATEGORIES:2017-07 Results (July)
ORGANIZER;CN="Kolbe Holdren":MAILTO:kholdren@eagleridge.com
GEO:42.4054927;-90.338314
X-APPLE-STRUCTURED-LOCATION;VALUE=URI;X-ADDRESS=Eagle Ridge Resort & Spa 444 Eagle Ridge Drive Galena IL 61036 United States;X-APPLE-RADIUS=500;X-TITLE=444 Eagle Ridge Drive:geo:-90.338314,42.4054927
END:VEVENT
BEGIN:VEVENT
DTSTART;TZID=America/Chicago:20160702T090000
DTEND;TZID=America/Chicago:20160702T110000
DTSTAMP:20260423T224050
CREATED:20160521T020211Z
LAST-MODIFIED:20160702T205200Z
UID:10000263-1467450000-1467457200@www.racetime.info
SUMMARY:Firecracker 5K Run/Walk
DESCRIPTION:Galena’s Firecracker 5K Age Group Results\n\nGalena’s Firecracker 5K Overall Results
URL:https://www.racetime.info/event/firecracker-5k-runwalk/
LOCATION:Eagle Ridge Resort & Spa\, 444 Eagle Ridge Drive\, Galena\, IL\, 61036\, United States
CATEGORIES:2016-07 Results (July)
ORGANIZER;CN="Kolbe Holdren":MAILTO:kholdren@eagleridge.com
GEO:42.4054927;-90.338314
X-APPLE-STRUCTURED-LOCATION;VALUE=URI;X-ADDRESS=Eagle Ridge Resort & Spa 444 Eagle Ridge Drive Galena IL 61036 United States;X-APPLE-RADIUS=500;X-TITLE=444 Eagle Ridge Drive:geo:-90.338314,42.4054927
END:VEVENT
END:VCALENDAR