BEGIN:VCALENDAR
VERSION:2.0
PRODID:-//Race Time - ECPv6.15.13//NONSGML v1.0//EN
CALSCALE:GREGORIAN
METHOD:PUBLISH
X-ORIGINAL-URL:https://www.racetime.info
X-WR-CALDESC:Events for Race Time
REFRESH-INTERVAL;VALUE=DURATION:PT1H
X-Robots-Tag:noindex
X-PUBLISHED-TTL:PT1H
BEGIN:VTIMEZONE
TZID:America/Chicago
BEGIN:DAYLIGHT
TZOFFSETFROM:-0600
TZOFFSETTO:-0500
TZNAME:CDT
DTSTART:20200308T080000
END:DAYLIGHT
BEGIN:STANDARD
TZOFFSETFROM:-0500
TZOFFSETTO:-0600
TZNAME:CST
DTSTART:20201101T070000
END:STANDARD
BEGIN:DAYLIGHT
TZOFFSETFROM:-0600
TZOFFSETTO:-0500
TZNAME:CDT
DTSTART:20210314T080000
END:DAYLIGHT
BEGIN:STANDARD
TZOFFSETFROM:-0500
TZOFFSETTO:-0600
TZNAME:CST
DTSTART:20211107T070000
END:STANDARD
BEGIN:DAYLIGHT
TZOFFSETFROM:-0600
TZOFFSETTO:-0500
TZNAME:CDT
DTSTART:20220313T080000
END:DAYLIGHT
BEGIN:STANDARD
TZOFFSETFROM:-0500
TZOFFSETTO:-0600
TZNAME:CST
DTSTART:20221106T070000
END:STANDARD
BEGIN:DAYLIGHT
TZOFFSETFROM:-0600
TZOFFSETTO:-0500
TZNAME:CDT
DTSTART:20230312T080000
END:DAYLIGHT
BEGIN:STANDARD
TZOFFSETFROM:-0500
TZOFFSETTO:-0600
TZNAME:CST
DTSTART:20231105T070000
END:STANDARD
BEGIN:DAYLIGHT
TZOFFSETFROM:-0600
TZOFFSETTO:-0500
TZNAME:CDT
DTSTART:20240310T080000
END:DAYLIGHT
BEGIN:STANDARD
TZOFFSETFROM:-0500
TZOFFSETTO:-0600
TZNAME:CST
DTSTART:20241103T070000
END:STANDARD
END:VTIMEZONE
BEGIN:VEVENT
DTSTART;TZID=America/Chicago:20230311T090000
DTEND;TZID=America/Chicago:20230311T110000
DTSTAMP:20260424T001151
CREATED:20221230T132227Z
LAST-MODIFIED:20230311T220741Z
UID:10002147-1678525200-1678532400@www.racetime.info
SUMMARY:Shamrockin' Along The Fox River 8K
DESCRIPTION:Shamrockin Along The Fox 8K Age Group Results\n\nShamrockin Along The Fox 8K Overall Results
URL:https://www.racetime.info/event/shamrockin-along-the-fox-river-8k-2/
LOCATION:Pottawatomi Park\, 8 North Avenue\, St. Charles\, IL\, 60174\, United States
CATEGORIES:2023-03 Results (March)
ORGANIZER;CN="TC Hull":MAILTO:thull@stcparks.org
GEO:41.9210527;-88.3158804
X-APPLE-STRUCTURED-LOCATION;VALUE=URI;X-ADDRESS=Pottawatomi Park 8 North Avenue St. Charles IL 60174 United States;X-APPLE-RADIUS=500;X-TITLE=8 North Avenue:geo:-88.3158804,41.9210527
END:VEVENT
BEGIN:VEVENT
DTSTART;TZID=America/Chicago:20221112T083000
DTEND;TZID=America/Chicago:20221112T100000
DTSTAMP:20260424T001151
CREATED:20210823T114310Z
LAST-MODIFIED:20221112T201728Z
UID:10001182-1668241800-1668247200@www.racetime.info
SUMMARY:Strides for Pies 5K Run/Walk
DESCRIPTION:Strides for Pies 5K Age Group Results\n\nStrides for Pies 5K Overall Results
URL:https://www.racetime.info/event/copy-of-drumstick-dash-5k-run-walk/
LOCATION:Primrose Farm Park\, 5N726 Crane Road\, St. Charles\, IL\, 60174\, United States
CATEGORIES:2022-11 Results (November)
ORGANIZER;CN="TC Hull":MAILTO:thull@stcparks.org
GEO:41.9516747;-88.3490845
X-APPLE-STRUCTURED-LOCATION;VALUE=URI;X-ADDRESS=Primrose Farm Park 5N726 Crane Road St. Charles IL 60174 United States;X-APPLE-RADIUS=500;X-TITLE=5N726 Crane Road:geo:-88.3490845,41.9516747
END:VEVENT
BEGIN:VEVENT
DTSTART;TZID=America/Chicago:20211113T083000
DTEND;TZID=America/Chicago:20211113T100000
DTSTAMP:20260424T001151
CREATED:20210823T114310Z
LAST-MODIFIED:20211113T210332Z
UID:10001181-1636792200-1636797600@www.racetime.info
SUMMARY:Drumstick Dash 5K Run/Walk
DESCRIPTION:Drumstick Dash 5K Age Group Results\n\nDrumstick Dash 5K Overall Results
URL:https://www.racetime.info/event/drumstick-dash-5k-run-walk/
LOCATION:Primrose Farm Park\, 5N726 Crane Road\, St. Charles\, IL\, 60174\, United States
CATEGORIES:2021-11 Results (November)
ORGANIZER;CN="TC Hull":MAILTO:thull@stcparks.org
GEO:41.9516747;-88.3490845
X-APPLE-STRUCTURED-LOCATION;VALUE=URI;X-ADDRESS=Primrose Farm Park 5N726 Crane Road St. Charles IL 60174 United States;X-APPLE-RADIUS=500;X-TITLE=5N726 Crane Road:geo:-88.3490845,41.9516747
END:VEVENT
END:VCALENDAR